BEGIN:VCALENDAR
VERSION:2.0
PRODID:-//Kap2Cap - ECPv6.15.16//NONSGML v1.0//EN
CALSCALE:GREGORIAN
METHOD:PUBLISH
X-ORIGINAL-URL:https://kap2cap.fr
X-WR-CALDESC:Évènements pour Kap2Cap
REFRESH-INTERVAL;VALUE=DURATION:PT1H
X-Robots-Tag:noindex
X-PUBLISHED-TTL:PT1H
BEGIN:VTIMEZONE
TZID:Europe/Paris
BEGIN:DAYLIGHT
TZOFFSETFROM:+0100
TZOFFSETTO:+0200
TZNAME:CEST
DTSTART:20210328T010000
END:DAYLIGHT
BEGIN:STANDARD
TZOFFSETFROM:+0200
TZOFFSETTO:+0100
TZNAME:CET
DTSTART:20211031T010000
END:STANDARD
BEGIN:DAYLIGHT
TZOFFSETFROM:+0100
TZOFFSETTO:+0200
TZNAME:CEST
DTSTART:20220327T010000
END:DAYLIGHT
BEGIN:STANDARD
TZOFFSETFROM:+0200
TZOFFSETTO:+0100
TZNAME:CET
DTSTART:20221030T010000
END:STANDARD
BEGIN:DAYLIGHT
TZOFFSETFROM:+0100
TZOFFSETTO:+0200
TZNAME:CEST
DTSTART:20230326T010000
END:DAYLIGHT
BEGIN:STANDARD
TZOFFSETFROM:+0200
TZOFFSETTO:+0100
TZNAME:CET
DTSTART:20231029T010000
END:STANDARD
END:VTIMEZONE
BEGIN:VEVENT
DTSTART;VALUE=DATE:20220707
DTEND;VALUE=DATE:20220711
DTSTAMP:20260420T025833
CREATED:20211012T153213Z
LAST-MODIFIED:20211012T153213Z
UID:12420-1657152000-1657497599@kap2cap.fr
SUMMARY:Espagne - le Trèfle à 4 feuilles
DESCRIPTION:Profitez\, lors de cette somptueuse randonnée off-road\, des magnifiques paysages pré-pyrénéens\, des superbes pistes\, des lacs\, des gorges\, des points de vue aériens. Un terrain de jeux à couper le souffle ! En point d’orgue l’ascension par les pistes d’un col à près de 2500 mètres ! \n  \nTarifs :\n– Formule free : 520€ avec moto perso\n– Formule guidée : 585€ avec moto perso\n– Formule location : 895€
URL:https://kap2cap.fr/evenement/espagne-le-trefle-a-4-feuilles/2022-07-07/
CATEGORIES:Randonnées
ATTACH;FMTTYPE=image/jpeg:https://kap2cap.fr/assets/truploads/2021/10/Trefle-a-4-feuilles-lolo-kap2cap.jpg
ORGANIZER;CN="Trail D%C3%A9couverte":MAILTO:traildecouverte@yahoo.fr
END:VEVENT
END:VCALENDAR