BEGIN:VCALENDAR
VERSION:2.0
PRODID:-//Kap2Cap - ECPv6.15.16//NONSGML v1.0//EN
CALSCALE:GREGORIAN
METHOD:PUBLISH
X-WR-CALNAME:Kap2Cap
X-ORIGINAL-URL:https://kap2cap.fr
X-WR-CALDESC:Évènements pour Kap2Cap
REFRESH-INTERVAL;VALUE=DURATION:PT1H
X-Robots-Tag:noindex
X-PUBLISHED-TTL:PT1H
BEGIN:VTIMEZONE
TZID:Europe/Paris
BEGIN:DAYLIGHT
TZOFFSETFROM:+0100
TZOFFSETTO:+0200
TZNAME:CEST
DTSTART:20220327T010000
END:DAYLIGHT
BEGIN:STANDARD
TZOFFSETFROM:+0200
TZOFFSETTO:+0100
TZNAME:CET
DTSTART:20221030T010000
END:STANDARD
BEGIN:DAYLIGHT
TZOFFSETFROM:+0100
TZOFFSETTO:+0200
TZNAME:CEST
DTSTART:20230326T010000
END:DAYLIGHT
BEGIN:STANDARD
TZOFFSETFROM:+0200
TZOFFSETTO:+0100
TZNAME:CET
DTSTART:20231029T010000
END:STANDARD
BEGIN:DAYLIGHT
TZOFFSETFROM:+0100
TZOFFSETTO:+0200
TZNAME:CEST
DTSTART:20240331T010000
END:DAYLIGHT
BEGIN:STANDARD
TZOFFSETFROM:+0200
TZOFFSETTO:+0100
TZNAME:CET
DTSTART:20241027T010000
END:STANDARD
END:VTIMEZONE
BEGIN:VEVENT
DTSTART;TZID=Europe/Paris:20231022T080000
DTEND;TZID=Europe/Paris:20231104T170000
DTSTAMP:20260420T045222
CREATED:20230728T081143Z
LAST-MODIFIED:20240115T091438Z
UID:28600-1697961600-1699117200@kap2cap.fr
SUMMARY:La Grande Traversée du Rajasthan (Europe Active)
DESCRIPTION:Cette grande Aventure vous conduira aux confins du Rajasthan. Forêt\, montagne\, désert\, au milieu des palaces de Maharajahs d’un autre âge\, vous apprécierez cette immersion aux pays des contrastes et des couleurs !\nPour ce séjour en pension complète\, nous vous avons réservé quelques visites étonnantes et le tout sur de superbes Royal Enfields 500cc. Avec en bouquet final l’une des plus belles merveilles du monde\, le Taj Mahal.
URL:https://kap2cap.fr/evenement/la-grande-traversee-du-rajasthan-europe-active/2023-10-22/
LOCATION:Inde\, Inde
CATEGORIES:Grands voyages
ATTACH;FMTTYPE=image/jpeg:https://kap2cap.fr/assets/truploads/2023/07/2023_Grande_Traversee_Rajasthan.jpg
END:VEVENT
END:VCALENDAR