BEGIN:VCALENDAR
VERSION:2.0
PRODID:-//Kap2Cap - ECPv6.15.16//NONSGML v1.0//EN
CALSCALE:GREGORIAN
METHOD:PUBLISH
X-ORIGINAL-URL:https://kap2cap.fr
X-WR-CALDESC:Évènements pour Kap2Cap
REFRESH-INTERVAL;VALUE=DURATION:PT1H
X-Robots-Tag:noindex
X-PUBLISHED-TTL:PT1H
BEGIN:VTIMEZONE
TZID:Europe/Paris
BEGIN:DAYLIGHT
TZOFFSETFROM:+0100
TZOFFSETTO:+0200
TZNAME:CEST
DTSTART:20210328T010000
END:DAYLIGHT
BEGIN:STANDARD
TZOFFSETFROM:+0200
TZOFFSETTO:+0100
TZNAME:CET
DTSTART:20211031T010000
END:STANDARD
BEGIN:DAYLIGHT
TZOFFSETFROM:+0100
TZOFFSETTO:+0200
TZNAME:CEST
DTSTART:20220327T010000
END:DAYLIGHT
BEGIN:STANDARD
TZOFFSETFROM:+0200
TZOFFSETTO:+0100
TZNAME:CET
DTSTART:20221030T010000
END:STANDARD
BEGIN:DAYLIGHT
TZOFFSETFROM:+0100
TZOFFSETTO:+0200
TZNAME:CEST
DTSTART:20230326T010000
END:DAYLIGHT
BEGIN:STANDARD
TZOFFSETFROM:+0200
TZOFFSETTO:+0100
TZNAME:CET
DTSTART:20231029T010000
END:STANDARD
END:VTIMEZONE
BEGIN:VEVENT
DTSTART;VALUE=DATE:20220610
DTEND;VALUE=DATE:20220613
DTSTAMP:20260420T060936
CREATED:20211012T152303Z
LAST-MODIFIED:20211012T152414Z
UID:12414-1654819200-1655078399@kap2cap.fr
SUMMARY:Pyrénées - La Transpy
DESCRIPTION:Partez pour 3 jours au cœur des Pyrénées. Des paysages fantastiques et des points de vue exceptionnels vous attendent sur les 585 kilomètres de cette aventure. De difficulté moyenne\, cette randonnée moto trail est accessible à tous niveaux ! \n  \nTarifs :\n– Formule free : 395€ avec moto perso\n– Formule guidée : 445€ avec moto perso\n– Formule location : 695€
URL:https://kap2cap.fr/evenement/pyrenees-la-transpy/2022-06-10/
CATEGORIES:Randonnées
ATTACH;FMTTYPE=image/jpeg:https://kap2cap.fr/assets/truploads/2021/10/LaTranspy-lolo-kap2cap.jpg
ORGANIZER;CN="Trail Rando":MAILTO:info@trail-rando.com
END:VEVENT
END:VCALENDAR