BEGIN:VCALENDAR
VERSION:2.0
PRODID:-//Kap2Cap - ECPv6.15.16//NONSGML v1.0//EN
CALSCALE:GREGORIAN
METHOD:PUBLISH
X-WR-CALNAME:Kap2Cap
X-ORIGINAL-URL:https://kap2cap.fr
X-WR-CALDESC:Évènements pour Kap2Cap
REFRESH-INTERVAL;VALUE=DURATION:PT1H
X-Robots-Tag:noindex
X-PUBLISHED-TTL:PT1H
BEGIN:VTIMEZONE
TZID:Europe/Paris
BEGIN:DAYLIGHT
TZOFFSETFROM:+0100
TZOFFSETTO:+0200
TZNAME:CEST
DTSTART:20200329T010000
END:DAYLIGHT
BEGIN:STANDARD
TZOFFSETFROM:+0200
TZOFFSETTO:+0100
TZNAME:CET
DTSTART:20201025T010000
END:STANDARD
BEGIN:DAYLIGHT
TZOFFSETFROM:+0100
TZOFFSETTO:+0200
TZNAME:CEST
DTSTART:20210328T010000
END:DAYLIGHT
BEGIN:STANDARD
TZOFFSETFROM:+0200
TZOFFSETTO:+0100
TZNAME:CET
DTSTART:20211031T010000
END:STANDARD
BEGIN:DAYLIGHT
TZOFFSETFROM:+0100
TZOFFSETTO:+0200
TZNAME:CEST
DTSTART:20220327T010000
END:DAYLIGHT
BEGIN:STANDARD
TZOFFSETFROM:+0200
TZOFFSETTO:+0100
TZNAME:CET
DTSTART:20221030T010000
END:STANDARD
END:VTIMEZONE
BEGIN:VEVENT
DTSTART;VALUE=DATE:20211022
DTEND;VALUE=DATE:20211031
DTSTAMP:20260420T091943
CREATED:20210806T061644Z
LAST-MODIFIED:20210806T061644Z
UID:7544-1634860800-1635638399@kap2cap.fr
SUMMARY:Maroc - Vallée des Cobras
DESCRIPTION:Pistes aériennes et dunes orangées sont à vous ! Ce circuit étonnamment varié enjambe Haut\, Moyen et Anti-Atlas sur des pistes tantôt sous les cimes enneigées\, tantôt empêtrées entre mer de sable et basalte. À l’écart des pistes fréquentées\, baigné par une lumière limpide et chatoyante\, voici le Maroc dans toute sa splendeur. Ici\, la topographie est beaucoup plus tourmentée qu’on puisse l’imaginer. Sur certaines étapes\, des territoires sillonnés par des pistes étroites et vertigineuses s’accrochent à des parois abruptes. Démarrant en zigzagant sous les oliviers dès la sortie de Fès\, il prend rapidement de l’altitude en s’enfonçant sous les cèdres. De petites pistes en terre rouge arpentent les plateaux volcaniques du Moyen-Atlas. Les coquelicots tapissent les talus. Les cerisiers ploient sous les fruits mûrs et juteux. Plus loin\, l’itinéraire enjambe le cordon du Haut-Atlas. Au seuil de la troisième étape\, le désert s’étale au sud à perte de vue…\nL’explorateur motorisé s’enfonce sous les cèdres millénaires du Moyen-Atlas\, sillonne des plateaux d’altitude truffés de lacs volcaniques\, tutoie\, sur des pistes vertigineuses et aériennes\, les cimes enneigées du Haut-Atlas\, navigue au cœur des étendues désertiques et ensablées du Sud\, s’offre une pose sur les lèvres du vieux cratère… Entre des coulées de lave pétrifiées et autres colonnes volcaniques\, il franchit l’Anti-Atlas. Il arpente bientôt des plaines de steppes\, s’engouffre dans des gorges profondes\, se glisse dans la fraîcheur de palmeraies inattendues…\nOff Road – Encadrée (Ass. + Accomp. moto + Hôtels + Repas)\nPrix: 1.595 euros
URL:https://kap2cap.fr/evenement/rando-moto-marox/2021-10-22/
CATEGORIES:Grands voyages
ATTACH;FMTTYPE=image/jpeg:https://kap2cap.fr/assets/truploads/2021/08/rando-moto-maroc-valle-cobras.jpg
ORGANIZER;CN="Trail Rando":MAILTO:info@trail-rando.com
END:VEVENT
END:VCALENDAR