BEGIN:VCALENDAR
VERSION:2.0
PRODID:-//Kap2Cap - ECPv6.15.16//NONSGML v1.0//EN
CALSCALE:GREGORIAN
METHOD:PUBLISH
X-ORIGINAL-URL:https://kap2cap.fr
X-WR-CALDESC:Évènements pour Kap2Cap
REFRESH-INTERVAL;VALUE=DURATION:PT1H
X-Robots-Tag:noindex
X-PUBLISHED-TTL:PT1H
BEGIN:VTIMEZONE
TZID:Europe/Paris
BEGIN:DAYLIGHT
TZOFFSETFROM:+0100
TZOFFSETTO:+0200
TZNAME:CEST
DTSTART:20200329T010000
END:DAYLIGHT
BEGIN:STANDARD
TZOFFSETFROM:+0200
TZOFFSETTO:+0100
TZNAME:CET
DTSTART:20201025T010000
END:STANDARD
BEGIN:DAYLIGHT
TZOFFSETFROM:+0100
TZOFFSETTO:+0200
TZNAME:CEST
DTSTART:20210328T010000
END:DAYLIGHT
BEGIN:STANDARD
TZOFFSETFROM:+0200
TZOFFSETTO:+0100
TZNAME:CET
DTSTART:20211031T010000
END:STANDARD
BEGIN:DAYLIGHT
TZOFFSETFROM:+0100
TZOFFSETTO:+0200
TZNAME:CEST
DTSTART:20220327T010000
END:DAYLIGHT
BEGIN:STANDARD
TZOFFSETFROM:+0200
TZOFFSETTO:+0100
TZNAME:CET
DTSTART:20221030T010000
END:STANDARD
END:VTIMEZONE
BEGIN:VEVENT
DTSTART;VALUE=DATE:20210924
DTEND;VALUE=DATE:20210927
DTSTAMP:20260420T092322
CREATED:20210806T054101Z
LAST-MODIFIED:20210806T064112Z
UID:7511-1632441600-1632700799@kap2cap.fr
SUMMARY:France - Trèfle Bourguignon
DESCRIPTION:En Bourgogne\, le chemin rebondit d’une seigneurie à l’autre. Flirtant joliment avec la région\, il donne au voyageur l’impression de se réfugier dans l’histoire. Il gravite à proximité des meilleures caves\, enjambe des ruisseaux aux écrevisses\, tritons\, goujons et diverses espèces aquatiques\, flâne d’une digue à l’autre au gré des étangs et des croassements. Dans cet environnement idyllique\, que diriez-vous d’une pause café au bistrot du bord de l’eau ? Nos déambulations sinuent en toute décontraction dans une campagne paisible et bigrement verdoyante\, s’agitent avec noblesse sur les coteaux du vignoble chalonnais\, beaujolais et mâconnais. Accrochée au versant d’un Grand Cru\, une gentilhommière du XIIIe siècle s’affiche fièrement…Le parcours forme un trèfle carrément magique qui gravite entre châteaux et autres vieilles pierres. Au cœur de l’Europe la Bourgogne est incontestablement une terre privilégiée. Goûtez-y !\nTout Chemin – Encadrée (Accomp. moto + Hôtels + Repas + GPS)\nPrix pilote: 990 euros / Prix passager: 680 euros
URL:https://kap2cap.fr/evenement/randonnee-moto-bourgogne/2021-09-24/
CATEGORIES:Randonnées
ATTACH;FMTTYPE=image/jpeg:https://kap2cap.fr/assets/truploads/2021/08/rando-moto-bourgogne.jpg
ORGANIZER;CN="Trail Rando":MAILTO:info@trail-rando.com
END:VEVENT
END:VCALENDAR