BEGIN:VCALENDAR
VERSION:2.0
PRODID:-//Kap2Cap - ECPv6.15.16//NONSGML v1.0//EN
CALSCALE:GREGORIAN
METHOD:PUBLISH
X-ORIGINAL-URL:https://kap2cap.fr
X-WR-CALDESC:Évènements pour Kap2Cap
REFRESH-INTERVAL;VALUE=DURATION:PT1H
X-Robots-Tag:noindex
X-PUBLISHED-TTL:PT1H
BEGIN:VTIMEZONE
TZID:Europe/Paris
BEGIN:DAYLIGHT
TZOFFSETFROM:+0100
TZOFFSETTO:+0200
TZNAME:CEST
DTSTART:20200329T010000
END:DAYLIGHT
BEGIN:STANDARD
TZOFFSETFROM:+0200
TZOFFSETTO:+0100
TZNAME:CET
DTSTART:20201025T010000
END:STANDARD
BEGIN:DAYLIGHT
TZOFFSETFROM:+0100
TZOFFSETTO:+0200
TZNAME:CEST
DTSTART:20210328T010000
END:DAYLIGHT
BEGIN:STANDARD
TZOFFSETFROM:+0200
TZOFFSETTO:+0100
TZNAME:CET
DTSTART:20211031T010000
END:STANDARD
BEGIN:DAYLIGHT
TZOFFSETFROM:+0100
TZOFFSETTO:+0200
TZNAME:CEST
DTSTART:20220327T010000
END:DAYLIGHT
BEGIN:STANDARD
TZOFFSETFROM:+0200
TZOFFSETTO:+0100
TZNAME:CET
DTSTART:20221030T010000
END:STANDARD
END:VTIMEZONE
BEGIN:VEVENT
DTSTART;VALUE=DATE:20210918
DTEND;VALUE=DATE:20210926
DTSTAMP:20260420T092634
CREATED:20210806T053538Z
LAST-MODIFIED:20210806T053538Z
UID:7508-1631923200-1632614399@kap2cap.fr
SUMMARY:France - Diagonale Atlantique
DESCRIPTION:Du vignoble alsacien au pays basque\, la Diagonale Atlantique sillonne pas moins de neuf massifs montagneux (Vosges\, Jura\, Monts du Mâconnais\, Bois Noirs\, Forez\, Monts de la Madeleine\, Monts de la Margeride\, Aubrac\, Pyrénées) et des paysages d’une variété insoupçonnée\, qui feront le bonheur des voyageurs à moto. Ce bain en France profonde promet autant de rencontres que de belles découvertes…\nC’est une immersion totale dans les terres reculées de l’hexagone qui vous est proposée. L’itinéraire gesticule sur le plateau des 1 000 Etangs\, se hisse sur l’Aubrac\, se dérobe sous les cerisiers\, crapahute gaillardement dans le paysage sans cesse renouvelé de contrées perdues\, ricoche sur les Pyrénées\, et termine sa course à deux pas des plages de l’Atlantique.\nA la découverte de la France et de ses richesses cachées\, sous les vents et au gré des kilomètres les belles images défilent…\n8 jours / 7 nuits / 8 étapes / 1 950 km\nPrix pilote: 1.935 euros/prix passager: 1.830 euros \n 
URL:https://kap2cap.fr/evenement/voyage-moto-france-diagonale/2021-09-18/
CATEGORIES:Voyages
ATTACH;FMTTYPE=image/jpeg:https://kap2cap.fr/assets/truploads/2021/08/voyage-moto-diagoinale-france.jpg
ORGANIZER;CN="Trail Rando":MAILTO:info@trail-rando.com
END:VEVENT
END:VCALENDAR