BEGIN:VCALENDAR
VERSION:2.0
PRODID:-//Kap2Cap - ECPv6.15.16//NONSGML v1.0//EN
CALSCALE:GREGORIAN
METHOD:PUBLISH
X-ORIGINAL-URL:https://kap2cap.fr
X-WR-CALDESC:Évènements pour Kap2Cap
REFRESH-INTERVAL;VALUE=DURATION:PT1H
X-Robots-Tag:noindex
X-PUBLISHED-TTL:PT1H
BEGIN:VTIMEZONE
TZID:Europe/Paris
BEGIN:DAYLIGHT
TZOFFSETFROM:+0100
TZOFFSETTO:+0200
TZNAME:CEST
DTSTART:20230326T010000
END:DAYLIGHT
BEGIN:STANDARD
TZOFFSETFROM:+0200
TZOFFSETTO:+0100
TZNAME:CET
DTSTART:20231029T010000
END:STANDARD
BEGIN:DAYLIGHT
TZOFFSETFROM:+0100
TZOFFSETTO:+0200
TZNAME:CEST
DTSTART:20240331T010000
END:DAYLIGHT
BEGIN:STANDARD
TZOFFSETFROM:+0200
TZOFFSETTO:+0100
TZNAME:CET
DTSTART:20241027T010000
END:STANDARD
BEGIN:DAYLIGHT
TZOFFSETFROM:+0100
TZOFFSETTO:+0200
TZNAME:CEST
DTSTART:20250330T010000
END:DAYLIGHT
BEGIN:STANDARD
TZOFFSETFROM:+0200
TZOFFSETTO:+0100
TZNAME:CET
DTSTART:20251026T010000
END:STANDARD
END:VTIMEZONE
BEGIN:VEVENT
DTSTART;TZID=Europe/Paris:20240830T080000
DTEND;TZID=Europe/Paris:20240901T170000
DTSTAMP:20260420T042733
CREATED:20240412T062541Z
LAST-MODIFIED:20240412T063055Z
UID:32317-1725004800-1725210000@kap2cap.fr
SUMMARY:La Jur'Alpes (Trail Attitude)
DESCRIPTION:Rando de 3 Jours à travers le Jura\nRelier Besançon à Annecy par les chemins et routes bucoliques. \n600 km en 3 jours dans ces montagnes du Jura pour rejoindre le Lac d’Annecy. \nPaysages\, montagnes\, Lacs\, Forêts…Bref\, tous les ingrédients du plaisir en Trail. \nLa fin de cette rando est le départ de la Caravan’Alpes qui commencera le lundi suivant. \nLes nuits se feront soit en Bivouac soit en Gîte de groupe. \nCette randonnée nécessite de maitriser sa moto en tout-terrain et d être autonome.\nAinsi qu’une bonne condition physique.\nTrail Attitude vous propose des stages pour vous initier et vous préparer à cette rando. \nLocation de Motos\nEn partenariat avec Yamaha Motor France vous avez la possibilité de louer une Ténéré 700 Standard ou une Ténéré 700 World Raid. \nVous avez aussi la possibilité de louer des motos du passé. Une Super Ténéré 750 ainsi qu’une 660 XTZ sont à votre disposition. \nTarif Location Ténéré 700 Standard ou World Raid \n1 jour : 150€ \n2 jours : 260€ \n3 jours : 340€ \n4 jours : 410€
URL:https://kap2cap.fr/evenement/juralpes-trail-attitude/
LOCATION:Besançon\, Besançon\, 25000\, France
CATEGORIES:Randonnées
ORGANIZER;CN="Trail Attitude":MAILTO:yanntrailattitude@gmail.com
END:VEVENT
END:VCALENDAR