BEGIN:VCALENDAR
VERSION:2.0
PRODID:-//Kap2Cap - ECPv6.15.16//NONSGML v1.0//EN
CALSCALE:GREGORIAN
METHOD:PUBLISH
X-WR-CALNAME:Kap2Cap
X-ORIGINAL-URL:https://kap2cap.fr
X-WR-CALDESC:Évènements pour Kap2Cap
REFRESH-INTERVAL;VALUE=DURATION:PT1H
X-Robots-Tag:noindex
X-PUBLISHED-TTL:PT1H
BEGIN:VTIMEZONE
TZID:Europe/Paris
BEGIN:DAYLIGHT
TZOFFSETFROM:+0100
TZOFFSETTO:+0200
TZNAME:CEST
DTSTART:20250330T010000
END:DAYLIGHT
BEGIN:STANDARD
TZOFFSETFROM:+0200
TZOFFSETTO:+0100
TZNAME:CET
DTSTART:20251026T010000
END:STANDARD
BEGIN:DAYLIGHT
TZOFFSETFROM:+0100
TZOFFSETTO:+0200
TZNAME:CEST
DTSTART:20260329T010000
END:DAYLIGHT
BEGIN:STANDARD
TZOFFSETFROM:+0200
TZOFFSETTO:+0100
TZNAME:CET
DTSTART:20261025T010000
END:STANDARD
BEGIN:DAYLIGHT
TZOFFSETFROM:+0100
TZOFFSETTO:+0200
TZNAME:CEST
DTSTART:20270328T010000
END:DAYLIGHT
BEGIN:STANDARD
TZOFFSETFROM:+0200
TZOFFSETTO:+0100
TZNAME:CET
DTSTART:20271031T010000
END:STANDARD
END:VTIMEZONE
BEGIN:VEVENT
DTSTART;TZID=Europe/Paris:20260520T080000
DTEND;TZID=Europe/Paris:20260520T170000
DTSTAMP:20260420T025329
CREATED:20260323T093058Z
LAST-MODIFIED:20260323T093058Z
UID:38432-1779264000-1779296400@kap2cap.fr
SUMMARY:Stage Offroad Besançon Level 2 (Petokask)
DESCRIPTION:Vous vous sentez déjà en confiance au guidon de votre moto\, vous roulez régulièrement en tout-terrain\, vous souhaitez développer vos compétences et être capable de conduire votre moto à un niveau supérieur\, ce stage est fait pour vous. Apprenez à rouler dans des scénarios plus techniques\, mais de manière sûre et contrôlée avec les conseils de nos instructeurs pour tirer le maximum de votre moto en tout-terrain. \n– Savoir régler sa position de conduite \n– Exercices maniabilité lents \n– Exercices monté avec virage \n– Exercices descente avec virages \n– Exercices descente avec stop \n– Freinage d’urgence en tout-terrain \n– Ornières \n– Randonnée Pratique
URL:https://kap2cap.fr/evenement/stage-offroad-besancon-level-2-petokask/
LOCATION:Besançon\, Besançon\, 25000\, France
CATEGORIES:Stages et Formations
ATTACH;FMTTYPE=image/jpeg:https://kap2cap.fr/assets/truploads/2026/03/2026_Stage_Offroad_Petokask.jpg
ORGANIZER;CN="Petokask":MAILTO:team.petokask@gmail.com
END:VEVENT
END:VCALENDAR