BEGIN:VCALENDAR
VERSION:2.0
PRODID:-//Kap2Cap - ECPv6.15.16//NONSGML v1.0//EN
CALSCALE:GREGORIAN
METHOD:PUBLISH
X-WR-CALNAME:Kap2Cap
X-ORIGINAL-URL:https://kap2cap.fr
X-WR-CALDESC:Évènements pour Kap2Cap
REFRESH-INTERVAL;VALUE=DURATION:PT1H
X-Robots-Tag:noindex
X-PUBLISHED-TTL:PT1H
BEGIN:VTIMEZONE
TZID:Europe/Paris
BEGIN:DAYLIGHT
TZOFFSETFROM:+0100
TZOFFSETTO:+0200
TZNAME:CEST
DTSTART:20230326T010000
END:DAYLIGHT
BEGIN:STANDARD
TZOFFSETFROM:+0200
TZOFFSETTO:+0100
TZNAME:CET
DTSTART:20231029T010000
END:STANDARD
BEGIN:DAYLIGHT
TZOFFSETFROM:+0100
TZOFFSETTO:+0200
TZNAME:CEST
DTSTART:20240331T010000
END:DAYLIGHT
BEGIN:STANDARD
TZOFFSETFROM:+0200
TZOFFSETTO:+0100
TZNAME:CET
DTSTART:20241027T010000
END:STANDARD
BEGIN:DAYLIGHT
TZOFFSETFROM:+0100
TZOFFSETTO:+0200
TZNAME:CEST
DTSTART:20250330T010000
END:DAYLIGHT
BEGIN:STANDARD
TZOFFSETFROM:+0200
TZOFFSETTO:+0100
TZNAME:CET
DTSTART:20251026T010000
END:STANDARD
END:VTIMEZONE
BEGIN:VEVENT
DTSTART;TZID=Europe/Paris:20240810T080000
DTEND;TZID=Europe/Paris:20240817T170000
DTSTAMP:20260420T042349
CREATED:20240429T080735Z
LAST-MODIFIED:20241215T190949Z
UID:32417-1723276800-1723914000@kap2cap.fr
SUMMARY:Chilcotin (Amaruq)
DESCRIPTION:Admirez les vues époustouflantes de la Colombie-Britannique au cours de cette aventure de huit jours d’une vie. \nNotre randonnée la plus longue et la plus aventureuse\, la région de Chilcotin/Tsilhqot’n\, offre une variété de terrains\, d’histoire et d’animaux sauvages à explorer et à rechercher. C’est le pays de l’or\, et les veines montagneuses de la Colombie-Britannique en sont riches. Suivez le sentier tracé il y a plus de cent cinquante ans\, à travers des vues sensationnelles\, des vallées luxuriantes et certains des meilleurs sentiers de moto que le Canada a à offrir. De beaux lodges le long du chemin assurent une bonne nourriture et que vous êtes bien reposé pour le lendemain. \n​Au cours de notre voyage\, nous avons l’occasion de visiter la vallée de Nemiah\, célèbre pour ses chevaux sauvages\, ainsi que les parcs provinciaux Ts’yl-os\, Edgehills\, Big Creek et Bull Canyon\, parmi les plus éloignés de la Colombie-Britannique. Après avoir passé quelques jours à rouler sur des routes non goudronnées\, les participants ont la chance de profiter du territoire de la Première Nation Xeni Gwet’in au lac Chilco\, où un lodge au bord du lac nous accueillera pour trois jours/nuits. Pour la durée des trois prochains jours\, c’est vous qui décidez de l’action. Vous pouvez choisir de prendre une journée de congé et de profiter de la vue magnifique autour du lac\, de rejoindre nos guides sur l’une de nos randonnées exploratoires ou même de vous inscrire à une expérience facultative d’équitation offerte par notre hôte local du ranch. \nDébutants bienvenus\nNous avons passé beaucoup de temps à sélectionner des itinéraires permettant aux novices de s’adapter lentement à la conduite sur des surfaces non pavées. Cela permet aux participants de gagner en confiance au fil du temps et d’améliorer progressivement leurs compétences au quotidien.
URL:https://kap2cap.fr/evenement/chilcotin-amaruq/
LOCATION:Canada\, Canada
CATEGORIES:Randonnées
ATTACH;FMTTYPE=image/jpeg:https://kap2cap.fr/assets/truploads/2024/04/2024_Chilcotin.jpg
ORGANIZER;CN="Amaruq":MAILTO:info@amaruqmotorcycleadventures.com
GEO:56.130366;-106.346771
END:VEVENT
END:VCALENDAR