BEGIN:VCALENDAR
VERSION:2.0
PRODID:-//Kap2Cap - ECPv6.15.16//NONSGML v1.0//EN
CALSCALE:GREGORIAN
METHOD:PUBLISH
X-ORIGINAL-URL:https://kap2cap.fr
X-WR-CALDESC:Évènements pour Kap2Cap
REFRESH-INTERVAL;VALUE=DURATION:PT1H
X-Robots-Tag:noindex
X-PUBLISHED-TTL:PT1H
BEGIN:VTIMEZONE
TZID:Europe/Paris
BEGIN:DAYLIGHT
TZOFFSETFROM:+0100
TZOFFSETTO:+0200
TZNAME:CEST
DTSTART:20230326T010000
END:DAYLIGHT
BEGIN:STANDARD
TZOFFSETFROM:+0200
TZOFFSETTO:+0100
TZNAME:CET
DTSTART:20231029T010000
END:STANDARD
BEGIN:DAYLIGHT
TZOFFSETFROM:+0100
TZOFFSETTO:+0200
TZNAME:CEST
DTSTART:20240331T010000
END:DAYLIGHT
BEGIN:STANDARD
TZOFFSETFROM:+0200
TZOFFSETTO:+0100
TZNAME:CET
DTSTART:20241027T010000
END:STANDARD
BEGIN:DAYLIGHT
TZOFFSETFROM:+0100
TZOFFSETTO:+0200
TZNAME:CEST
DTSTART:20250330T010000
END:DAYLIGHT
BEGIN:STANDARD
TZOFFSETFROM:+0200
TZOFFSETTO:+0100
TZNAME:CET
DTSTART:20251026T010000
END:STANDARD
END:VTIMEZONE
BEGIN:VEVENT
DTSTART;TZID=Europe/Paris:20240322T080000
DTEND;TZID=Europe/Paris:20240324T170000
DTSTAMP:20260420T042705
CREATED:20230306T153658Z
LAST-MODIFIED:20231027T140909Z
UID:26997-1711094400-1711299600@kap2cap.fr
SUMMARY:March Moto Madness (Cocoricorando)
DESCRIPTION:L’édition 2024 \nElle se déroulera à Dreux\, à une heure de Paris\, dans l’ambiance conviviale et parfois déjantée que certains connaissent déjà\, et sera agrémentée de quelques surprises.\nLes 17 hectares de manèges conçus pour l’occasion vous proposerons quasiment tous les types de sols que vous pourriez trouver en balade : herbe\, caillasse\, boue\, sable… \nLe Programme \nL’accueil des participants commencera le vendredi dès 17h00 (ou 8h00 pour celles et ceux qui se seront inscrits au stage du vendredi).\nS’en suivra la soirée d’ouverture avec le désormais traditionnel roulage nocturne sur le « Train Fantôme »…\nSamedi et dimanche de 9h à 17h : accès illimité aux manèges: parcours divers et pour tous les goûts\, challenges animés\, randonnées mixtes (petites routes et chemins) au GPS dans les alentours. \nSur place \nSi le concept délibérément « roots » incite à amener et dormir sous la tente\, vous aurez à votre disposition des sanitaires\, des douches chaudes et de quoi recharger vos appareils (smartphone\, GPS).\nVous trouverez également de quoi réparer ou faire réparer les petites casses mécaniques ou crevaisons (interventions non comprises dans l’inscription)\, et notre Cocoric’ostéo pourra vous soulager de quelques éventuelles douleurs musculaires !\nLe MMM n’est pas ouvert au public extérieur. \nL’histoire \nA l’origine\, le « MMM » est né au USA\, une bande de potes a décidé de se retrouver dans les montagnes du Tennessee autour d’un feu de bois avec leurs gros trails à la sortie de l’hiver.\nEn 2006\, le MMM devient un événement mondial simultané\, au Japon\, en Espagne\, au Royaume-Uni et à Taïwan. \nEn 2016\, le MMM est créé et organisé en France par Cocoricorando ! Et c’est la même semaine partout dans le monde !
URL:https://kap2cap.fr/evenement/march-moto-madness-cocoricorando/
LOCATION:Dreux\, Dreux\, 28100\, France
CATEGORIES:Rassemblements
ATTACH;FMTTYPE=image/jpeg:https://kap2cap.fr/assets/truploads/2023/03/2023_March_Moto_Madness.jpg
ORGANIZER;CN="Cocoricorando":MAILTO:contact@cocoricorando.fr
GEO:48.736134;1.370889
END:VEVENT
END:VCALENDAR