BEGIN:VCALENDAR
VERSION:2.0
PRODID:-//Kap2Cap - ECPv6.15.16//NONSGML v1.0//EN
CALSCALE:GREGORIAN
METHOD:PUBLISH
X-ORIGINAL-URL:https://kap2cap.fr
X-WR-CALDESC:Évènements pour Kap2Cap
REFRESH-INTERVAL;VALUE=DURATION:PT1H
X-Robots-Tag:noindex
X-PUBLISHED-TTL:PT1H
BEGIN:VTIMEZONE
TZID:Europe/Paris
BEGIN:DAYLIGHT
TZOFFSETFROM:+0100
TZOFFSETTO:+0200
TZNAME:CEST
DTSTART:20230326T010000
END:DAYLIGHT
BEGIN:STANDARD
TZOFFSETFROM:+0200
TZOFFSETTO:+0100
TZNAME:CET
DTSTART:20231029T010000
END:STANDARD
BEGIN:DAYLIGHT
TZOFFSETFROM:+0100
TZOFFSETTO:+0200
TZNAME:CEST
DTSTART:20240331T010000
END:DAYLIGHT
BEGIN:STANDARD
TZOFFSETFROM:+0200
TZOFFSETTO:+0100
TZNAME:CET
DTSTART:20241027T010000
END:STANDARD
BEGIN:DAYLIGHT
TZOFFSETFROM:+0100
TZOFFSETTO:+0200
TZNAME:CEST
DTSTART:20250330T010000
END:DAYLIGHT
BEGIN:STANDARD
TZOFFSETFROM:+0200
TZOFFSETTO:+0100
TZNAME:CET
DTSTART:20251026T010000
END:STANDARD
END:VTIMEZONE
BEGIN:VEVENT
DTSTART;TZID=Europe/Paris:20240623T080000
DTEND;TZID=Europe/Paris:20240704T170000
DTSTAMP:20260420T055304
CREATED:20230315T094730Z
LAST-MODIFIED:20231114T085137Z
UID:27204-1719129600-1720112400@kap2cap.fr
SUMMARY:Equateur: La traversée des mondes (Vintage Rides)
DESCRIPTION:Une concentration de volcans et lacs d’altitude ; des Parc Nationaux de grande étendue ; un trésor de faune et flore\, autant terrestre que sous marine qui émerveille vos yeux à chaque tournant. Que demander de plus ? Ah oui\, une forte richesse culturelle qui change du tout au tout selon si vous traversez les Andes\, l’Amazonie ou la côte Pacifique. Quoi de mieux qu’une Royal Enfield pour parcourir ces différents terrains\, climats et altitudes. Derrière votre guidon\, au rythme de croisière\, on vous emmène à la découverte de 3 mondes dans une aventure unique!
URL:https://kap2cap.fr/evenement/equateur-vintage-rides/
LOCATION:Equateur\, Équateur
CATEGORIES:Road Trip
ATTACH;FMTTYPE=image/jpeg:https://kap2cap.fr/assets/truploads/2023/03/2023_Equateur.jpg
ORGANIZER;CN="Vintage Rides":MAILTO:contact@vintagerides.com
END:VEVENT
END:VCALENDAR