BEGIN:VCALENDAR
VERSION:2.0
PRODID:-//Kap2Cap - ECPv6.15.16//NONSGML v1.0//EN
CALSCALE:GREGORIAN
METHOD:PUBLISH
X-ORIGINAL-URL:https://kap2cap.fr
X-WR-CALDESC:Évènements pour Kap2Cap
REFRESH-INTERVAL;VALUE=DURATION:PT1H
X-Robots-Tag:noindex
X-PUBLISHED-TTL:PT1H
BEGIN:VTIMEZONE
TZID:Europe/Paris
BEGIN:DAYLIGHT
TZOFFSETFROM:+0100
TZOFFSETTO:+0200
TZNAME:CEST
DTSTART:20220327T010000
END:DAYLIGHT
BEGIN:STANDARD
TZOFFSETFROM:+0200
TZOFFSETTO:+0100
TZNAME:CET
DTSTART:20221030T010000
END:STANDARD
BEGIN:DAYLIGHT
TZOFFSETFROM:+0100
TZOFFSETTO:+0200
TZNAME:CEST
DTSTART:20230326T010000
END:DAYLIGHT
BEGIN:STANDARD
TZOFFSETFROM:+0200
TZOFFSETTO:+0100
TZNAME:CET
DTSTART:20231029T010000
END:STANDARD
BEGIN:DAYLIGHT
TZOFFSETFROM:+0100
TZOFFSETTO:+0200
TZNAME:CEST
DTSTART:20240331T010000
END:DAYLIGHT
BEGIN:STANDARD
TZOFFSETFROM:+0200
TZOFFSETTO:+0100
TZNAME:CET
DTSTART:20241027T010000
END:STANDARD
END:VTIMEZONE
BEGIN:VEVENT
DTSTART;TZID=Europe/Paris:20231202T080000
DTEND;TZID=Europe/Paris:20231214T170000
DTSTAMP:20260420T012602
CREATED:20230323T085638Z
LAST-MODIFIED:20230323T085855Z
UID:27435-1701504000-1702573200@kap2cap.fr
SUMMARY:La Grande Traversée (Vintage Rides)
DESCRIPTION:Une traversée unique reliant deux villes mythiques : Fort Cochin et Pondichéry. 1150 km loin des circuits classiques\, pour découvrir l’Inde du Sud en moto dans toute sa richesse. Profitez d’une diversité de tous les instants au guidon de votre Royal Enfield. Des plantations de thé du Kerala à la jungle du Tamil Nadu\, nous vous dévoilons nos routes secrètes et nos hébergements de charme. Admirez l’architecture typique des temples tamouls multicolores et des palais du Chettinad. Ce voyage moto en Inde du Sud se termine en beauté à Chennai\, capitale du Tamil Nadu !
URL:https://kap2cap.fr/evenement/la-grande-traversee-vintage-rides/
LOCATION:Inde\, Inde
CATEGORIES:Grands voyages
ATTACH;FMTTYPE=image/jpeg:https://kap2cap.fr/assets/truploads/2023/03/2023_La_Grande_Traversee.jpg
ORGANIZER;CN="Vintage Rides":MAILTO:contact@vintagerides.com
END:VEVENT
BEGIN:VEVENT
DTSTART;TZID=Europe/Paris:20231202T080000
DTEND;TZID=Europe/Paris:20231212T170000
DTSTAMP:20260420T012602
CREATED:20230622T072720Z
LAST-MODIFIED:20230622T074248Z
UID:28419-1701504000-1702400400@kap2cap.fr
SUMMARY:Kerala La route des épices (Rakatanga tour)
DESCRIPTION:Bienvenue sur la Route des épices\, une visite fascinante pour l‘Inde du Sud à moto. Sur ce tour\, nous allons découvrir les petites routes des Ghâts occidentaux à travers des forêts tropicales à la flore exubérante. \nNous sillonneront des routes de montagne qui serpentent les Réserves Nationales de tigres et des éléphants\, avec des arrêts dans les célèbres stations de montagne entourées de plantations de thé\, et toutes sortes d’épices. Ce voyage est complété par le célèbres backwaters ou canaux d’eaux entourés des palmiers et cocotiers pour finalement aller se reposer sur les plages de la côte Malabar. Notre destination final sera le vieux quartier de capitale du Kerala\, Fort Cochin\, une ville coloniale charmante et tranquille plein d’architecture typiquement portugaise et hollandaise. \nParcours 1000kms pars des routes goudronnées à travers les états du Kerala et du Tamil Nadu\, cols de montagne à une altitude de 2200m avec une journée à la plage.
URL:https://kap2cap.fr/evenement/kerala-la-route-des-epices-rakatanga-tour/
LOCATION:Inde\, Inde
CATEGORIES:Voyages
ATTACH;FMTTYPE=image/jpeg:https://kap2cap.fr/assets/truploads/2023/06/2023_Kerala_Route_Epices.jpg
ORGANIZER;CN="Rakatanga Tour":MAILTO:contact@rakatanga-tour.com
END:VEVENT
BEGIN:VEVENT
DTSTART;TZID=Europe/Paris:20231029T080000
DTEND;TZID=Europe/Paris:20231110T170000
DTSTAMP:20260420T012602
CREATED:20230717T150042Z
LAST-MODIFIED:20241205T092016Z
UID:28542-1698566400-1699635600@kap2cap.fr
SUMMARY:Le Rajasthan hors des sentiers battus (Inde à Moto)
DESCRIPTION:Voici une version alternative de nos circuits classiques au Rajasthan. Cet itinéraire emprunte des chemins moins connus\, moins fréquentés\, mais qui ont un charme incontestable et vous permettront de découvrir un Rajasthan authentique à côté duquel passe la majorité des touristes.\nSur ces routes inédites\, vous découvrirez une Royal Enfield sacrée et vénérée comme une divinité !\nLes étapes à moto sont plus courtes que sur les autres séjours\, et permettent de profiter encore plus des temples\, marchés et attractions locales.
URL:https://kap2cap.fr/evenement/le-rajasthan-hors-des-sentiers-battus-inde-a-moto/
LOCATION:Inde\, Inde
CATEGORIES:Road Trip
ATTACH;FMTTYPE=image/jpeg:https://kap2cap.fr/assets/truploads/2023/07/2023_Rajasthan.jpg
END:VEVENT
BEGIN:VEVENT
DTSTART;TZID=Europe/Paris:20231022T080000
DTEND;TZID=Europe/Paris:20231104T170000
DTSTAMP:20260420T012602
CREATED:20230728T081143Z
LAST-MODIFIED:20240115T091438Z
UID:28600-1697961600-1699117200@kap2cap.fr
SUMMARY:La Grande Traversée du Rajasthan (Europe Active)
DESCRIPTION:Cette grande Aventure vous conduira aux confins du Rajasthan. Forêt\, montagne\, désert\, au milieu des palaces de Maharajahs d’un autre âge\, vous apprécierez cette immersion aux pays des contrastes et des couleurs !\nPour ce séjour en pension complète\, nous vous avons réservé quelques visites étonnantes et le tout sur de superbes Royal Enfields 500cc. Avec en bouquet final l’une des plus belles merveilles du monde\, le Taj Mahal.
URL:https://kap2cap.fr/evenement/la-grande-traversee-du-rajasthan-europe-active/2023-10-22/
LOCATION:Inde\, Inde
CATEGORIES:Grands voyages
ATTACH;FMTTYPE=image/jpeg:https://kap2cap.fr/assets/truploads/2023/07/2023_Grande_Traversee_Rajasthan.jpg
END:VEVENT
BEGIN:VEVENT
DTSTART;TZID=Europe/Paris:20231008T080000
DTEND;TZID=Europe/Paris:20231021T170000
DTSTAMP:20260420T012602
CREATED:20230715T074618Z
LAST-MODIFIED:20241205T092219Z
UID:28526-1696752000-1697907600@kap2cap.fr
SUMMARY:Haut Mustang en Royal Enfield (Inde à Moto)
DESCRIPTION:Une escapade himalayenne qui vous fera découvrir le Mustang\, le royaume secret du Népal. Au guidon d’une Royal Enfield\, aux travers des plus hauts sommets du monde. (Le Népal compte 8 sommets de plus de 8000 m).\nDe Katmandou au Haut Mustang en passant par Pokhara et son célèbre lac Phewa\, vous découvrirez les différentes ethnies et leurs villages\, le Royaume du Mustang\, cette terre ouverte aux étrangers depuis moins de 30 ans\, sans oublier les innombrables sommets qui soutiennent le ciel népalais.\nCe séjour vous montrera des paysages à couper le souffle\, les plus hauts sommets du monde\, le Dhaulagiri\, l’Annapurna\, le Machapuchare… Ces géants qui vous feront sentir tout petit.\nL’odyssée népalaise\, un voyage d’altitude en terre inconnue ! Un voyage de 13 jours réservé aux motards aventuriers prêts à relever de nouveaux défis.
URL:https://kap2cap.fr/evenement/haut-mustang-en-royal-enfield-inde-a-moto/
LOCATION:Inde\, Inde
CATEGORIES:Road Trip
ATTACH;FMTTYPE=image/jpeg:https://kap2cap.fr/assets/truploads/2023/07/2023_Haut_Mustang.jpg
END:VEVENT
BEGIN:VEVENT
DTSTART;TZID=Europe/Paris:20230903T080000
DTEND;TZID=Europe/Paris:20230914T170000
DTSTAMP:20260420T012602
CREATED:20230402T133007Z
LAST-MODIFIED:20240325T085651Z
UID:27582-1693728000-1694710800@kap2cap.fr
SUMMARY:La Himalayan Peak (Larivière Voyages)
DESCRIPTION:LE RAID ENDURO 100% HIMALAYA EN EXCLUSIVITÉ AVEC LARIVIERE VOYAGES MOTO\n\nLa passion des grands RAIDS\, une passion qui ne s’explique que par le besoin inné d’aventure\, que nous partageons avec vous\, c’est ce qui nous pousse à vous proposer des projets exclusifs et inattendus comme ce projet incroyable. \nLa HIMALAYAN PEAK devient ce fantastique voyage de 1145 kms sur 10J en KTM 450 qui\, à ce jour\, sera le plus haut du monde et le plus captivant jamais conçu en enduro. \nNous demandons de l’expérience en enduro pour pouvoir vous inscrire et profiter des cimes.\n \nEnviron 1 col par jour à franchir\, des lacs\, puis un pic en altitude de presque 6000 M. Oui\, 6000 Mètres soit 19685\,04 pieds exactement. L’ivresse de l’inconnu vous guette !\n \nCe voyage peut se montrer exigeant par le manque d’oxygène\, Pour cela\, on commence à 1.600 pour –comme un plongeur qui respecte ses paliers- franchir raisonnablement des cols toujours plus hauts. Par de large pistes ou de petits sentiers\, on découvre des endroits exceptionnels\, ou quasiment aucun motard n’y a déposé ses tétines. Une expérience unique de free-ride. On fleurte avec les cimes du monde tout en prenant le temps pour une immersion culturelle avec des arrêts ici et là dans un village ou dans un monastère exceptionnel. \nUne aventure hors norme ! Un projet extraordinaire au sein d’ un groupe de passionnés avec un guide francophone  !
URL:https://kap2cap.fr/evenement/himalayan-peak-lariviere-voyages/
LOCATION:Inde\, Inde
CATEGORIES:Raids
ATTACH;FMTTYPE=image/jpeg:https://kap2cap.fr/assets/truploads/2023/04/2023_Himalayan_Peak_Lariviere.jpg
END:VEVENT
BEGIN:VEVENT
DTSTART;TZID=Europe/Paris:20230723T080000
DTEND;TZID=Europe/Paris:20230804T170000
DTSTAMP:20260420T012602
CREATED:20230710T121635Z
LAST-MODIFIED:20241205T091744Z
UID:28480-1690099200-1691168400@kap2cap.fr
SUMMARY:La Trans-Himalayenne en Royal Enfield (Inde à Moto)
DESCRIPTION:Depuis Shimla\, vous emprunterez une des rares lignes de  chemin de fer inscrites au patrimoine mondial de l’Unesco. Vous séjournerez à Leh\, connu sous le nom de « Petit Tibet »\, avec en point d’orgue le col de Khardung La culminant à 5602 mètres d’altitude et vous rejoindrez la frontière du Pakistan ainsi que la frontière de la Chine. \nPlus loin\, vous aurez l’occasion de camper au bord du féérique lac de Pangong puis celui de Tsomoriri et de découvrir une mystérieuse « colline magnétique ». La traversée de nombreux villages vous permettra de découvrir un peuple accueillant et des modes de vie très éloignés de nos habitudes occidentales. Un ride qui ne vous laissera pas de marbre !
URL:https://kap2cap.fr/evenement/la-trans-himalayenne-en-royal-enfield-inde-a-moto/
LOCATION:Inde\, Inde
CATEGORIES:Road Trip
ATTACH;FMTTYPE=image/jpeg:https://kap2cap.fr/assets/truploads/2023/07/2023_Trans_Himalayenne.jpg
END:VEVENT
END:VCALENDAR