BEGIN:VCALENDAR
VERSION:2.0
PRODID:-//Kap2Cap - ECPv6.15.16//NONSGML v1.0//EN
CALSCALE:GREGORIAN
METHOD:PUBLISH
X-WR-CALNAME:Kap2Cap
X-ORIGINAL-URL:https://kap2cap.fr
X-WR-CALDESC:Évènements pour Kap2Cap
REFRESH-INTERVAL;VALUE=DURATION:PT1H
X-Robots-Tag:noindex
X-PUBLISHED-TTL:PT1H
BEGIN:VTIMEZONE
TZID:Europe/Paris
BEGIN:DAYLIGHT
TZOFFSETFROM:+0100
TZOFFSETTO:+0200
TZNAME:CEST
DTSTART:20240331T010000
END:DAYLIGHT
BEGIN:STANDARD
TZOFFSETFROM:+0200
TZOFFSETTO:+0100
TZNAME:CET
DTSTART:20241027T010000
END:STANDARD
BEGIN:DAYLIGHT
TZOFFSETFROM:+0100
TZOFFSETTO:+0200
TZNAME:CEST
DTSTART:20250330T010000
END:DAYLIGHT
BEGIN:STANDARD
TZOFFSETFROM:+0200
TZOFFSETTO:+0100
TZNAME:CET
DTSTART:20251026T010000
END:STANDARD
BEGIN:DAYLIGHT
TZOFFSETFROM:+0100
TZOFFSETTO:+0200
TZNAME:CEST
DTSTART:20260329T010000
END:DAYLIGHT
BEGIN:STANDARD
TZOFFSETFROM:+0200
TZOFFSETTO:+0100
TZNAME:CET
DTSTART:20261025T010000
END:STANDARD
END:VTIMEZONE
BEGIN:VEVENT
DTSTART;TZID=Europe/Paris:20250720T080000
DTEND;TZID=Europe/Paris:20250720T180000
DTSTAMP:20260422T010841
CREATED:20250612T145954Z
LAST-MODIFIED:20250612T145954Z
UID:35947-1752998400-1753034400@kap2cap.fr
SUMMARY:Montée Impossible La Bresse
DESCRIPTION:Moto TT – Montée Impossible à La Bresse – 35eme édition ! \nCette compétition hautement spectaculaire oppose des prototypes aussi puissants qu’incroyables\, sortis de l’imaginaire de passionnés. \nLe but est simple : aller le plus loin possible\, le plus vite possible\, dans une pente dont l’angle d’inclinaison peut parfois atteindre 90 degrés ! \nPrésence exceptionnelle nombreux pilotes étrangers dont 3 pilotes américains\, tous titrés aux US. \nEntre le vrombissement des moteurs\, des prototypes à couper le souffle et des montées qui semblent infranchissables\, assister à ce spectacle vous laissera des souvenirs impérissables. \nRV au col de Grosse-Pierre\, le 21 juillet de 8h à 18h \nBuvette et petite restauration sur place.
URL:https://kap2cap.fr/evenement/montee-impossible-la-bresse/
LOCATION:La Bresse\, Col de Grosse-Pierre\, La Bresse\, 88250\, France
CATEGORIES:Montée Impossible
ATTACH;FMTTYPE=image/jpeg:https://kap2cap.fr/assets/truploads/2025/06/2025_La_Bresse.jpg
END:VEVENT
END:VCALENDAR