BEGIN:VCALENDAR
VERSION:2.0
PRODID:-//Kap2Cap - ECPv6.15.16//NONSGML v1.0//EN
CALSCALE:GREGORIAN
METHOD:PUBLISH
X-ORIGINAL-URL:https://kap2cap.fr
X-WR-CALDESC:Évènements pour Kap2Cap
REFRESH-INTERVAL;VALUE=DURATION:PT1H
X-Robots-Tag:noindex
X-PUBLISHED-TTL:PT1H
BEGIN:VTIMEZONE
TZID:Europe/Paris
BEGIN:DAYLIGHT
TZOFFSETFROM:+0100
TZOFFSETTO:+0200
TZNAME:CEST
DTSTART:20250330T010000
END:DAYLIGHT
BEGIN:STANDARD
TZOFFSETFROM:+0200
TZOFFSETTO:+0100
TZNAME:CET
DTSTART:20251026T010000
END:STANDARD
BEGIN:DAYLIGHT
TZOFFSETFROM:+0100
TZOFFSETTO:+0200
TZNAME:CEST
DTSTART:20260329T010000
END:DAYLIGHT
BEGIN:STANDARD
TZOFFSETFROM:+0200
TZOFFSETTO:+0100
TZNAME:CET
DTSTART:20261025T010000
END:STANDARD
BEGIN:DAYLIGHT
TZOFFSETFROM:+0100
TZOFFSETTO:+0200
TZNAME:CEST
DTSTART:20270328T010000
END:DAYLIGHT
BEGIN:STANDARD
TZOFFSETFROM:+0200
TZOFFSETTO:+0100
TZNAME:CET
DTSTART:20271031T010000
END:STANDARD
END:VTIMEZONE
BEGIN:VEVENT
DTSTART;TZID=Europe/Paris:20260430T080000
DTEND;TZID=Europe/Paris:20260503T190000
DTSTAMP:20260421T122446
CREATED:20250407T081456Z
LAST-MODIFIED:20260327T192827Z
UID:35253-1777536000-1777834800@kap2cap.fr
SUMMARY:Championnat de France Moto Superbike Lédenon 2026
DESCRIPTION:2eme manche du Championnat de France Superbike – FSBK à Ledenon.\n \nCatégories :  Moto 4 et 5 – OGP –  Supersport 300cc – Supersport 600cc – Superbike – Side-car – European Bike. \nCréé en 1981 par le Président de la C.C.R. de la F.F.M. de l’époque\, Benjamin SAVOYE\, afin de regrouper les Championnats de France Inters et Nationaux qui se couraient jusque là séparément\, le Championnat de France Superbike (ex Championnat de France Open de Vitesse) a vu passer\, à un moment ou à un autre\, la totalité des pilotes français qui se destinait au haut-niveau. \nLa toute première épreuve s’est déroulée le 9 avril 1981 à Nogaro et vit la victoire de Jacques BOLLE en 125 cc\, de Jean-François BALDE en 250 cc\, de Marc FONTAN en 500 cc et de Alain MICHEL en Side-Cars.
URL:https://kap2cap.fr/evenement/championnat-de-france-moto-superbike-ledenon-2026/
LOCATION:Lédenon\, Circuit de Lédenon\, Lédenon\, 30210\, France
CATEGORIES:Course moto
ATTACH;FMTTYPE=image/jpeg:https://kap2cap.fr/assets/truploads/2025/04/2026_Calendrier_Superbike.jpg
END:VEVENT
END:VCALENDAR