BEGIN:VCALENDAR
VERSION:2.0
PRODID:-//Kap2Cap - ECPv6.15.16//NONSGML v1.0//EN
CALSCALE:GREGORIAN
METHOD:PUBLISH
X-WR-CALNAME:Kap2Cap
X-ORIGINAL-URL:https://kap2cap.fr
X-WR-CALDESC:Évènements pour Kap2Cap
REFRESH-INTERVAL;VALUE=DURATION:PT1H
X-Robots-Tag:noindex
X-PUBLISHED-TTL:PT1H
BEGIN:VTIMEZONE
TZID:Europe/Paris
BEGIN:DAYLIGHT
TZOFFSETFROM:+0100
TZOFFSETTO:+0200
TZNAME:CEST
DTSTART:20220327T010000
END:DAYLIGHT
BEGIN:STANDARD
TZOFFSETFROM:+0200
TZOFFSETTO:+0100
TZNAME:CET
DTSTART:20221030T010000
END:STANDARD
BEGIN:DAYLIGHT
TZOFFSETFROM:+0100
TZOFFSETTO:+0200
TZNAME:CEST
DTSTART:20230326T010000
END:DAYLIGHT
BEGIN:STANDARD
TZOFFSETFROM:+0200
TZOFFSETTO:+0100
TZNAME:CET
DTSTART:20231029T010000
END:STANDARD
BEGIN:DAYLIGHT
TZOFFSETFROM:+0100
TZOFFSETTO:+0200
TZNAME:CEST
DTSTART:20240331T010000
END:DAYLIGHT
BEGIN:STANDARD
TZOFFSETFROM:+0200
TZOFFSETTO:+0100
TZNAME:CET
DTSTART:20241027T010000
END:STANDARD
END:VTIMEZONE
BEGIN:VEVENT
DTSTART;TZID=Europe/Paris:20230506T080000
DTEND;TZID=Europe/Paris:20230517T170000
DTSTAMP:20260420T072434
CREATED:20230304T195308Z
LAST-MODIFIED:20230313T150756Z
UID:26940-1683360000-1684342800@kap2cap.fr
SUMMARY:Le lac blanc (Moto Mongolie)
DESCRIPTION:Le volcan Khorgo est un lieu magnifique qui se trouve dans la vallée de Terkh\, sur le versant nord des monts de Khangai. Une dizaine de volcans éteints sont repartis sur un territoire assez restreint. Une puissante couche de lave a barré le lit de la rivière de Terkh\, formant ainsi le lac Terkh-Tsagaan sur une superficie de 28 km² à 2 060 m d’altitude. \n\nDans le parc naturel de Khorgo – Terkhiin Tsagaan Nuur se rencontrent deux forces de la nature : le lac de Terkhiin Tsagaan et le volcan éteint Khorgo. Surnommé « lac blanc de la rivière Terkh »\, ce plan d’eau se hisse à deux milles mètres d’altitude et baigne dans une atmosphère quasi mystique. Tout autour du lac\, vous rencontrerez de nombreux cratères de volcans aujourd’hui silencieux.\nLa plupart sont nés de l’éruption volcanique du mont Khorgo. Il est d’ailleurs possible de partir à l’assaut de son sommet pour admirer son cratère recouvert de basalte. Les mongols\, quant à eux\, se rendent souvent dans ce parc pour pêcher.\n-2 nuits dans la ville d’Oulan-Bator\n-1 nuit chez la famille nomade\n-8 nuits au camp de touristes\nHONDA CRF 250L
URL:https://kap2cap.fr/evenement/le-lac-blancmoto-mongolie/
LOCATION:Mongolie\, Mongolie
CATEGORIES:Grands voyages
ATTACH;FMTTYPE=image/jpeg:https://kap2cap.fr/assets/truploads/2023/03/2023_Lac_Blanc.jpg
GEO:46.862496;103.846656
END:VEVENT
END:VCALENDAR