BEGIN:VCALENDAR
VERSION:2.0
PRODID:-//Kap2Cap - ECPv6.15.16//NONSGML v1.0//EN
CALSCALE:GREGORIAN
METHOD:PUBLISH
X-ORIGINAL-URL:https://kap2cap.fr
X-WR-CALDESC:Évènements pour Kap2Cap
REFRESH-INTERVAL;VALUE=DURATION:PT1H
X-Robots-Tag:noindex
X-PUBLISHED-TTL:PT1H
BEGIN:VTIMEZONE
TZID:Europe/Paris
BEGIN:DAYLIGHT
TZOFFSETFROM:+0100
TZOFFSETTO:+0200
TZNAME:CEST
DTSTART:20250330T010000
END:DAYLIGHT
BEGIN:STANDARD
TZOFFSETFROM:+0200
TZOFFSETTO:+0100
TZNAME:CET
DTSTART:20251026T010000
END:STANDARD
BEGIN:DAYLIGHT
TZOFFSETFROM:+0100
TZOFFSETTO:+0200
TZNAME:CEST
DTSTART:20260329T010000
END:DAYLIGHT
BEGIN:STANDARD
TZOFFSETFROM:+0200
TZOFFSETTO:+0100
TZNAME:CET
DTSTART:20261025T010000
END:STANDARD
BEGIN:DAYLIGHT
TZOFFSETFROM:+0100
TZOFFSETTO:+0200
TZNAME:CEST
DTSTART:20270328T010000
END:DAYLIGHT
BEGIN:STANDARD
TZOFFSETFROM:+0200
TZOFFSETTO:+0100
TZNAME:CET
DTSTART:20271031T010000
END:STANDARD
END:VTIMEZONE
BEGIN:VEVENT
DTSTART;TZID=Europe/Paris:20260130T200000
DTEND;TZID=Europe/Paris:20260130T233000
DTSTAMP:20260420T142034
CREATED:20260126T075312Z
LAST-MODIFIED:20260126T080804Z
UID:38100-1769803200-1769815800@kap2cap.fr
SUMMARY:Trial Indoor Narbonne
DESCRIPTION:🔥🏆 NARBONNE SERA L’OUVERTURE DE LA TRIAL INDOOR CHAMPION’S CUP | LE  30 JANVIER 2026 🏆🔥 \nCette année\, préparez-vous à un décor thème jurassique : multiples obstacles inédits\, mise en scène spectaculaire et surprises à couper le souffle. \nUn nouveau chapitre s’ouvre avec la naissance de la Trial Indoor Champions Cup : \n👉  \n\n5 épreuves spectaculaires qui réuniront les meilleurs Pro Rider GP et les top pilotes du Mondial 125. \n🚨 Première manche : Narbonne\, le 30 janvier 2026\, dans la célèbre Aréna\, pour une soirée déjà historique ! \n✨ Le roi du trial Toni Bou sera présent\, Benoît Bincaz\, Aniol Gelabert\, et bien d’autres stars internationales à annoncer. \nEt ce n’est pas tout… \n🇫🇷 Ils seront en équipe avec nos jeunes espoir français mais aussi du jeune prodige Allemand Marco Laure\, seulement 15 ans et déjà promis à un grand avenir. \nUn show encore plus grandiose que jamais !
URL:https://kap2cap.fr/evenement/trial-indoor-narbonne/
LOCATION:Narbonne Arena\, 74 avenue Maitre Hubert Mouly\, Narbonne\, 11100\, France
CATEGORIES:Trial
ATTACH;FMTTYPE=image/jpeg:https://kap2cap.fr/assets/truploads/2026/01/2026_Trial_Indor_Narbonne.jpeg
END:VEVENT
END:VCALENDAR