BEGIN:VCALENDAR
VERSION:2.0
PRODID:-//Kap2Cap - ECPv6.15.16//NONSGML v1.0//EN
CALSCALE:GREGORIAN
METHOD:PUBLISH
X-ORIGINAL-URL:https://kap2cap.fr
X-WR-CALDESC:Évènements pour Kap2Cap
REFRESH-INTERVAL;VALUE=DURATION:PT1H
X-Robots-Tag:noindex
X-PUBLISHED-TTL:PT1H
BEGIN:VTIMEZONE
TZID:Europe/Paris
BEGIN:DAYLIGHT
TZOFFSETFROM:+0100
TZOFFSETTO:+0200
TZNAME:CEST
DTSTART:20220327T010000
END:DAYLIGHT
BEGIN:STANDARD
TZOFFSETFROM:+0200
TZOFFSETTO:+0100
TZNAME:CET
DTSTART:20221030T010000
END:STANDARD
BEGIN:DAYLIGHT
TZOFFSETFROM:+0100
TZOFFSETTO:+0200
TZNAME:CEST
DTSTART:20230326T010000
END:DAYLIGHT
BEGIN:STANDARD
TZOFFSETFROM:+0200
TZOFFSETTO:+0100
TZNAME:CET
DTSTART:20231029T010000
END:STANDARD
BEGIN:DAYLIGHT
TZOFFSETFROM:+0100
TZOFFSETTO:+0200
TZNAME:CEST
DTSTART:20240331T010000
END:DAYLIGHT
BEGIN:STANDARD
TZOFFSETFROM:+0200
TZOFFSETTO:+0100
TZNAME:CET
DTSTART:20241027T010000
END:STANDARD
END:VTIMEZONE
BEGIN:VEVENT
DTSTART;TZID=Europe/Paris:20231124T100000
DTEND;TZID=Europe/Paris:20231126T180000
DTSTAMP:20260420T061156
CREATED:20231114T150059Z
LAST-MODIFIED:20231114T152010Z
UID:29328-1700820000-1701021600@kap2cap.fr
SUMMARY:Salon Moto Légende (Edition LVA)
DESCRIPTION:Depuis plus de 20 ans\, le Salon Moto Légende\, l’événement dédié aux motos anciennes de collection\, youngtimers et néo-rétros vous donne rendez-vous du 24 au 26 novembre 2023 au Parc des Expositions Paris-Nord-Villepinte !
URL:https://kap2cap.fr/evenement/salon-moto-legendelva/
LOCATION:Parc des expositions Paris Nord Villepinte\, ZAC Paris Nord 2\, 93420 Villepinte\, France
CATEGORIES:Salons et Festivals
ATTACH;FMTTYPE=image/jpeg:https://kap2cap.fr/assets/truploads/2023/11/2023_Salon_Moto_Legende.jpg
END:VEVENT
END:VCALENDAR