BEGIN:VCALENDAR
VERSION:2.0
PRODID:-//Kap2Cap - ECPv6.15.16//NONSGML v1.0//EN
CALSCALE:GREGORIAN
METHOD:PUBLISH
X-ORIGINAL-URL:https://kap2cap.fr
X-WR-CALDESC:Évènements pour Kap2Cap
REFRESH-INTERVAL;VALUE=DURATION:PT1H
X-Robots-Tag:noindex
X-PUBLISHED-TTL:PT1H
BEGIN:VTIMEZONE
TZID:Europe/Paris
BEGIN:DAYLIGHT
TZOFFSETFROM:+0100
TZOFFSETTO:+0200
TZNAME:CEST
DTSTART:20250330T010000
END:DAYLIGHT
BEGIN:STANDARD
TZOFFSETFROM:+0200
TZOFFSETTO:+0100
TZNAME:CET
DTSTART:20251026T010000
END:STANDARD
BEGIN:DAYLIGHT
TZOFFSETFROM:+0100
TZOFFSETTO:+0200
TZNAME:CEST
DTSTART:20260329T010000
END:DAYLIGHT
BEGIN:STANDARD
TZOFFSETFROM:+0200
TZOFFSETTO:+0100
TZNAME:CET
DTSTART:20261025T010000
END:STANDARD
BEGIN:DAYLIGHT
TZOFFSETFROM:+0100
TZOFFSETTO:+0200
TZNAME:CEST
DTSTART:20270328T010000
END:DAYLIGHT
BEGIN:STANDARD
TZOFFSETFROM:+0200
TZOFFSETTO:+0100
TZNAME:CET
DTSTART:20271031T010000
END:STANDARD
END:VTIMEZONE
BEGIN:VEVENT
DTSTART;TZID=Europe/Paris:20260128T100000
DTEND;TZID=Europe/Paris:20260201T190000
DTSTAMP:20260420T123307
CREATED:20251021T083615Z
LAST-MODIFIED:20251229T174537Z
UID:36458-1769594400-1769972400@kap2cap.fr
SUMMARY:Salon Retro Mobile
DESCRIPTION:L’inédit\, l’extraordinaire et l’inattendu se disputeront la vedette\, mais c’est la passion qui sera le dénominateur commun de cette 50ème édition. \nVenez voyager dans le temps ou assouvir votre passion. Rêver\, s’extasier\, s’informer\, investir\, aller à la rencontre des artistes\, constructeurs\, clubs\, fédérations\, vendeurs de pièces détachées et de miniatures\, restaurateurs\, marchands d’automobile : tout est permis à Retromobile. \nUn évènement d’envergure internationale à Paris\, le premier salon de la saison pour les amoureux de voitures anciennes. \nDécouvrez la zone moto de Rétromobile\, une exposition unique de motos rares & légendaires. Ne manquez pas cet événement dédié aux passionnés.
URL:https://kap2cap.fr/evenement/salon-retro-mobile/
LOCATION:Parc des Expositions Paris Portes de Versailles\, 1 place de la Porte de Versailles\, Paris\, 75015\, France
CATEGORIES:Salons et Festivals
ATTACH;FMTTYPE=image/jpeg:https://kap2cap.fr/assets/truploads/2025/10/2026_Retro_Mobile.jpg
END:VEVENT
END:VCALENDAR