BEGIN:VCALENDAR
VERSION:2.0
PRODID:-//Kap2Cap - ECPv6.15.16//NONSGML v1.0//EN
CALSCALE:GREGORIAN
METHOD:PUBLISH
X-WR-CALNAME:Kap2Cap
X-ORIGINAL-URL:https://kap2cap.fr
X-WR-CALDESC:Évènements pour Kap2Cap
REFRESH-INTERVAL;VALUE=DURATION:PT1H
X-Robots-Tag:noindex
X-PUBLISHED-TTL:PT1H
BEGIN:VTIMEZONE
TZID:Europe/Paris
BEGIN:DAYLIGHT
TZOFFSETFROM:+0100
TZOFFSETTO:+0200
TZNAME:CEST
DTSTART:20250330T010000
END:DAYLIGHT
BEGIN:STANDARD
TZOFFSETFROM:+0200
TZOFFSETTO:+0100
TZNAME:CET
DTSTART:20251026T010000
END:STANDARD
BEGIN:DAYLIGHT
TZOFFSETFROM:+0100
TZOFFSETTO:+0200
TZNAME:CEST
DTSTART:20260329T010000
END:DAYLIGHT
BEGIN:STANDARD
TZOFFSETFROM:+0200
TZOFFSETTO:+0100
TZNAME:CET
DTSTART:20261025T010000
END:STANDARD
BEGIN:DAYLIGHT
TZOFFSETFROM:+0100
TZOFFSETTO:+0200
TZNAME:CEST
DTSTART:20270328T010000
END:DAYLIGHT
BEGIN:STANDARD
TZOFFSETFROM:+0200
TZOFFSETTO:+0100
TZNAME:CET
DTSTART:20271031T010000
END:STANDARD
END:VTIMEZONE
BEGIN:VEVENT
DTSTART;TZID=Europe/Paris:20260514T080000
DTEND;TZID=Europe/Paris:20260516T170000
DTSTAMP:20260420T025329
CREATED:20260117T151512Z
LAST-MODIFIED:20260117T151906Z
UID:38051-1778745600-1778950800@kap2cap.fr
SUMMARY:Classic Race
DESCRIPTION:Team Lavergnac Junior\norganise les 14\, 15\, 16 Mai 2026 la 14ième édition de la CLASSIC RACE\, 3 jours de roulage pour side-car + motos classiques sur le Circuit de Pau-Arnos (64).\nVous obtiendrez des informations complètes\, de type hébergement et restauration et pourrez-vous faire une idée très précise de ce magnifique circuit au tracé de 3030 mètres\, en visitant le site web www.circuit-pau-arnos.fr \nCe roulage est ouvert à toutes les motos de route\, coursifiées ou de course sorties avant le 31/12/2005 et de side-cars de piste. \nATTENTION : les roulages sur piste auront lieu le jeudi\, vendredi et samedi. \n\n\nCLASSIC RACE est un roulage où toute notion de chronométrage\, de classement\, de compétition est exclue. Nous appelons à la bienveillance et responsabilité de chacun d’entre vous pour respecter une attitude et un comportement sur la piste de type Gentleman Driver. Vous n’avez rien à gagner\, ce n’est pas une séance d’entrainement du championnat du monde de motocyclisme…. \n\n\n\n\nSans oubliez la traditionnelle soirée du Team Lavergnac Junior avec l’apéro bécanes et sides sur la voie des stands et son concert de musique Rock.
URL:https://kap2cap.fr/evenement/classic-race/
LOCATION:Circuit Pau Arnos\, 1 camin deu circuit\, Arnos\, 64370\, France
CATEGORIES:Course moto
ATTACH;FMTTYPE=image/jpeg:https://kap2cap.fr/assets/truploads/2026/01/2026_Classic_Race.jpg
GEO:43.457247;-0.532441
X-APPLE-STRUCTURED-LOCATION;VALUE=URI;X-ADDRESS=Circuit Pau Arnos 1 camin deu circuit Arnos 64370 France;X-APPLE-RADIUS=500;X-TITLE=1 camin deu circuit:geo:-0.532441,43.457247
END:VEVENT
BEGIN:VEVENT
DTSTART;TZID=Europe/Paris:20260618T080000
DTEND;TZID=Europe/Paris:20260621T190000
DTSTAMP:20260420T025329
CREATED:20250415T142855Z
LAST-MODIFIED:20260327T194024Z
UID:35492-1781769600-1782068400@kap2cap.fr
SUMMARY:Championnat de France Moto Superbike Pau Arnos 2026
DESCRIPTION:
URL:https://kap2cap.fr/evenement/championnat-de-france-moto-superbike-pau-arnos-2026/
LOCATION:Circuit Pau Arnos\, 1 camin deu circuit\, Arnos\, 64370\, France
CATEGORIES:Course moto
ATTACH;FMTTYPE=image/jpeg:https://kap2cap.fr/assets/truploads/2025/04/2026_Calendrier_Superbike.jpg
GEO:43.457247;-0.532441
X-APPLE-STRUCTURED-LOCATION;VALUE=URI;X-ADDRESS=Circuit Pau Arnos 1 camin deu circuit Arnos 64370 France;X-APPLE-RADIUS=500;X-TITLE=1 camin deu circuit:geo:-0.532441,43.457247
END:VEVENT
END:VCALENDAR