BEGIN:VCALENDAR
VERSION:2.0
PRODID:-//Kap2Cap - ECPv6.15.16//NONSGML v1.0//EN
CALSCALE:GREGORIAN
METHOD:PUBLISH
X-ORIGINAL-URL:https://kap2cap.fr
X-WR-CALDESC:Évènements pour Kap2Cap
REFRESH-INTERVAL;VALUE=DURATION:PT1H
X-Robots-Tag:noindex
X-PUBLISHED-TTL:PT1H
BEGIN:VTIMEZONE
TZID:Europe/Paris
BEGIN:DAYLIGHT
TZOFFSETFROM:+0100
TZOFFSETTO:+0200
TZNAME:CEST
DTSTART:20230326T010000
END:DAYLIGHT
BEGIN:STANDARD
TZOFFSETFROM:+0200
TZOFFSETTO:+0100
TZNAME:CET
DTSTART:20231029T010000
END:STANDARD
BEGIN:DAYLIGHT
TZOFFSETFROM:+0100
TZOFFSETTO:+0200
TZNAME:CEST
DTSTART:20240331T010000
END:DAYLIGHT
BEGIN:STANDARD
TZOFFSETFROM:+0200
TZOFFSETTO:+0100
TZNAME:CET
DTSTART:20241027T010000
END:STANDARD
BEGIN:DAYLIGHT
TZOFFSETFROM:+0100
TZOFFSETTO:+0200
TZNAME:CEST
DTSTART:20250330T010000
END:DAYLIGHT
BEGIN:STANDARD
TZOFFSETFROM:+0200
TZOFFSETTO:+0100
TZNAME:CET
DTSTART:20251026T010000
END:STANDARD
END:VTIMEZONE
BEGIN:VEVENT
DTSTART;TZID=Europe/Paris:20240906T080000
DTEND;TZID=Europe/Paris:20240915T170000
DTSTAMP:20260420T042755
CREATED:20240711T161838Z
LAST-MODIFIED:20240711T162735Z
UID:32882-1725609600-1726419600@kap2cap.fr
SUMMARY:Raid Sardaigne (Amonzevo)
DESCRIPTION:Beaucoup de charme pour cette grande île de la Méditerranée: un dépaysement rafraichissant puisque nous arrivons en terre Italienne\, avec une histoire  et des coutumes bien ancrées\, mais aussi une cuisine\, une musique\, des tempéraments bien colorés! \nC’est aussi un beau panel de paysages entre mers et montagnes qui chaque jour permet d’être dans un environnement différent\, avec une nature diversifiée\, de belles richesses géologiques\, de nombreux animaux en quasi liberté \, de beaux témoignages historiques que nous côtoyons par un circuit tout terrain varié\, tantôt au travers d’une campagne verdoyante\, tantôt en bord de falaise au dessus des vagues\, ou encore en altitude sur des crêtes sauvages où galopent les élégants chevaux sardes: des atmosphères très changeantes\, avec des lumières et des parfums de printemps toujours envoûtants! \n\nParcours tout terrain réalisant un grand tour de l’île à partir de Porto Torres à travers les six grandes régions sur 8 journées bien remplies.\nFerry à partir de Marseille avec un départ le vendredi soir et un retour le dimanche matin;\nHôtels ou résidence vacances chaque soir pour goûter les recettes locales et rester actif le lendemain!
URL:https://kap2cap.fr/evenement/raid-sardaigne-amonzevo/
LOCATION:Porto Torres\, Porto Torres\, Sardaigne\, 07046\, Italy
CATEGORIES:Raids 4x4 / Moto
ATTACH;FMTTYPE=image/jpeg:https://kap2cap.fr/assets/truploads/2024/07/2024_Raid_Sardaigne.jpg
ORGANIZER;CN="Amonzevo":MAILTO:raids-amonzevo@orange.fr
END:VEVENT
END:VCALENDAR