BEGIN:VCALENDAR
VERSION:2.0
PRODID:-//Kap2Cap - ECPv6.15.16//NONSGML v1.0//EN
CALSCALE:GREGORIAN
METHOD:PUBLISH
X-ORIGINAL-URL:https://kap2cap.fr
X-WR-CALDESC:Évènements pour Kap2Cap
REFRESH-INTERVAL;VALUE=DURATION:PT1H
X-Robots-Tag:noindex
X-PUBLISHED-TTL:PT1H
BEGIN:VTIMEZONE
TZID:Europe/Paris
BEGIN:DAYLIGHT
TZOFFSETFROM:+0100
TZOFFSETTO:+0200
TZNAME:CEST
DTSTART:20230326T010000
END:DAYLIGHT
BEGIN:STANDARD
TZOFFSETFROM:+0200
TZOFFSETTO:+0100
TZNAME:CET
DTSTART:20231029T010000
END:STANDARD
BEGIN:DAYLIGHT
TZOFFSETFROM:+0100
TZOFFSETTO:+0200
TZNAME:CEST
DTSTART:20240331T010000
END:DAYLIGHT
BEGIN:STANDARD
TZOFFSETFROM:+0200
TZOFFSETTO:+0100
TZNAME:CET
DTSTART:20241027T010000
END:STANDARD
BEGIN:DAYLIGHT
TZOFFSETFROM:+0100
TZOFFSETTO:+0200
TZNAME:CEST
DTSTART:20250330T010000
END:DAYLIGHT
BEGIN:STANDARD
TZOFFSETFROM:+0200
TZOFFSETTO:+0100
TZNAME:CET
DTSTART:20251026T010000
END:STANDARD
END:VTIMEZONE
BEGIN:VEVENT
DTSTART;TZID=Europe/Paris:20240906T080000
DTEND;TZID=Europe/Paris:20240908T170000
DTSTAMP:20260420T042733
CREATED:20230731T070754Z
LAST-MODIFIED:20240215T081114Z
UID:28628-1725609600-1725814800@kap2cap.fr
SUMMARY:Alpes Aventures Festivals (Atlas Moto Tour)
DESCRIPTION:Bienvenue dans les Alpes de Haute Provence ! \n​Il y a quelques années de ça\, des amoureux de deux roues et de leur région riche en belles routes sinueuses offrant d’époustouflant panoramas ont décidé de créer un festival s’y consacrant. \nAinsi naissait Alpes Aventures Festival dans le charmant bourg de Barcelonnette dans la Vallée de l’Ubaye en région PACA comme se plaisent à l’appeler nos amis gaulois. \nAlpes aventures propose différents tours « surprises et découvertes » dans son programme\, mais il faut avoir le clic de souris rapide et ajusté pour pouvoir décocher le Saint Graal car les réservations sont faites parfois plus vite qu’un concert. \nNous vous proposons de vous épargner ce tourment informatique sur le bien nommé internet dont beaucoup ont oublié le WWW et organisons le week-end de trois ou quatre jours sur place en demi-pension en vous accréditant auprès de la faîtière pour les bien nommés « Déjeuners secrets ». \nNous vous offrons aussi des virées découvertes sur les plus beaux cols de la région comme aussi des tours offroad. Selon votre choix\, vous avez la liberté une fois sur place de participer ou pas aux activités de groupe\, mais l’obligation de participer aux « Déjeuners secrets » si vous y avez souscrit. \nLes places sont bien sûr limitées car la capacité hôtelière est vite atteinte\, donc si vous voulez vivre cette belle expérience\, inscrivez vous vite !
URL:https://kap2cap.fr/evenement/alpes-aventures-festivals-atlas-moto-tour/
LOCATION:Suisse\, Suisse
CATEGORIES:Balade motos
ATTACH;FMTTYPE=image/jpeg:https://kap2cap.fr/assets/truploads/2023/07/2023_Alpes_Aventures.jpg
GEO:46.818188;8.227512
END:VEVENT
END:VCALENDAR