BEGIN:VCALENDAR
VERSION:2.0
PRODID:-//Kap2Cap - ECPv6.15.16//NONSGML v1.0//EN
CALSCALE:GREGORIAN
METHOD:PUBLISH
X-ORIGINAL-URL:https://kap2cap.fr
X-WR-CALDESC:Évènements pour Kap2Cap
REFRESH-INTERVAL;VALUE=DURATION:PT1H
X-Robots-Tag:noindex
X-PUBLISHED-TTL:PT1H
BEGIN:VTIMEZONE
TZID:Europe/Paris
BEGIN:DAYLIGHT
TZOFFSETFROM:+0100
TZOFFSETTO:+0200
TZNAME:CEST
DTSTART:20230326T010000
END:DAYLIGHT
BEGIN:STANDARD
TZOFFSETFROM:+0200
TZOFFSETTO:+0100
TZNAME:CET
DTSTART:20231029T010000
END:STANDARD
BEGIN:DAYLIGHT
TZOFFSETFROM:+0100
TZOFFSETTO:+0200
TZNAME:CEST
DTSTART:20240331T010000
END:DAYLIGHT
BEGIN:STANDARD
TZOFFSETFROM:+0200
TZOFFSETTO:+0100
TZNAME:CET
DTSTART:20241027T010000
END:STANDARD
BEGIN:DAYLIGHT
TZOFFSETFROM:+0100
TZOFFSETTO:+0200
TZNAME:CEST
DTSTART:20250330T010000
END:DAYLIGHT
BEGIN:STANDARD
TZOFFSETFROM:+0200
TZOFFSETTO:+0100
TZNAME:CET
DTSTART:20251026T010000
END:STANDARD
END:VTIMEZONE
BEGIN:VEVENT
DTSTART;TZID=Europe/Paris:20240525T100000
DTEND;TZID=Europe/Paris:20240525T130000
DTSTAMP:20260420T012859
CREATED:20240522T074627Z
LAST-MODIFIED:20241130T110126Z
UID:32555-1716631200-1716642000@kap2cap.fr
SUMMARY:Trails and Coffee (Motoblouz & MATT Adventure)
DESCRIPTION:Le trails and coffee c’est le rendez-vous des trailistes qui souhaitent montrer et présenter leur trail afin de partager\, autour d’un café\, leur passion pour ces machines dédiées à l’aventure \nMotoblouz et Matt adventure vous proposent\, sur le parking du magasin\, d’exposer votre trail et d’échanger sur la préparation moto\, l’équipement du motard\, la préparation d’un roadtrip.. On vous attend nombreux avec vos trails
URL:https://kap2cap.fr/evenement/trails-and-coffee-matt-adventure/
LOCATION:Zone Unexpo Seclin\, Zone Unexpo\, rue de l'industrie\, Seclin\, 59113\, France
CATEGORIES:Rassemblements
ATTACH;FMTTYPE=image/jpeg:https://kap2cap.fr/assets/truploads/2024/05/2024_Trails-Coffee.jpg
END:VEVENT
END:VCALENDAR