BEGIN:VCALENDAR
VERSION:2.0
PRODID:-//Kap2Cap - ECPv6.15.16//NONSGML v1.0//EN
CALSCALE:GREGORIAN
METHOD:PUBLISH
X-WR-CALNAME:Kap2Cap
X-ORIGINAL-URL:https://kap2cap.fr
X-WR-CALDESC:Évènements pour Kap2Cap
REFRESH-INTERVAL;VALUE=DURATION:PT1H
X-Robots-Tag:noindex
X-PUBLISHED-TTL:PT1H
BEGIN:VTIMEZONE
TZID:Europe/Paris
BEGIN:DAYLIGHT
TZOFFSETFROM:+0100
TZOFFSETTO:+0200
TZNAME:CEST
DTSTART:20230326T010000
END:DAYLIGHT
BEGIN:STANDARD
TZOFFSETFROM:+0200
TZOFFSETTO:+0100
TZNAME:CET
DTSTART:20231029T010000
END:STANDARD
BEGIN:DAYLIGHT
TZOFFSETFROM:+0100
TZOFFSETTO:+0200
TZNAME:CEST
DTSTART:20240331T010000
END:DAYLIGHT
BEGIN:STANDARD
TZOFFSETFROM:+0200
TZOFFSETTO:+0100
TZNAME:CET
DTSTART:20241027T010000
END:STANDARD
BEGIN:DAYLIGHT
TZOFFSETFROM:+0100
TZOFFSETTO:+0200
TZNAME:CEST
DTSTART:20250330T010000
END:DAYLIGHT
BEGIN:STANDARD
TZOFFSETFROM:+0200
TZOFFSETTO:+0100
TZNAME:CET
DTSTART:20251026T010000
END:STANDARD
END:VTIMEZONE
BEGIN:VEVENT
DTSTART;TZID=Europe/Paris:20240622T080000
DTEND;TZID=Europe/Paris:20240623T170000
DTSTAMP:20260420T043233
CREATED:20240306T084917Z
LAST-MODIFIED:20240306T085304Z
UID:32195-1719043200-1719162000@kap2cap.fr
SUMMARY:3AS Days (3AS Racing)
DESCRIPTION:Une tradition qui se perpétue\nDepuis sa création en 2015 par Frédéric Lemeunier\, la figure emblématique à la tête de 3AS Racing et initiateur du désormais célèbre Beach Cross de Berck\, l’entreprise s’est imposée comme une référence incontournable dans l’univers du motocross et de l’enduro. La genèse des 3AS Days\, née d’une passion ardente pour le deux-roues et le désir de rassembler une communauté de passionnés\, a marqué les esprits dès sa première édition en 2022. Cette année\, l’événement promet de revenir en force avec une édition 2024 qui s’annonce déjà historique. Les 3AS Days 2024 : Le rendez-vous des passionnés d’enduro. \nAnnoncé avec enthousiasme\nLe week-end du 22 et 23 juin 2024\, la Haute-Vienne vibrera au rythme des 3AS Days\, un événement qui se tiendra sur le prestigieux site du Centre TT de Christophe Meillat\, situé à une encablure de Limoges. Avec ses 20 hectares dédiés à la passion du tout-terrain\, le site accueillera les participants pour une aventure hors du commun\, orchestrée par Christophe Meillat lui-même\, une légende vivante de l’enduro avec plus de 40 ans de licence FFM et un palmarès impressionnant. \nUne expérience unique\nLes participants parcourront 120 km le samedi. Ils suivront deux boucles distinctes. Cela offre une expérience variée. Dimanche\, ils feront la boucle du samedi à l’inverse. Cela ajoute originalité et défi. L’après-midi sera dédié à des spéciales. Un parcours extrême testera leurs limites. Tout cela dans un esprit convivial et non compétitif. \nPlus qu’une simple course\nLes 3AS Days se distinguent par leur approche familiale et conviviale\, mettant en avant le partage et la passion commune pour l’enduro. Au-delà de l’aspect sportif\, l’événement se veut être un véritable festival célébrant la moto sous toutes ses formes. Un grand chapiteau accueillera 250 places assises pour des moments de détente et de convivialité\, tandis qu’un village motos permettra aux participants et visiteurs de découvrir les nouveautés du secteur\, d’essayer des motos et d’échanger avec les professionnels et passionnés du milieu.
URL:https://kap2cap.fr/evenement/3as-days-3as-racing/
LOCATION:Compreignac\, Centre tout-Terrain Christophe Meillat\, Compreignac\, 87140\, France
CATEGORIES:Randonnées
ATTACH;FMTTYPE=image/jpeg:https://kap2cap.fr/assets/truploads/2024/03/2024_3AS_Days.jpg
END:VEVENT
END:VCALENDAR