BEGIN:VCALENDAR
VERSION:2.0
PRODID:-//Kap2Cap - ECPv6.15.16//NONSGML v1.0//EN
CALSCALE:GREGORIAN
METHOD:PUBLISH
X-WR-CALNAME:Kap2Cap
X-ORIGINAL-URL:https://kap2cap.fr
X-WR-CALDESC:Évènements pour Kap2Cap
REFRESH-INTERVAL;VALUE=DURATION:PT1H
X-Robots-Tag:noindex
X-PUBLISHED-TTL:PT1H
BEGIN:VTIMEZONE
TZID:Europe/Paris
BEGIN:DAYLIGHT
TZOFFSETFROM:+0100
TZOFFSETTO:+0200
TZNAME:CEST
DTSTART:20220327T010000
END:DAYLIGHT
BEGIN:STANDARD
TZOFFSETFROM:+0200
TZOFFSETTO:+0100
TZNAME:CET
DTSTART:20221030T010000
END:STANDARD
BEGIN:DAYLIGHT
TZOFFSETFROM:+0100
TZOFFSETTO:+0200
TZNAME:CEST
DTSTART:20230326T010000
END:DAYLIGHT
BEGIN:STANDARD
TZOFFSETFROM:+0200
TZOFFSETTO:+0100
TZNAME:CET
DTSTART:20231029T010000
END:STANDARD
BEGIN:DAYLIGHT
TZOFFSETFROM:+0100
TZOFFSETTO:+0200
TZNAME:CEST
DTSTART:20240331T010000
END:DAYLIGHT
BEGIN:STANDARD
TZOFFSETFROM:+0200
TZOFFSETTO:+0100
TZNAME:CET
DTSTART:20241027T010000
END:STANDARD
END:VTIMEZONE
BEGIN:VEVENT
DTSTART;TZID=Europe/Paris:20230422T083000
DTEND;TZID=Europe/Paris:20230422T170000
DTSTAMP:20260420T121855
CREATED:20230302T084309Z
LAST-MODIFIED:20241215T192238Z
UID:26851-1682152200-1682182800@kap2cap.fr
SUMMARY:Rando Trail (Ardeche-Moto-Rando)
DESCRIPTION:Boucle d’environ 130kms\nRando adaptée au niveau du groupe\nPas de débutant\, expérience minimum exigé en Tout terrain\n6 pers max\nRepas midi en auberge (25€ environ en +)\nDépart Davezieux
URL:https://kap2cap.fr/evenement/rando-trail-ardeche-moto-rando/
CATEGORIES:Randonnées
ATTACH;FMTTYPE=image/jpeg:https://kap2cap.fr/assets/truploads/2023/03/2023_Rando_Ardeche_Moto-Rando.jpg
ORGANIZER;CN="Ardeche Moto Rando":MAILTO:contact@ardeche-moto-rando.fr
END:VEVENT
END:VCALENDAR