BEGIN:VCALENDAR
VERSION:2.0
PRODID:-//Kap2Cap - ECPv6.15.16//NONSGML v1.0//EN
CALSCALE:GREGORIAN
METHOD:PUBLISH
X-ORIGINAL-URL:https://kap2cap.fr
X-WR-CALDESC:Évènements pour Kap2Cap
REFRESH-INTERVAL;VALUE=DURATION:PT1H
X-Robots-Tag:noindex
X-PUBLISHED-TTL:PT1H
BEGIN:VTIMEZONE
TZID:Europe/Paris
BEGIN:DAYLIGHT
TZOFFSETFROM:+0100
TZOFFSETTO:+0200
TZNAME:CEST
DTSTART:20220327T010000
END:DAYLIGHT
BEGIN:STANDARD
TZOFFSETFROM:+0200
TZOFFSETTO:+0100
TZNAME:CET
DTSTART:20221030T010000
END:STANDARD
BEGIN:DAYLIGHT
TZOFFSETFROM:+0100
TZOFFSETTO:+0200
TZNAME:CEST
DTSTART:20230326T010000
END:DAYLIGHT
BEGIN:STANDARD
TZOFFSETFROM:+0200
TZOFFSETTO:+0100
TZNAME:CET
DTSTART:20231029T010000
END:STANDARD
BEGIN:DAYLIGHT
TZOFFSETFROM:+0100
TZOFFSETTO:+0200
TZNAME:CEST
DTSTART:20240331T010000
END:DAYLIGHT
BEGIN:STANDARD
TZOFFSETFROM:+0200
TZOFFSETTO:+0100
TZNAME:CET
DTSTART:20241027T010000
END:STANDARD
BEGIN:DAYLIGHT
TZOFFSETFROM:+0100
TZOFFSETTO:+0200
TZNAME:CEST
DTSTART:20250330T010000
END:DAYLIGHT
BEGIN:STANDARD
TZOFFSETFROM:+0200
TZOFFSETTO:+0100
TZNAME:CET
DTSTART:20251026T010000
END:STANDARD
BEGIN:DAYLIGHT
TZOFFSETFROM:+0100
TZOFFSETTO:+0200
TZNAME:CEST
DTSTART:20260329T010000
END:DAYLIGHT
BEGIN:STANDARD
TZOFFSETFROM:+0200
TZOFFSETTO:+0100
TZNAME:CET
DTSTART:20261025T010000
END:STANDARD
END:VTIMEZONE
BEGIN:VEVENT
DTSTART;TZID=Europe/Paris:20250125T080000
DTEND;TZID=Europe/Paris:20250126T170000
DTSTAMP:20260420T012924
CREATED:20241214T195349Z
LAST-MODIFIED:20241214T200028Z
UID:34044-1737792000-1737910800@kap2cap.fr
SUMMARY:Formation tracé GPX (Arnaud Piozin)
DESCRIPTION:Vous souhaitez rouler en offroad près de chez vous\, à moto\, 4×4 ou quad\, mais vous ne savez pas comment vous y prendre?\nCette formation répondra à vos attentes pour préparer de A à Z le tracé GPX de votre futur randonnée.\n\n\n\nGuide professionnel\, je vous ferai profiter de mon expérience en tout-terrain. Nous pourrons également échanger sur la pratique de cette disciple et sur le partage des chemins.\n\n\n\n Réglementation / législation. \nCirculation dans les chemins\, prévention.\n\n\n Topographie. \nLecture et analyse d’une carte IGN.\n\n\n Présentation d’outils nécessaires à la réalisation d’un GPX. \nCadastre\, sites\, logiciels etc.\n\n\n Méthode de travail. \nJe vous présente mon procédé et ma méthodologie étape par étape.\n\n\n Atelier créer son .GPX \nMise en pratique et création de sa propre trace.\n\n\n Manipuler un fichier .GPX \nModifications\, transfert\, convertir etc.\n\n\n\n Langeac (43)\n 25 – 26 Janvier 2025\n Petit groupe\, 5 personnes.\n 159€ (hors hébergement et repas)\nHébergement en demi pension possible (80€\, 60€ si chambre partagée)
URL:https://kap2cap.fr/evenement/formation-trace-gpx-arnaud-piozin/
LOCATION:langeac\, Langeac\, 43300\, France
CATEGORIES:Stages et Formations
ATTACH;FMTTYPE=image/png:https://kap2cap.fr/assets/truploads/2024/12/2025_Formation_GPX.png
ORGANIZER;CN="Arnaud Piozin":MAILTO:arnaud-piozin@yahoo.com
GEO:45.098487;3.494353
END:VEVENT
BEGIN:VEVENT
DTSTART;TZID=Europe/Paris:20240524T080000
DTEND;TZID=Europe/Paris:20240526T170000
DTSTAMP:20260420T012924
CREATED:20230417T071303Z
LAST-MODIFIED:20240122T083206Z
UID:27738-1716537600-1716742800@kap2cap.fr
SUMMARY:Stage Trail débutant (Arnaud Piozin)
DESCRIPTION:Le but de ce stage est de vous faire découvrir les bases du pilotage off-road\, maîtriser sa moto et gagner en confiance. \nLes journées de stage se dérouleront en deux parties : Matin\, ateliers et exercices sur terrain privé. Après-midi\, randonnée et mise en pratique. \nNous mettrons en place des exercices qui vous permettrons une meilleur maîtrise de votre moto. \nLes techniques abordées tout au long du week-end \, avec mise en application en randonnée\, vous emmèneront à gagner en confiance en vous et ainsi à rouler en sécurité.
URL:https://kap2cap.fr/evenement/stage-rail-debutant-arnaud-piozin/
LOCATION:FRANCE
CATEGORIES:Stages et Formations
ATTACH;FMTTYPE=image/jpeg:https://kap2cap.fr/assets/truploads/2023/04/2024_Stage_Trail_Debutant.jpg
ORGANIZER;CN="Arnaud Piozin":MAILTO:arnaud-piozin@yahoo.com
END:VEVENT
BEGIN:VEVENT
DTSTART;TZID=Europe/Paris:20240524T080000
DTEND;TZID=Europe/Paris:20240526T170000
DTSTAMP:20260420T012924
CREATED:20230414T184830Z
LAST-MODIFIED:20240308T082338Z
UID:27719-1716537600-1716742800@kap2cap.fr
SUMMARY:Stage moto Trail débutant (Arnaud Piozin)
DESCRIPTION:Le but de ce stage est de vous faire découvrir les bases du pilotage off-road\, maîtriser sa moto et gagner en confiance. \nLes journées de stage se dérouleront en deux parties : Matin\, ateliers et exercices sur terrain privé. Après-midi\, randonnée et mise en pratique. \nNous mettrons en place des exercices qui vous permettrons une meilleur maîtrise de votre moto. \nLes techniques abordées tout au long du week-end \, avec mise en application en randonnée\, vous emmèneront à gagner en confiance en vous et ainsi à rouler en sécurité.
URL:https://kap2cap.fr/evenement/randonnee-trails-en-auvergne-arnaud-piozin/
LOCATION:FRANCE
CATEGORIES:Stages et Formations
ATTACH;FMTTYPE=image/png:https://kap2cap.fr/assets/truploads/2023/04/2024_Stage_moto_trail.png
ORGANIZER;CN="Arnaud Piozin":MAILTO:arnaud-piozin@yahoo.com
END:VEVENT
BEGIN:VEVENT
DTSTART;TZID=Europe/Paris:20240315T080000
DTEND;TZID=Europe/Paris:20240317T170000
DTSTAMP:20260420T012924
CREATED:20230417T070706Z
LAST-MODIFIED:20241215T192413Z
UID:27734-1710489600-1710694800@kap2cap.fr
SUMMARY:Stage enduro débutant (Arnaud Piozin)
DESCRIPTION:Le but de ce stage est de vous faire découvrir les bases du pilotage enduro\, maîtriser sa moto et gagner en confiance. \nLes journées de stage se dérouleront en deux parties : Matin\, ateliers et exercices sur terrain privé. Après-midi\, randonnée et mise en pratique. \nNous mettrons en place des exercices qui vous permettrons une meilleur maîtrise de votre moto. \nLes techniques abordées tout au long du week-end \, avec mise en application en randonnée\, vous emmèneront à gagner en confiance en vous et ainsi à rouler en sécurité.
URL:https://kap2cap.fr/evenement/stage-enduro-debutant-arnaud-piozin/
LOCATION:FRANCE
CATEGORIES:Stages et Formations
ATTACH;FMTTYPE=image/jpeg:https://kap2cap.fr/assets/truploads/2023/04/2024_Stage_Enduro_Debutant.jpg
ORGANIZER;CN="Arnaud Piozin":MAILTO:arnaud-piozin@yahoo.com
END:VEVENT
BEGIN:VEVENT
DTSTART;TZID=Europe/Paris:20230505T080000
DTEND;TZID=Europe/Paris:20230507T170000
DTSTAMP:20260420T012924
CREATED:20230417T070016Z
LAST-MODIFIED:20230417T070327Z
UID:27729-1683273600-1683478800@kap2cap.fr
SUMMARY:Randonnée Trail Haute Loire (Arnaud Piozin)
DESCRIPTION:Grâce à mon partenaire MotoRoadTrip\, en plus de mes randonnées à la carte (dates et parcours modifiables)\, je propose un week-end planifié du 5 au 7 mai 2023. \nGuide diplômé par la FFM\, je vous invite à venir découvrir ce magnifique département méconnu de l’Auvergne\, la Haute-Loire.\nAprès ce road trip avec vos motos de trail et maxi-trail\, 80% offroad / route\, ce superbe terrain de jeu n’aura plus de secret pour vous.\nLe voyage est accessible à tout le monde\, car fun et découverte seront les maîtres motos.\nLe but de ces deux jours est de découvrir le patrimoine exceptionnel et le paysage basaltique de la Haute-Loire. \nLes départs se feront de Langeac\, deux boucles sont prévues au programme.\nChaque boucle fait entre 150km et 180km en fonction du niveau des clients. \nTout au long des arrêts sur les sites remarquables choisis\, je vous partagerais mes connaissances sur le patrimoine\, l’histoire et la géologie de la région. \nCircuit accessible à tous si vous avez déjà pratiqué l’off-road. \nDéroulement du week-end : \nLieu de départ et retour\, Langeac.\n*arrivée préférable le vendredi soir\, afin de faire connaissance pendant le repas \n-samedi matin\, départ après le petit déjeuner vers 8H30\nNous laisserons les remorques et camions si besoin à l’hôtel / gîte\n-samedi midi : arrêt dans un restaurant\n-samedi soir : retour à l’hôtel. \n-Dimanche matin\, départ pour la 2ème boucle\, après le petit déjeuner vers 8H30\n-Dimanche midi : arrêt dans un restaurant\n-Dimanche en fin d’après-midi : retour à l’hôtel.\npossibilité de dormir dans cet hôtel pour la nuit du dimanche.
URL:https://kap2cap.fr/evenement/randonnee-trail-haute-loire-arnaud-piozin/
LOCATION:FRANCE
CATEGORIES:Randonnées
ATTACH;FMTTYPE=image/jpeg:https://kap2cap.fr/assets/truploads/2023/04/2023_Trail_Haute_Loire.jpg
ORGANIZER;CN="Arnaud Piozin":MAILTO:arnaud-piozin@yahoo.com
END:VEVENT
END:VCALENDAR