BEGIN:VCALENDAR
VERSION:2.0
PRODID:-//Kap2Cap - ECPv6.15.16//NONSGML v1.0//EN
CALSCALE:GREGORIAN
METHOD:PUBLISH
X-ORIGINAL-URL:https://kap2cap.fr
X-WR-CALDESC:Évènements pour Kap2Cap
REFRESH-INTERVAL;VALUE=DURATION:PT1H
X-Robots-Tag:noindex
X-PUBLISHED-TTL:PT1H
BEGIN:VTIMEZONE
TZID:Europe/Paris
BEGIN:DAYLIGHT
TZOFFSETFROM:+0100
TZOFFSETTO:+0200
TZNAME:CEST
DTSTART:20230326T010000
END:DAYLIGHT
BEGIN:STANDARD
TZOFFSETFROM:+0200
TZOFFSETTO:+0100
TZNAME:CET
DTSTART:20231029T010000
END:STANDARD
BEGIN:DAYLIGHT
TZOFFSETFROM:+0100
TZOFFSETTO:+0200
TZNAME:CEST
DTSTART:20240331T010000
END:DAYLIGHT
BEGIN:STANDARD
TZOFFSETFROM:+0200
TZOFFSETTO:+0100
TZNAME:CET
DTSTART:20241027T010000
END:STANDARD
BEGIN:DAYLIGHT
TZOFFSETFROM:+0100
TZOFFSETTO:+0200
TZNAME:CEST
DTSTART:20250330T010000
END:DAYLIGHT
BEGIN:STANDARD
TZOFFSETFROM:+0200
TZOFFSETTO:+0100
TZNAME:CET
DTSTART:20251026T010000
END:STANDARD
END:VTIMEZONE
BEGIN:VEVENT
DTSTART;TZID=Europe/Paris:20240804T090000
DTEND;TZID=Europe/Paris:20240809T170000
DTSTAMP:20260419T201843
CREATED:20240430T080633Z
LAST-MODIFIED:20240430T080633Z
UID:32429-1722762000-1723222800@kap2cap.fr
SUMMARY:Trans'Alpes (Axuri Trail)
DESCRIPTION:Des espaces préservés\, des panoramas grandioses\, une sensation de liberté et un émerveillement qui ne vous quittera pas de la première à la dernière heure de ce raid d’exception \n6 Jours pour vivre la formidable aventure de la Grande Traversée des Alpes au guidon de votre bécane \nVous rallierez en 4 étapes Thonon les bains à Menton dans les Alpes Maritime. \nDu pied du Mont Blanc au bleu de la Méditerranée\, vous plongerez longuement au cœur de ces grandes étendues sauvages \nEntre France et Italie\, 1200 km d’un parcours fait de pistes et de routes qui vous conduira à côtoyer les glaciers et les précipices. \nVous sinuerez le long des champs de neige et surprendrez les torrents à leur source.
URL:https://kap2cap.fr/evenement/transalpes-axuri-trail/
LOCATION:Annecy\, Annecy\, 74000\, France
CATEGORIES:Randonnées
ATTACH;FMTTYPE=image/jpeg:https://kap2cap.fr/assets/truploads/2024/04/2024_trans_alpes.jpg
END:VEVENT
BEGIN:VEVENT
DTSTART;TZID=Europe/Paris:20240628T070000
DTEND;TZID=Europe/Paris:20240630T180000
DTSTAMP:20260419T201843
CREATED:20240430T074932Z
LAST-MODIFIED:20240430T080932Z
UID:32424-1719558000-1719770400@kap2cap.fr
SUMMARY:Axurit camp Aquitaine (Axuri Trail)
DESCRIPTION:Évadez-vous pour une aventure exceptionnelle de 3 jours dans l’ Aquitaine \nCe raid extraordinaire sur chemins et routes sinueuses vous éblouira avec des paysages et panoramas somptueux. \nUn Raid off-road en trèfle avec une ambiance conviviale. \n L’équipe AxuriTrail vous propose une aventure qui allie confort\, sportivité et dépaysement. Elle est ouverte à toutes types de trails et maxi-trails. \nLes pistes roulantes vous donnent la sensation d’être au bout du monde alors prenez le temps de vous arrêter pour admirer ce paysage.
URL:https://kap2cap.fr/evenement/axurit-camp-aquitaine/
LOCATION:Monflanquin\, Montflanquin\, 47150\, France
CATEGORIES:Raids
ATTACH;FMTTYPE=image/jpeg:https://kap2cap.fr/assets/truploads/2024/04/2024_axurit_camp_aquitaine.jpg
END:VEVENT
END:VCALENDAR