BEGIN:VCALENDAR
VERSION:2.0
PRODID:-//Kap2Cap - ECPv6.15.16//NONSGML v1.0//EN
CALSCALE:GREGORIAN
METHOD:PUBLISH
X-ORIGINAL-URL:https://kap2cap.fr
X-WR-CALDESC:Évènements pour Kap2Cap
REFRESH-INTERVAL;VALUE=DURATION:PT1H
X-Robots-Tag:noindex
X-PUBLISHED-TTL:PT1H
BEGIN:VTIMEZONE
TZID:Europe/Paris
BEGIN:DAYLIGHT
TZOFFSETFROM:+0100
TZOFFSETTO:+0200
TZNAME:CEST
DTSTART:20220327T010000
END:DAYLIGHT
BEGIN:STANDARD
TZOFFSETFROM:+0200
TZOFFSETTO:+0100
TZNAME:CET
DTSTART:20221030T010000
END:STANDARD
BEGIN:DAYLIGHT
TZOFFSETFROM:+0100
TZOFFSETTO:+0200
TZNAME:CEST
DTSTART:20230326T010000
END:DAYLIGHT
BEGIN:STANDARD
TZOFFSETFROM:+0200
TZOFFSETTO:+0100
TZNAME:CET
DTSTART:20231029T010000
END:STANDARD
BEGIN:DAYLIGHT
TZOFFSETFROM:+0100
TZOFFSETTO:+0200
TZNAME:CEST
DTSTART:20240331T010000
END:DAYLIGHT
BEGIN:STANDARD
TZOFFSETFROM:+0200
TZOFFSETTO:+0100
TZNAME:CET
DTSTART:20241027T010000
END:STANDARD
END:VTIMEZONE
BEGIN:VEVENT
DTSTART;TZID=Europe/Paris:20230602T080000
DTEND;TZID=Europe/Paris:20230604T170000
DTSTAMP:20260420T062903
CREATED:20230309T100617Z
LAST-MODIFIED:20230309T101239Z
UID:27066-1685692800-1685898000@kap2cap.fr
SUMMARY:Sardegna Legend Rally (Bikevillage / Owaka)
DESCRIPTION:Programmé sur la distance de 3 étapes\, le Sardegna Legend Rally est l’événement Bike Village\, un événement unique et non compétitif\, à vivre intensément\, de plus en plus passionnant d’année en année. l’ambiance est\, logiquement\, plus détendue que celles des Rallye-Raids\, les points de ravitaillement désormais célèbres sont remplacés par les bivouacs et la « remise des prix » est une grande fête finale avec barbecue.
URL:https://kap2cap.fr/evenement/sardegna-legend-rally-bikevillage-owaka/
LOCATION:SARDAIGNE
CATEGORIES:Rallyes raids
ATTACH;FMTTYPE=image/jpeg:https://kap2cap.fr/assets/truploads/2023/03/2023_Sardegna_Legend_Rally.jpg
END:VEVENT
END:VCALENDAR