BEGIN:VCALENDAR
VERSION:2.0
PRODID:-//Kap2Cap - ECPv6.15.16//NONSGML v1.0//EN
CALSCALE:GREGORIAN
METHOD:PUBLISH
X-WR-CALNAME:Kap2Cap
X-ORIGINAL-URL:https://kap2cap.fr
X-WR-CALDESC:Évènements pour Kap2Cap
REFRESH-INTERVAL;VALUE=DURATION:PT1H
X-Robots-Tag:noindex
X-PUBLISHED-TTL:PT1H
BEGIN:VTIMEZONE
TZID:Europe/Paris
BEGIN:DAYLIGHT
TZOFFSETFROM:+0100
TZOFFSETTO:+0200
TZNAME:CEST
DTSTART:20230326T010000
END:DAYLIGHT
BEGIN:STANDARD
TZOFFSETFROM:+0200
TZOFFSETTO:+0100
TZNAME:CET
DTSTART:20231029T010000
END:STANDARD
BEGIN:DAYLIGHT
TZOFFSETFROM:+0100
TZOFFSETTO:+0200
TZNAME:CEST
DTSTART:20240331T010000
END:DAYLIGHT
BEGIN:STANDARD
TZOFFSETFROM:+0200
TZOFFSETTO:+0100
TZNAME:CET
DTSTART:20241027T010000
END:STANDARD
BEGIN:DAYLIGHT
TZOFFSETFROM:+0100
TZOFFSETTO:+0200
TZNAME:CEST
DTSTART:20250330T010000
END:DAYLIGHT
BEGIN:STANDARD
TZOFFSETFROM:+0200
TZOFFSETTO:+0100
TZNAME:CET
DTSTART:20251026T010000
END:STANDARD
END:VTIMEZONE
BEGIN:VEVENT
DTSTART;TZID=Europe/Paris:20240517T080000
DTEND;TZID=Europe/Paris:20240520T170000
DTSTAMP:20260420T044859
CREATED:20231129T084209Z
LAST-MODIFIED:20231129T084551Z
UID:29756-1715932800-1716224400@kap2cap.fr
SUMMARY:Paris le Cap Ferret (Bullsport)
DESCRIPTION:Pour qui ?Vous avez entre 14 et 94 ans\, c’est l’occasion de sortir\, ou de trouver\, une mob pour une traversée touristique d’une France sauvage et méconnue\, au guidon de votre 50 préféré. A vivre en solo\, entre potes ou en famille.\nPour les mineurs le BSR et une autorisation parentale ou tutorale seront demandés. \nPar où ? _ de Paris au Cap Ferret\, en 4 jours\, au guidon de votre « mob » pour une traversée rocambolesque de la France par les petites et très petites routes + quelques Poujoulade. \nSur quoi ? Ouvert à tous les 50cc\, sans exception\, de la bleue de votre arrière grand-mère\, voir même la votre au dernier scoot tout neuf modèle 2024 et qui n’est pas encore sorti ;-). Une seule obligation\, il doit être homologué\, assuré et disposer d’une carte grise. Certains 70cc et 80cc seront tolérés\, Dax\, Gt\, Ty … \nPourquoi ? Tout simplement prendre du temps\, et redécouvrir l’essence même du voyage en deux roues\, à faire en solo\, entre potes ou famille. \nComment ? Navigation avec trace GPX pour un rythme libre et adapté à chacun. \nCombien ? entre 150 et 210 kms par jour. \nLe parcours proposé est libre et sans obligation de suivi\, pour vous laisser profiter de votre échappée\, nous vous fournissons une trace GPX et/ou un road-book Tripy qui vous permettront de rouler en totale autonomie et à votre rythme. Chaque soir\, nous vous retrouvons pour le dîner sur notre bivouac équipé de douches et sanitaires où vous pourrez installer votre tente.
URL:https://kap2cap.fr/evenement/paris-le-cap-ferret-bullsport/
LOCATION:FRANCE
CATEGORIES:Mob
ATTACH;FMTTYPE=image/jpeg:https://kap2cap.fr/assets/truploads/2023/11/2024_Paris_le_Cap_Ferret-2.jpg
END:VEVENT
BEGIN:VEVENT
DTSTART;TZID=Europe/Paris:20240413T080000
DTEND;TZID=Europe/Paris:20240424T170000
DTSTAMP:20260420T044859
CREATED:20240104T083814Z
LAST-MODIFIED:20240104T084034Z
UID:30913-1712995200-1713978000@kap2cap.fr
SUMMARY:La TransAtlas 1er Paris Merzouga (Bullsport)
DESCRIPTION:Et si\, nous réinventions l’histoire en décidant tout simplement\, de repartir à moto de Paris en direction des dunes… \nLa Trans’Atlas est une rando-raid sur 12 jours réservée aux Trails\, pour cette première édition\, nous limitons les inscriptions à 50 pilotes. \nEn cas de fatigue\, sur les trois dernières étapes au Maroc\, des variantes plus faciles avec moins de hors-pistes et moins de sables seront installées sur les GPS Tripy.
URL:https://kap2cap.fr/evenement/la-transatlas-1er-paris-merzouga-bullsport/
LOCATION:MAROC\, Morocco
CATEGORIES:Raids
ATTACH;FMTTYPE=image/jpeg:https://kap2cap.fr/assets/truploads/2024/01/2024_TransAtlas.jpg
GEO:31.791702;-7.09262
END:VEVENT
END:VCALENDAR