BEGIN:VCALENDAR
VERSION:2.0
PRODID:-//Kap2Cap - ECPv6.15.16//NONSGML v1.0//EN
CALSCALE:GREGORIAN
METHOD:PUBLISH
X-WR-CALNAME:Kap2Cap
X-ORIGINAL-URL:https://kap2cap.fr
X-WR-CALDESC:Évènements pour Kap2Cap
REFRESH-INTERVAL;VALUE=DURATION:PT1H
X-Robots-Tag:noindex
X-PUBLISHED-TTL:PT1H
BEGIN:VTIMEZONE
TZID:Europe/Paris
BEGIN:DAYLIGHT
TZOFFSETFROM:+0100
TZOFFSETTO:+0200
TZNAME:CEST
DTSTART:20220327T010000
END:DAYLIGHT
BEGIN:STANDARD
TZOFFSETFROM:+0200
TZOFFSETTO:+0100
TZNAME:CET
DTSTART:20221030T010000
END:STANDARD
BEGIN:DAYLIGHT
TZOFFSETFROM:+0100
TZOFFSETTO:+0200
TZNAME:CEST
DTSTART:20230326T010000
END:DAYLIGHT
BEGIN:STANDARD
TZOFFSETFROM:+0200
TZOFFSETTO:+0100
TZNAME:CET
DTSTART:20231029T010000
END:STANDARD
BEGIN:DAYLIGHT
TZOFFSETFROM:+0100
TZOFFSETTO:+0200
TZNAME:CEST
DTSTART:20240331T010000
END:DAYLIGHT
BEGIN:STANDARD
TZOFFSETFROM:+0200
TZOFFSETTO:+0100
TZNAME:CET
DTSTART:20241027T010000
END:STANDARD
END:VTIMEZONE
BEGIN:VEVENT
DTSTART;TZID=Europe/Paris:20230618T080000
DTEND;TZID=Europe/Paris:20230618T170000
DTSTAMP:20260420T062806
CREATED:20230404T143148Z
LAST-MODIFIED:20230404T144243Z
UID:27610-1687075200-1687107600@kap2cap.fr
SUMMARY:Balade Motos Pont de Buis les Quimerch'h
DESCRIPTION:Si vous souhaitez voir le sourire d’Ethan et aider l’association\, venez nombreux rouler avec nous le 18 juin 2023. Rendez-vous sur le parking de l’espace François Mitterrand de Pont de Buis.\n\n\nLa Team Cœur de Breizh 29.
URL:https://kap2cap.fr/evenement/balade-motos-pont-de-buis-les-quimerchh/
LOCATION:FRANCE
CATEGORIES:Balade motos
ATTACH;FMTTYPE=image/jpeg:https://kap2cap.fr/assets/truploads/2023/04/2023_Balade_PontdeBuis.jpg
ORGANIZER;CN="Coeur de Breizh":MAILTO:asso.coeurdebreizh29@orange.fr
END:VEVENT
END:VCALENDAR