BEGIN:VCALENDAR
VERSION:2.0
PRODID:-//Kap2Cap - ECPv6.15.16//NONSGML v1.0//EN
CALSCALE:GREGORIAN
METHOD:PUBLISH
X-ORIGINAL-URL:https://kap2cap.fr
X-WR-CALDESC:Évènements pour Kap2Cap
REFRESH-INTERVAL;VALUE=DURATION:PT1H
X-Robots-Tag:noindex
X-PUBLISHED-TTL:PT1H
BEGIN:VTIMEZONE
TZID:Europe/Paris
BEGIN:DAYLIGHT
TZOFFSETFROM:+0100
TZOFFSETTO:+0200
TZNAME:CEST
DTSTART:20230326T010000
END:DAYLIGHT
BEGIN:STANDARD
TZOFFSETFROM:+0200
TZOFFSETTO:+0100
TZNAME:CET
DTSTART:20231029T010000
END:STANDARD
BEGIN:DAYLIGHT
TZOFFSETFROM:+0100
TZOFFSETTO:+0200
TZNAME:CEST
DTSTART:20240331T010000
END:DAYLIGHT
BEGIN:STANDARD
TZOFFSETFROM:+0200
TZOFFSETTO:+0100
TZNAME:CET
DTSTART:20241027T010000
END:STANDARD
BEGIN:DAYLIGHT
TZOFFSETFROM:+0100
TZOFFSETTO:+0200
TZNAME:CEST
DTSTART:20250330T010000
END:DAYLIGHT
BEGIN:STANDARD
TZOFFSETFROM:+0200
TZOFFSETTO:+0100
TZNAME:CET
DTSTART:20251026T010000
END:STANDARD
END:VTIMEZONE
BEGIN:VEVENT
DTSTART;TZID=Europe/Paris:20240513T080000
DTEND;TZID=Europe/Paris:20240518T170000
DTSTAMP:20260420T061142
CREATED:20240212T075102Z
LAST-MODIFIED:20240212T075610Z
UID:31789-1715587200-1716051600@kap2cap.fr
SUMMARY:Stage Raid et Rallye au Maroc (David Frétigné)
DESCRIPTION:Venez-vous entrainer sur les pistes du Maroc pour apprendre ou vous perfectionner au pilotage Raid ou Rallye Raid ! \nLe programme : 6 jours de roulage au guidon de votre trail\, dans le désert entre les dunes de Merzouga et de Chegaga. Pistes caillouteuses et sablonneuses\, dunes\, traversées d’oued\, navigation au cap au cœur du désert\, autant de points essentiels pour réussir votre prochain raid ou rallye raid. Trace sur GPS pour les pilotes préparant un raid\, roadbook papier pour les pilotes préparant un rallye raid. JC Aventure et David Frétigné seront à vos côtés pour vous apprendre les différentes techniques de pilotage et de navigation\, mais également vous conseiller sur l’équipement du pilote et de la moto. Tout au long du parcours des points formation seront proposés sur les différents passages techniques. \nCe stage est ouvert aux pilotes possesseurs d’un tail ayant déjà une première expérience en tout terrain et qui souhaitent améliorer leur pratique dans le sable et sur des pistes caillouteuses. Les personnes en situation de handicap sont les bienvenues dès lors que leur handicap permet le pilotage d’une moto\, une prise contact est conseillée avant l’inscription afin de valider la faisabilité et le cas échéant pour étudier les aménagements à prévoir. \nLa logistique : Hébergement en hôtel ou en auberge en pension complète avec en cours de parcours un bivouac en plein désert. Véhicule d’assistance pour le transport de vos affaires personnelles. Navette de l’aéroport à l’hôtel pour l’arrivée et le départ de Errachidia. Transport de votre moto depuis la France ou location d’une moto sur place (450 enduro). \nDeux points de récupération des motos en France : Saintes (17) ou Villefranche de Rouergue (12). Les motos seront récupérées quelques jours avant le départ. Elles seront ensuite ramenées dans les jours qui suivent la fin du stage. \nL’encadrement : JC Aventure\, dirigée par Jean-Christophe Ménard\, moniteur moto depuis 30 ans et plusieurs fois « finisher » au Dakar\, vous propose un roulage d’entraînement au Raid et Rallye Raid en compagnie de David Frétigné. David Frétigné\, éducateur moto diplômé d’un brevet d’Etat et dirigeant du Honda Off Road Center\, ancien pilote professionnel plusieurs fois champion du monde d’enduro et troisième au Dakar sera à vos côtés tout au long de cet entrainement.
URL:https://kap2cap.fr/evenement/stage-raid-et-rallye-au-maroc-david-fretigne/
LOCATION:MAROC\, Morocco
CATEGORIES:Stages et Formations
ATTACH;FMTTYPE=image/jpeg:https://kap2cap.fr/assets/truploads/2024/02/2024_Stage_Trail_Maroc.jpg
ORGANIZER;CN="David Fr%C3%A9tign%C3%A9":MAILTO:centredeformationdavidfretigne@gmail.com &lt;centredeformationdavidfretigne@gmail.com
GEO:31.791702;-7.09262
END:VEVENT
END:VCALENDAR