BEGIN:VCALENDAR
VERSION:2.0
PRODID:-//Kap2Cap - ECPv6.15.16//NONSGML v1.0//EN
CALSCALE:GREGORIAN
METHOD:PUBLISH
X-ORIGINAL-URL:https://kap2cap.fr
X-WR-CALDESC:Évènements pour Kap2Cap
REFRESH-INTERVAL;VALUE=DURATION:PT1H
X-Robots-Tag:noindex
X-PUBLISHED-TTL:PT1H
BEGIN:VTIMEZONE
TZID:Europe/Paris
BEGIN:DAYLIGHT
TZOFFSETFROM:+0100
TZOFFSETTO:+0200
TZNAME:CEST
DTSTART:20250330T010000
END:DAYLIGHT
BEGIN:STANDARD
TZOFFSETFROM:+0200
TZOFFSETTO:+0100
TZNAME:CET
DTSTART:20251026T010000
END:STANDARD
BEGIN:DAYLIGHT
TZOFFSETFROM:+0100
TZOFFSETTO:+0200
TZNAME:CEST
DTSTART:20260329T010000
END:DAYLIGHT
BEGIN:STANDARD
TZOFFSETFROM:+0200
TZOFFSETTO:+0100
TZNAME:CET
DTSTART:20261025T010000
END:STANDARD
BEGIN:DAYLIGHT
TZOFFSETFROM:+0100
TZOFFSETTO:+0200
TZNAME:CEST
DTSTART:20270328T010000
END:DAYLIGHT
BEGIN:STANDARD
TZOFFSETFROM:+0200
TZOFFSETTO:+0100
TZNAME:CET
DTSTART:20271031T010000
END:STANDARD
END:VTIMEZONE
BEGIN:VEVENT
DTSTART;TZID=Europe/Paris:20260508T080000
DTEND;TZID=Europe/Paris:20260510T170000
DTSTAMP:20260421T105050
CREATED:20260304T192452Z
LAST-MODIFIED:20260305T192048Z
UID:38284-1778227200-1778432400@kap2cap.fr
SUMMARY:La Picassette VTTAE\, évasion nature à vélo (Détour 2 roues)
DESCRIPTION:La Picassette est une pépite pour ceux qui veulent se dépayser et prendre un bon bol d’embruns le temps d’un week-end ! Ses paysages variés et ses sentiers hyper joueurs vous permettront de découvrir ce petit coin de France situé entre le plateau du Larzac et la Méditerranée. Au départ du Mont Aigoual\, le tracé exclusif Détour2Roues vous fera parcourir le Larzac\, la Vallée de l’Hérault\, le territoire du Pic-St-Loup et le magnifique village de Saint-Guilhem-le-désert. Et pour l’arrivée? Rien de moins que Bouzigues\, son port\, quelques huîtres et un petit verre de blanc… Réservé aux épicuriens émérites ! \n\n\n\nType de randonnée\n\n\n\n\n\n\n Durée\n3 jours / 3 nuits. Pension complète \n\n\n\n\n Hébergement\nEn chambre twin\, hôtels 2 ou 3*** ou chambres d’hôtes. \n\n\n\n\n Restauration\nPique-niques de spécialités locales les midis\, dans des coins sympa\, et dîners au restaurant le soir\, choisis avec soin pour leurs bonnes tables. \n\n\n\n\n Vélos utilisés\nVTTAE personnels des participants. \n\n\n\n\n Parcours\nDe 50 à 70km par jour\, tracés exclusifs Détour2Roues\, choisis pour leur intérêt sportif\, les paysages et la variété de l’itinéraire. Depuis le magnifique site du Mont Aigoual\, vous traversez le plateau du Larzac\, la route des dolmens jusqu’à l »étang de Thau\, où vous dégusterez quelques huîtres bien méritées sur une terrasse où chante l’accent du sud\, 3 jours de déconnexion totale! \n\n\n\n\n Un guide aux petits soins sur tout le parcours \n\n\n\n\n Un camion d’assistance jamais bien loin pour tout dépannage mécanique\, transport de bagages et ravitaillement. \n 
URL:https://kap2cap.fr/evenement/la-picassette/
LOCATION:Meyrueis\, Meyrueis\, 48150\, France
CATEGORIES:Voyages en VTT
ATTACH;FMTTYPE=image/jpeg:https://kap2cap.fr/assets/truploads/2026/03/2026_Picassette.jpeg
ORGANIZER;CN="D%C3%A9tour 2 Roues":MAILTO:info@detour2roues.com
END:VEVENT
BEGIN:VEVENT
DTSTART;TZID=Europe/Paris:20260529T080000
DTEND;TZID=Europe/Paris:20260529T170000
DTSTAMP:20260421T105050
CREATED:20260305T193705Z
LAST-MODIFIED:20260305T194732Z
UID:38307-1780041600-1780074000@kap2cap.fr
SUMMARY:L'Aventoux VTTAE\, évasion nature à vélo (Détour 2 roues)
DESCRIPTION:Une randonnée au cœur du Massif du Luberon qui commence par dévaler les pentes lunaires du Mont Ventoux\, lieu mythique pour tous les amoureux du 2 roues! Après cette descente vertigineuse\, les petits sentiers en sous-bois de chênes verts sont les bienvenus pour se rafraîchir en attendant de croiser le Colorado Provençal\, le merveilleux village de Gordes ou celui de Lourmarin\, en longeant les rivières bleu azur qui jalonnent le parcours. Nous partirons ensuite à la poursuite du deuxième colosse de Provence\, la mythique Sainte-Victoire si chère à Cézanne. Elle nous offrira sa silhouette caractéristique sur toute la fin du parcours\, s’élevant fièrement au-dessus des champs de lavande et de romarin des garrigues. \nType de randonnée\n\n\n Durée\n3 jours / 3 nuits. Pension complète. \n\n\n\n\n Hébergements\nEn chambre twin\, hôtels 2 ou 3*** ou chambres d’hôtes. \n\n\n\n\n Restauration\nPique-niques de spécialités locales les midis\, dans des coins sympa\, et dîners au restaurant le soir\, choisis avec soin pour leurs bonnes tables. \n\n\n\n\n Vélos utilisés\nVTTAE personnels des participants. \n\n\n\n\n Parcours\nDe 50 à 70km par jour\, tracés exclusifs Détour2Roues\, choisis pour leur intérêt sportif\, les paysages et la variété de l’itinéraire. Depuis le Mont Ventoux et ses paysages lunaires jusqu’à la Sainte-Victoire de Cézanne en passant par le Lubéron\, c’est toute la Provence qui s’offre à vous ! \n\n\n\n\n Un guide aux petits soins sur tout le parcours \n\n\n\n\n Un camion d’assistance jamais bien loin pour tout dépannage mécanique\, transport de bagages et ravitaillement. \n\nInscription
URL:https://kap2cap.fr/evenement/laventoux-vttae-evasion-nature-a-velo-detour-2-roues/
LOCATION:Malaucène\, Malaucène\, 84340\, France
CATEGORIES:Voyages en VTT
ATTACH;FMTTYPE=image/jpeg:https://kap2cap.fr/assets/truploads/2026/03/2026_Aventoux.jpg
ORGANIZER;CN="D%C3%A9tour 2 Roues":MAILTO:info@detour2roues.com
END:VEVENT
BEGIN:VEVENT
DTSTART;TZID=Europe/Paris:20260609T080000
DTEND;TZID=Europe/Paris:20260611T170000
DTSTAMP:20260421T105050
CREATED:20230309T091531Z
LAST-MODIFIED:20260305T193044Z
UID:27057-1780992000-1781197200@kap2cap.fr
SUMMARY:La Modestine VTTAE\, évasion nature à vélo (Détour 2 roues)
DESCRIPTION:À défaut de partir avec un âne\, chevauchez votre VTT pour une traversée des Cévennes inoubliable! Les 3 étapes entre le Puy-en- Velay et Les Vans ont été tracées sur mesure pour le VTT\, en respectant le tracé originel mais en l’adaptant à la pratique vélo. Vous ne manquerez donc rien des paysages mythiques évoqués par le célèbre écrivain\, de la nature sauvage de la Haute- Loire\, de la Lozère et de l’Ardèche mais vous éviterez les flots de marcheurs en empruntant des voies plus adaptées à vos montures. Un voyage enchanteur entre genêts et garrigues\, dans les pas de Stevenson et de son âne avec l’ascension spectaculaire du Mont Lozère en point d’orgue. \nType de randonnée\n\n\n Durée\n3 jours / 3 nuits. Pension complète. \n\n\n\n\n Hébergement\nEn chambre twin\, hôtels 2 ou 3*** ou chambres d’hôtes. \n\n\n\n\n Restauration\nPique-niques de spécialités locales les midis\, dans des coins sympa\, et dîners au restaurant le soir\, choisis avec soin pour leurs bonnes tables. \n\n\n\n\n Vélos utilisés\nVTTAE personnels des participants. \n\n\n\n\n Parcours\nDe 50 à 70km par jour\, tracés exclusifs Détour2Roues\, choisis pour leur intérêt sportif\, les paysages et la variété de l’itinéraire. Depuis la magnifique ville du Puy-en-Velay\, vous traversez les gorges de la Loire escarpées\, les hauts plateaux ardéchois\, les Cévennes aux parfums de genêts entêtants jusqu’à l’Ardèche méridionale où chante l’accent du sud\, 3 jours de déconnexion totale! \n\n\n\n\n Un guide aux petits soins sur tout le parcours. \n\n\n\n\n Un camion d’assistance jamais bien loin pour tout dépannage mécanique\, transport de bagages et ravitaillement. \nInscription
URL:https://kap2cap.fr/evenement/la-modestine-detour-2-roues/
LOCATION:Puy en Velay\, Puy en Velay\, 43000\, France
CATEGORIES:Voyages en VTT
ATTACH;FMTTYPE=image/jpeg:https://kap2cap.fr/assets/truploads/2023/03/2023_VTT_La_Modestine.jpg
ORGANIZER;CN="D%C3%A9tour 2 Roues":MAILTO:info@detour2roues.com
END:VEVENT
BEGIN:VEVENT
DTSTART;TZID=Europe/Paris:20261025T080000
DTEND;TZID=Europe/Paris:20261030T170000
DTSTAMP:20260421T105050
CREATED:20260306T124653Z
LAST-MODIFIED:20260310T193442Z
UID:38314-1792915200-1793379600@kap2cap.fr
SUMMARY:La Sardaigne VTTAE\, évasion nature à vélo (Détour 2 roue)
DESCRIPTION:Attention\, pépite! La Sardaigne est une île vaste et multifacette\, la parcourir dans son intégralité demande un temps fou. C’est pourquoi nous avons tracé cet itinéraire en trois étapes de deux jours chacune\, qui vous permettront de découvrir trois spots emblématiques de la Sardaigne. Le nord-ouest\, ses canyons\, ses rivières et l’île d’Asinara; le centre de l’île et ses paysages alpins\, avec une incartade dans LA station de ski sarde; et enfin\, le sud ouest et ses cactus\, ses chemins rocailleux qui débouchent dans des criques secrètes aux plages de sable fin et à l’eau turquoise. \nType de randonnée\n\n\n Durée\n6 jours / 5 nuits Pension complète \n\n\n\n\n Hébergement\nEn chambre twin\, hôtel 2* ou agriturisme \n\n\n\n\n Restauration\nPique-niques de spécialités locales les midis et repas en agriturisme le soir\, ou restaurant typique \n\n\n\n\n Vélos utilisés\nVTTAE personnels des participants ou possibilité de location de VTTAE (en supplément) \n\n\n\n\n Parcours\nDe 50 à 70km par jour\, tracés exclusifs Détour2Roues\, choisis pour leur intérêt sportif\, les paysages et la variété de l’itinéraire. Depuis le port de Porto Torres\, vous rejoindrez le village de Bosa puis ceux de Fluminimaggiore et Fonni pour terminer par l’île enchanteresse d’Asinara. \n\n\n\n\n Un guide aux petits soins sur tout le parcours \n\n\n\n\n Un camion d’assistance jamais bien loin pour tout dépannage mécanique\, transport de bagages et ravitaillement
URL:https://kap2cap.fr/evenement/la-sardaigne-vttae-evasion-nature-a-velo-detour-2-roue/
LOCATION:Porto Torres\, Porto Torres\, Sardaigne\, 07046\, Italy
CATEGORIES:Voyages en VTT
ATTACH;FMTTYPE=image/jpeg:https://kap2cap.fr/assets/truploads/2026/03/2026_Sardaigne_Detour2roues.jpg
ORGANIZER;CN="D%C3%A9tour 2 Roues":MAILTO:info@detour2roues.com
END:VEVENT
END:VCALENDAR