BEGIN:VCALENDAR
VERSION:2.0
PRODID:-//Kap2Cap - ECPv6.15.16//NONSGML v1.0//EN
CALSCALE:GREGORIAN
METHOD:PUBLISH
X-ORIGINAL-URL:https://kap2cap.fr
X-WR-CALDESC:Évènements pour Kap2Cap
REFRESH-INTERVAL;VALUE=DURATION:PT1H
X-Robots-Tag:noindex
X-PUBLISHED-TTL:PT1H
BEGIN:VTIMEZONE
TZID:Europe/Paris
BEGIN:DAYLIGHT
TZOFFSETFROM:+0100
TZOFFSETTO:+0200
TZNAME:CEST
DTSTART:20230326T010000
END:DAYLIGHT
BEGIN:STANDARD
TZOFFSETFROM:+0200
TZOFFSETTO:+0100
TZNAME:CET
DTSTART:20231029T010000
END:STANDARD
BEGIN:DAYLIGHT
TZOFFSETFROM:+0100
TZOFFSETTO:+0200
TZNAME:CEST
DTSTART:20240331T010000
END:DAYLIGHT
BEGIN:STANDARD
TZOFFSETFROM:+0200
TZOFFSETTO:+0100
TZNAME:CET
DTSTART:20241027T010000
END:STANDARD
BEGIN:DAYLIGHT
TZOFFSETFROM:+0100
TZOFFSETTO:+0200
TZNAME:CEST
DTSTART:20250330T010000
END:DAYLIGHT
BEGIN:STANDARD
TZOFFSETFROM:+0200
TZOFFSETTO:+0100
TZNAME:CET
DTSTART:20251026T010000
END:STANDARD
END:VTIMEZONE
BEGIN:VEVENT
DTSTART;TZID=Europe/Paris:20240518T080000
DTEND;TZID=Europe/Paris:20240520T170000
DTSTAMP:20260420T061151
CREATED:20240423T112858Z
LAST-MODIFIED:20240423T113321Z
UID:32375-1716019200-1716224400@kap2cap.fr
SUMMARY:Le PenteRaidCote (Family's Moto Academy)
DESCRIPTION:PARIS – MORVAN – 3 jours en off-road Tu cherches à vivre une expérience off-road inoubliable? Alors\, ce raid est fait pour toi ! On te propose de te joindre à nous pour partir de Fontainebleu et atteindre le Morvan\, en off-road bien entendu ! \nJour 1 / 190km \nEn traversant le foret de Fontainebleu sur une dizaine de kilomètres\, vers le sud\, on plongera nos roues dans les premiers chemins de campagne pour descendre dans la vallée de l’Yonne puis traverser les vignes chablisiennes jusqu’aux portes du Morvan. Pour la 1ere étape le parcours est assez simple\, comportant environ 70% de off-road. Quelques pauses sont prévues\, notamment la visite d’un château chablisien… \nJour 2 – 190km \nUne journée à ne pas oublier sur les plus beaux sentiers du Morvan et ses lacs. \nLà\, on vous laisse saliver\, sans vous en dire plus…! \nJour 3 – 210km \nEn partant de Vezelay\, nous allons replonger dans les chemins de campagne en traversant le sud de l’Yonne et en suite le Loiret afin de rejoindre le point de départ et se quitter avec tristesse mais avec un souvenir gravé dans notre ADN.
URL:https://kap2cap.fr/evenement/le-penteraidcote-familys-moto-academy/
LOCATION:Fontainebleau\, Chateau de Fontainebleau\, Fontainebleau\, 77300\, France
CATEGORIES:Raids
ATTACH;FMTTYPE=image/jpeg:https://kap2cap.fr/assets/truploads/2024/04/2024_PenteRaidCote.jpg
ORGANIZER;CN="Family's Academy":MAILTO:contact@fmacademy.fr
END:VEVENT
BEGIN:VEVENT
DTSTART;TZID=Europe/Paris:20240127T090000
DTEND;TZID=Europe/Paris:20240127T170000
DTSTAMP:20260420T061151
CREATED:20240118T100700Z
LAST-MODIFIED:20240118T100810Z
UID:31358-1706346000-1706374800@kap2cap.fr
SUMMARY:La rando des vignes (Family's Academy)
DESCRIPTION:Randonnée enduro\, à seulement 1h30 de Paris…. On vous emmène sur les chemins des châteaux chablisiens pendant une journée au guidon de votre moto.
URL:https://kap2cap.fr/evenement/la-rando-des-vignes-familys-academy/
LOCATION:FRANCE
CATEGORIES:Randonnées
ATTACH;FMTTYPE=image/jpeg:https://kap2cap.fr/assets/truploads/2024/01/2024_Rando_des_Vignes.jpg
ORGANIZER;CN="Family's Academy":MAILTO:contact@fmacademy.fr
END:VEVENT
END:VCALENDAR