BEGIN:VCALENDAR
VERSION:2.0
PRODID:-//Kap2Cap - ECPv6.15.16//NONSGML v1.0//EN
CALSCALE:GREGORIAN
METHOD:PUBLISH
X-WR-CALNAME:Kap2Cap
X-ORIGINAL-URL:https://kap2cap.fr
X-WR-CALDESC:Évènements pour Kap2Cap
REFRESH-INTERVAL;VALUE=DURATION:PT1H
X-Robots-Tag:noindex
X-PUBLISHED-TTL:PT1H
BEGIN:VTIMEZONE
TZID:Europe/Paris
BEGIN:DAYLIGHT
TZOFFSETFROM:+0100
TZOFFSETTO:+0200
TZNAME:CEST
DTSTART:20210328T010000
END:DAYLIGHT
BEGIN:STANDARD
TZOFFSETFROM:+0200
TZOFFSETTO:+0100
TZNAME:CET
DTSTART:20211031T010000
END:STANDARD
BEGIN:DAYLIGHT
TZOFFSETFROM:+0100
TZOFFSETTO:+0200
TZNAME:CEST
DTSTART:20220327T010000
END:DAYLIGHT
BEGIN:STANDARD
TZOFFSETFROM:+0200
TZOFFSETTO:+0100
TZNAME:CET
DTSTART:20221030T010000
END:STANDARD
BEGIN:DAYLIGHT
TZOFFSETFROM:+0100
TZOFFSETTO:+0200
TZNAME:CEST
DTSTART:20230326T010000
END:DAYLIGHT
BEGIN:STANDARD
TZOFFSETFROM:+0200
TZOFFSETTO:+0100
TZNAME:CET
DTSTART:20231029T010000
END:STANDARD
BEGIN:DAYLIGHT
TZOFFSETFROM:+0100
TZOFFSETTO:+0200
TZNAME:CEST
DTSTART:20240331T010000
END:DAYLIGHT
BEGIN:STANDARD
TZOFFSETFROM:+0200
TZOFFSETTO:+0100
TZNAME:CET
DTSTART:20241027T010000
END:STANDARD
BEGIN:DAYLIGHT
TZOFFSETFROM:+0100
TZOFFSETTO:+0200
TZNAME:CEST
DTSTART:20250330T010000
END:DAYLIGHT
BEGIN:STANDARD
TZOFFSETFROM:+0200
TZOFFSETTO:+0100
TZNAME:CET
DTSTART:20251026T010000
END:STANDARD
END:VTIMEZONE
BEGIN:VEVENT
DTSTART;TZID=Europe/Paris:20240914T080000
DTEND;TZID=Europe/Paris:20240921T170000
DTSTAMP:20260420T030501
CREATED:20231110T081818Z
LAST-MODIFIED:20231110T082044Z
UID:29070-1726300800-1726938000@kap2cap.fr
SUMMARY:Voyage en Norvège (Forest Event)
DESCRIPTION:Trace Route : petite route de campagne sinueuse adapté pour trail et maxitrail routiers (maxi 40 véhicules) \nPas moins de 2 voyages spéciaux route seront proposés cette année avec ce voyage en Norvège et celui de la Champagne-Ardennes-Vosges.  Si l’on compte en plus les 2 possibilités de que l’on offre sur le Tour des Vosges et le Tour des Cîmes de pouvoir réaliser un trace 100 % se sont pas moins de 4 sorties spéciales route qui vous sont proposées \nL’objectif de ce voyage en Norvège est de monté jusqu’à la célèbre route de l’Atlantique qui relie plus îles de la Norvège en passant par la non moins célèbre vallée des trolls et ces virages en en faire pâlir de jalousie les cols alpins.  Un beau premier voyage dans les pays scandinave qui en appelleront d’autres et une belle mise en jambe pour faire le Cap Nord dans les années à venir que l’on va également mettre au programme de notre agenda \nComme tous les voyages spécials route que l’on va proposé un pré-départ de Belgique aura lieu pour se rendre jusqu’au Danemark \nPlus d’informations à venir
URL:https://kap2cap.fr/evenement/voyage-en-norvege-forest-event/
LOCATION:Norvège\, Norvège
CATEGORIES:Voyages
ATTACH;FMTTYPE=image/jpeg:https://kap2cap.fr/assets/truploads/2023/11/2024_Voyage_en_Norvege.jpeg
GEO:60.472024;8.468946
END:VEVENT
BEGIN:VEVENT
DTSTART;TZID=Europe/Paris:20240826T080000
DTEND;TZID=Europe/Paris:20240831T170000
DTSTAMP:20260420T030501
CREATED:20230425T132549Z
LAST-MODIFIED:20231110T080502Z
UID:27847-1724659200-1725123600@kap2cap.fr
SUMMARY:Tour des cimes (Forest Event)
DESCRIPTION:5ème édition du Tour des Cîmes \nContrôle administratif : le 25 août 2024 de 17h00 à 19h00 \nGrosse nouveau en 2024 nous vous proposerons une trace 100 % route et donc vous aurez le choix entre 3 tracé à savoir : \nTrace offroad : avec un max d’offroad et des journées bien chargés \nTrace Mixte : reprenant les plus pistes de la journée offroad mais en allégeant quelques peu le tracé afin de rendre les étapes plus digeste au niveau timing notamment pour les 4×4 ou pour ceux ayant envie de profiter un max de la montagne sans se soucier d’arriver à temps au bivouac du soir \nTrace route : 100 % route pour ceux disposant de véhicule routier à 2-3 ou 4 roues et qui ont envient également de profiter d’une semaine à la montagne avec les copains tout en empruntant les plus beaux cols routier de la région. \n+/- 1300 km d’offroad en 6 jours dans les Alpes françaises et italiennes \nBivouac (possibilité d’hôtel ou gîte pour ceux qui le souhaitent => liste fournie à l’inscription) \nNavigation : GPS\, Tripy ou Roadbook papier \nDes pistes à plus de 2000 mètres d’altitude avec cette année une étape dans les Alpes maritimes et une arrivée en bord de mer \nMaxi : 40 participants \nOuvert au Maxitrail – Trail – 4×4 – Quad & SSV (pas de transport de malle possible => vrai raid d’aventure – baroudeur c’est çà aussi le voyage savoir bien chargé et ménager sa monture et en plus celà diminue la vitesse sur les pistes. Roulez de manière responsable dans le respect des chemins et des riverains et vous terminerez le raid sans souci) \nUn raid taillé pour les aventuriers avec des panoramas à couper le souffle et passages part des endroits mythique plus beaux les uns que les autres : Col du Galibier\, Lac de Sagne\, Tunnel du Parpaillon\, Col Assietta\, Col Fenestrelle\, Col Cologna\, La Pousterie\, Mt Jaffereau\, Vallée de l’Argenta\, Col du Turini\, Via del sale ….
URL:https://kap2cap.fr/evenement/tour-des-cimes-forest-event/
LOCATION:FRANCE
CATEGORIES:Raids
ATTACH;FMTTYPE=image/jpeg:https://kap2cap.fr/assets/truploads/2023/04/2024_Tour_des_Cimes.jpg
END:VEVENT
BEGIN:VEVENT
DTSTART;TZID=Europe/Paris:20240714T080000
DTEND;TZID=Europe/Paris:20240714T170000
DTSTAMP:20260420T030501
CREATED:20230425T131839Z
LAST-MODIFIED:20231107T070846Z
UID:27842-1720944000-1720976400@kap2cap.fr
SUMMARY:BTO l'estivale (Forest Event)
DESCRIPTION:Type de véhicules : Motos Trails et Maxitrails. Quads & SSV acceptés pour autant qu’ils aient déjà participé à l’un de nos raids à l’étranger \nTrace : étudiée et adaptée pour les motos de type trails et maxitrails. \nQuads et SSV acceptés pour autant qu’ils aient déjà participés à l’un de nos raids à l’étranger \nLe choix entre 2 traces : \n– Offroad : pneus à tétines fortement conseillés \n– Mixte : pas de chemins herbeux\, uniquement de l’assise dur\, gravier\, pavé\, pierre\, petites routes de campagne…. (possible avec des pneus de type trail sans tétine). \nTrace GPX (gps\, smartphone\, tablette..) + trace TRB (Tripy mais sans boule flèche\, uniquement au ruban) \nType d’organisation : randonnée de type touristique et découverte de la région non-sportive dont le parcours à été spécialement étudié pour les trails et maxitrails (liaisons sur petites routes de campagnes\, pas de bourbiers…). \nLieu de départ : région du Hainaut (Belgique)
URL:https://kap2cap.fr/evenement/bto-lestivale-forest-event/
LOCATION:Belgique\, Belgique
CATEGORIES:Randonnées
ATTACH;FMTTYPE=image/jpeg:https://kap2cap.fr/assets/truploads/2023/04/2023_BTO_Estivale.jpg
GEO:50.503887;4.469936
END:VEVENT
BEGIN:VEVENT
DTSTART;TZID=Europe/Paris:20240525T080000
DTEND;TZID=Europe/Paris:20240601T170000
DTSTAMP:20260420T030501
CREATED:20231110T081025Z
LAST-MODIFIED:20231110T081229Z
UID:29067-1716624000-1717261200@kap2cap.fr
SUMMARY:Tour Massif Central (Forest Event)
DESCRIPTION:Type de véhicules : Motos Trails et Maxitrails – Quads – SSV – 4×4 \nTrace : étudiée et adaptée pour les motos de type trails et maxitrails. Mais Quads – SSV et 4×4 acceptés (maxi 40 véhicules) \nTracé : Offroad au GPX + TRB + roadbook papier avec assistance dépannage au besoin \nPossibilité de faire 2 – 6 ou 8 jours \nLieu de départ : Réservoir de Naussac près de Langogne dans le département de la Lozère \nBoucle de 2 jours : une grande boucle itinérante de 2 jours à travers la Lozère jusqu’au porte des Cévennes et des plateau de L’Aubrac \nBoucle de 6 jours : on évite la boucle de 2 jours et on la coupe dans son centre en direction du lac de Charpal pour ensuite remonté sur le parcs des Volcans d’Auvergne\, les bois Noirs et les Monts du Beaujolais avant de redescendre par le Parc du Pilat et les l’Ardèche. \nBoucle de 8 jours : la totale avec la boucle de 2 jours + celle de 8 jours pour un raid qui s’annonce exceptionnel et sillonnera le massif central de la Lozère sauvage en passant part les plateaux de l’Aubrac\, avant de rejoindre les Volcans d’Auvergne\, les bois noirs pour ensuite passer dans le Beaujolais et redescendre sur la Lozère
URL:https://kap2cap.fr/evenement/tour-massif-central-forest-event/
LOCATION:FRANCE
CATEGORIES:Randonnées
ATTACH;FMTTYPE=image/jpeg:https://kap2cap.fr/assets/truploads/2023/11/2024_Tour_Massif_Central.jpg
END:VEVENT
BEGIN:VEVENT
DTSTART;TZID=Europe/Paris:20240509T080000
DTEND;TZID=Europe/Paris:20240512T180000
DTSTAMP:20260420T030501
CREATED:20230424T185542Z
LAST-MODIFIED:20231103T080810Z
UID:27824-1715241600-1715536800@kap2cap.fr
SUMMARY:Tour Champagne Ardennes (Forest Event)
DESCRIPTION:Type de véhicules (Trace offroad) : Motos Trails et Maxitrails – Quads – SSV – 4×4 \nTrace Offroad : étudiée et adaptée pour les motos de type trails et maxitrails. Mais Quads – SSV et 4×4 acceptés (maxi 40 véhicules) \nType de véhicules (Trace Route) : Motos\, Spyder\, Ryker\, Sidecar\, autos\, SUV… (tout ce qui a des roues\, un moteur et est homologué pour aller sur route !!) \nTrace Route : petite route de campagne sinueuse adapté pour trail et maxitrail routiers (maxi 40 véhicules)\n \nCette année le Tour Champagne – Ardennes passe de 3 à 4 jours avec un départ en région Liègeoise (Belgique) pour rejoindre la région de la Champagne en France avant de remonter Par la Meuse et revenir en région liègeoise par les Ardennes belges. \nNouveauté également cette année l’arrivé d’une trace 100 % route pour ceux qui ne sont pas équipés de trails ou n’ont pas envie de poser leurs roues en offroad
URL:https://kap2cap.fr/evenement/tour-champagne-ardennes-forest-event/
LOCATION:FRANCE
CATEGORIES:Raids
ATTACH;FMTTYPE=image/jpeg:https://kap2cap.fr/assets/truploads/2023/04/2024_Tour-Champagne_Ardennes.jpeg
END:VEVENT
BEGIN:VEVENT
DTSTART;TZID=Europe/Paris:20240426T080000
DTEND;TZID=Europe/Paris:20240428T170000
DTSTAMP:20260420T030501
CREATED:20231110T075932Z
LAST-MODIFIED:20231110T080204Z
UID:29062-1714118400-1714323600@kap2cap.fr
SUMMARY:Tour des Vosges (Forest Event)
DESCRIPTION:– Trace 50 % Offroad ; 50 % Route \nType de véhicules : Motos Trails et Maxitrails – Quads – SSV – 4×4 \nTrace : étudiée et adaptée pour les motos de type trails et maxitrails. Mais Quads – SSV et 4×4 acceptés (maxi 40 véhicules) \nTrace GPX (gps\, smartphone\, tablette..) + trace TRB (Tripy) \nAssistance dépannage au besoin \nLa partie Vosges ne se fera uniquement que par la route : route des crêtes ou petites routes de campagnes loin des grands axes \nDépart : région de Toul
URL:https://kap2cap.fr/evenement/tour-des-vosges-forest-event/
LOCATION:FRANCE
CATEGORIES:Randonnées
ATTACH;FMTTYPE=image/jpeg:https://kap2cap.fr/assets/truploads/2023/11/2024_Tour_des_Vosges.jpg
END:VEVENT
BEGIN:VEVENT
DTSTART;TZID=Europe/Paris:20240330T080000
DTEND;TZID=Europe/Paris:20240331T170000
DTSTAMP:20260420T030501
CREATED:20231102T173853Z
LAST-MODIFIED:20231102T173912Z
UID:29022-1711785600-1711904400@kap2cap.fr
SUMMARY:BTO Printanière (Forest Event)
DESCRIPTION:Type de véhicules : Motos Trails et Maxitrails. Quads & SSV acceptés pour autant qu’ils aient déjà participé à l’un de nos raids à l’étranger \nTrace : étudiée et adaptée pour les motos de type trails et maxitrails. \nQuads et SSV acceptés pour autant qu’ils aient déjà participés à l’un de nos raids à l’étranger \nLe choix entre 2 traces : \n– Offroad : pneus à tétines fortement conseillés \n– Mixte : pas de chemins herbeux\, uniquement de l’assise dur\, gravier\, pavé\, pierre\, petites routes de campagne…. (possible avec des pneus de type trail sans tétine). \nTrace GPX (gps\, smartphone\, tablette..) + trace TRB (Tripy mais sans boule flèche\, uniquement au ruban) \nType d’organisation : randonnée de type touristique et découverte de la région non-sportive dont le parcours à été spécialement étudié pour les trails et maxitrails (liaisons sur petites routes de campagnes\, pas de bourbiers…). \nLieu de départ : région Namur (Belgique) \nPossibilité de s’inscrire à une ou 2 journée (tracé différent)
URL:https://kap2cap.fr/evenement/bto-printaniere-forest-event/
LOCATION:Belgique\, Belgique
CATEGORIES:Randonnées
ATTACH;FMTTYPE=image/jpeg:https://kap2cap.fr/assets/truploads/2023/11/2024_BTO_Hivernale.jpg
GEO:50.503887;4.469936
END:VEVENT
BEGIN:VEVENT
DTSTART;TZID=Europe/Paris:20240219T080000
DTEND;TZID=Europe/Paris:20240225T170000
DTSTAMP:20260420T030501
CREATED:20231102T173047Z
LAST-MODIFIED:20231102T173402Z
UID:29019-1708329600-1708880400@kap2cap.fr
SUMMARY:Tour du Portugal Nord (Forest Event)
DESCRIPTION:Type de véhicules : Motos Trails et Maxitrails – Quads – SSV – 4×4 \nTrace : étudiée et adaptée pour les motos de type trails et maxitrails. Mais Quads – SSV et 4×4 acceptés (maxi 40 véhicules) \nDépart et d’arrivée : Portugal – Porto \nContrôle administratif : le 18 février 2024 de 18h00 à 20h00 \nDate du raid : du 19 février au 25 février 2024 \n+/- 1500 kilomètres d’offroad en 6 jours dans le Nord du Portugal \nNavigation : GPX + TRB + Roadbook papier \nParticipant : 45 maxi afin de préserver une certaine convivialité. Ouvert au Maxitrails-Trails \, Quads\, SSV et 4×4 (pas de transport de malle et pas d’assistance mécanique => vrai raid d’aventure – baroudeur car c’est çà aussi le voyage\, savoir charger correctement sa monture et la préserver en roulant constant mais calmement au risque de ne pas terminer le raid. Roulez de manière responsable dans le respect des chemins\, bétails et des riverains et vous terminerez le raid sans souci). Ceci dit on ne vous laissera pas au bord de la piste mais au besoin on viendra vous dépanner et vous déposer à la fin de l’étape ou dans un lieu sur le plus proche. \nUn raid taillé pour les aventuriers au paradis de l’offroad avec des paysages qui changent 2-3 fois sur la journée. \nUne version Nord qui ne reviendra que dans 3 ans car elle sera alterner par une version Sud et Centro \nL’adresse exacte de départ et d’arrivée ainsi que les étapes seront communiquée par la suite mais il est déjà possible de s’inscrire dès maintenant (fin des inscriptions dès que l’on a les 40 véhicules)
URL:https://kap2cap.fr/evenement/tour-du-portugal-nord-forest-event/
LOCATION:Portugal\, Portugal
CATEGORIES:Raids
ATTACH;FMTTYPE=image/jpeg:https://kap2cap.fr/assets/truploads/2023/11/2024_Tour_Portugal_Nord.jpg
GEO:39.399872;-8.224454
END:VEVENT
BEGIN:VEVENT
DTSTART;TZID=Europe/Paris:20240101T080000
DTEND;TZID=Europe/Paris:20240101T170000
DTSTAMP:20260420T030501
CREATED:20231102T172437Z
LAST-MODIFIED:20231102T172630Z
UID:29016-1704096000-1704128400@kap2cap.fr
SUMMARY:BTO Hivernale (Forest Event)
DESCRIPTION:Type de véhicules : Motos Trails et Maxitrails.  Quads & SSV acceptés pour autant qu’ils aient déjà participé à l’un de nos raids à l’étranger \nTrace : étudiée et adaptée pour les motos de type trails et maxitrails. \nTrace pour motos de type trails et maxitrails.  Quads et SSV acceptés pour autant qu’ils aient déjà participés à l’un de nos raids à l’étranger \nLe jour avant l’hivernal soit le 20/01/2024 aura lieu la présentation de la saison 2024 Forest Event Offroad à 18h00 suivi ensuite d’un repas\nLe choix entre 2 traces : \n– Offroad : pneus à tétines fortement conseillés \n– Mixte : pas de chemins herbeux\, uniquement de l’assise dur\, gravier\, pavé\, pierre\, petites routes de campagne…. (possible avec des pneus de type trail sans tétine). \nTrace GPX (gps\, smartphone\, tablette..) + trace TRB (Tripy mais sans boule flèche\, uniquement au ruban) \nType d’organisation : randonnée de type touristique et découverte de la région non-sportive dont le parcours à été spécialement étudié pour les trails et maxitrails (liaisons sur petites routes de campagnes\, pas de bourbiers…). \nPeu de kilométrage (maxi 100 – 120 kilomètres voir moins en fonction de la météo) sur cette randonnée le but étant avant tout d’effectuer une petite sortie sympa\, festive et de nous retrouver pour cette nouvelle année 2024 !! \nLieu de départ : région liégeoise (Belgique)
URL:https://kap2cap.fr/evenement/bto-hivernale-forest-event/
LOCATION:Belgique\, Belgique
CATEGORIES:Balade motos
ATTACH;FMTTYPE=image/jpeg:https://kap2cap.fr/assets/truploads/2023/11/2024_BTO_Hivernale.jpg
GEO:50.503887;4.469936
END:VEVENT
BEGIN:VEVENT
DTSTART;TZID=Europe/Paris:20230617T080000
DTEND;TZID=Europe/Paris:20230618T170000
DTSTAMP:20260420T030501
CREATED:20230425T131042Z
LAST-MODIFIED:20230425T131300Z
UID:27836-1686988800-1687107600@kap2cap.fr
SUMMARY:Indiana Raid (Forest Event)
DESCRIPTION:Raid itinérant de type touristique – découverte de la région et non-sportif dont le parcours à été spécialement étudié pour les Trails et Maxi Trails (liaisons sur petites routes de campagne\, pas de bourbiers…). \nRaid de 2 jours sur un superbe tracé convenant parfaitement aux maxi trails dans un région où vous sillonnerez des kilomètres de chemins. Peut-être encore un des seuls endroits en Belgique où vous vous sentirez seul au monde avec quelques traversées de villages typiques. Un vrai raid aventure taillé pour les baroudeurs made in Belgium avec le choix entre une trace off road (maximum d’off road) Mixte (dépourvue de chemins herbeux).
URL:https://kap2cap.fr/evenement/indiana-raid-forest-event/
LOCATION:Belgique\, Belgique
CATEGORIES:Raids
ATTACH;FMTTYPE=image/jpeg:https://kap2cap.fr/assets/truploads/2023/04/2023_Indiana_Raid.jpg
GEO:50.503887;4.469936
END:VEVENT
BEGIN:VEVENT
DTSTART;VALUE=DATE:20220905
DTEND;VALUE=DATE:20220911
DTSTAMP:20260420T030501
CREATED:20211102T102132Z
LAST-MODIFIED:20211102T103010Z
UID:13854-1662336000-1662854399@kap2cap.fr
SUMMARY:Tour des Cîmes 2022 (3ème édition)
DESCRIPTION:Raid itinérant offroad de +/- 1300 kms en 6 jours pour Maxitrail – Trail – Quad – SSV & 4×4 dans les Alpes françaises et italiennes du 05 au 10 septembre 2022.  \n  \nMaxi : 45 participants \n  \nEtape 1 : Valloire – Jausier\nEtape 2 : Jausier – Vintimille\nEtape 3 : Vintimille – Castérino\nEtape 4 : Castérino – Preit\nEtape 5 : Priet – Sestrière\nEtape 6 : Sestrière – Valloire \n  \nUne arrivée d’étape en bord de mer. Pas d’option transport malle => vrai raid itinérant en mode aventure – baroudeur ou chacun devra emporter ses bagages. Ouvert au maxitrails\, trails\, quads\, SSV & 4×4. Des lieux de bivouac exceptionnels. \n  \nOuverture des inscriptions : 15/10/2021 \n  \nTarifs :\nInscription véhicule : 395 €\nInscription pilote : 95 €\nInscription passager (4×4\, quad\, ssv) : 69 €\nInscriptions et paiement effectué avant le 15/12/2021 : – 20 % sur les tarifs\nLe prix comprend : droit de passage dans certains cols \, apéro bord de mer \, apéro bivouac \, organisation du raid \, fourniture roadbook papier et trace gps et tripy …
URL:https://kap2cap.fr/evenement/tour-des-cimes-2022-3eme-edition/
CATEGORIES:Raids
ATTACH;FMTTYPE=image/jpeg:https://kap2cap.fr/assets/truploads/2021/11/tour-des-cimes-lolo-kap2cap-copie.jpg
END:VEVENT
END:VCALENDAR