BEGIN:VCALENDAR
VERSION:2.0
PRODID:-//Kap2Cap - ECPv6.15.16//NONSGML v1.0//EN
CALSCALE:GREGORIAN
METHOD:PUBLISH
X-ORIGINAL-URL:https://kap2cap.fr
X-WR-CALDESC:Évènements pour Kap2Cap
REFRESH-INTERVAL;VALUE=DURATION:PT1H
X-Robots-Tag:noindex
X-PUBLISHED-TTL:PT1H
BEGIN:VTIMEZONE
TZID:Europe/Paris
BEGIN:DAYLIGHT
TZOFFSETFROM:+0100
TZOFFSETTO:+0200
TZNAME:CEST
DTSTART:20220327T010000
END:DAYLIGHT
BEGIN:STANDARD
TZOFFSETFROM:+0200
TZOFFSETTO:+0100
TZNAME:CET
DTSTART:20221030T010000
END:STANDARD
BEGIN:DAYLIGHT
TZOFFSETFROM:+0100
TZOFFSETTO:+0200
TZNAME:CEST
DTSTART:20230326T010000
END:DAYLIGHT
BEGIN:STANDARD
TZOFFSETFROM:+0200
TZOFFSETTO:+0100
TZNAME:CET
DTSTART:20231029T010000
END:STANDARD
BEGIN:DAYLIGHT
TZOFFSETFROM:+0100
TZOFFSETTO:+0200
TZNAME:CEST
DTSTART:20240331T010000
END:DAYLIGHT
BEGIN:STANDARD
TZOFFSETFROM:+0200
TZOFFSETTO:+0100
TZNAME:CET
DTSTART:20241027T010000
END:STANDARD
END:VTIMEZONE
BEGIN:VEVENT
DTSTART;TZID=Europe/Paris:20230429T080000
DTEND;TZID=Europe/Paris:20230506T170000
DTSTAMP:20260420T112050
CREATED:20230227T173812Z
LAST-MODIFIED:20230313T152839Z
UID:26786-1682755200-1683392400@kap2cap.fr
SUMMARY:Road Trip La Corse (France Moto Voyages)
DESCRIPTION:Vous rêvez d’un tour de Corse à moto \nLa beauté de la Corse est sa diversité. \nDes plages de la côte Est aux montagnes de la côte Ouest\, la Corse a quelque chose pour tout le monde. \nC’est pourquoi nous vous invitons à découvrir ce pays par vous-même lors d’un tour en moto à travers l’île. \nSituée en mer Méditerranée à seulement quelques heures de bateau cette l’Île de Beauté offre toute une palette de paysages\nà découvrir en groupe\, solo ou duo. Des paysages époustouflants de beauté entre mer et montagne ou à travers\nles nombreuses routes aux 1000 virages sillonnant entre terre et mer vous pourrez découvrir une authentique vie insulaire.\nUne Corse rebelle et attachante à la fois qui se laisse découvrir au gré de vos envies ! C’est le paradis du motard. \nPartez pour la Corse avec votre moto et visite cette île de beauté avec ses jolies routes de montagne\, ses belles forêts\n(Pinia\, Vallée du Fango\, vallée de la Restonica\, Alta Rocca…)\, ses plages (Baie de Calvi\, plage d’Alistro de San Giuliano\,\nses villages perchés (Lumio\, Sant’Antonino\, Aregno\, Speloncato\, Pigna\, Belgodère…) et ses vues panoramiques. \nC’est une expérience au cœur des 5 sens qui attend le voyageur La Corse est une île étonnante :\nle paysage change à chaque virage (et des virages en Corse\, il y en a beaucoup !). \nMême si un Corse nous a dit un jour : « Beaucoup de virages en Corse ?\nMais non ! Il n’y en a que deux\, un qui tourne à gauche et un qui tourne à droite ! » \nCes routes semblent avoir été créées pour le plaisir d’y voyager. Les kilomètres s’additionnent\, les points de vue également\, alternant mer et montagne. En quittant l’une pour l’autre\, l’on ne fait que s’offrir un meilleur panorama du paysage.\nQue la côte est belle depuis les hauteurs ! Et que les montagnes impressionnent depuis le littoral !
URL:https://kap2cap.fr/evenement/road-trip-la-corse/
CATEGORIES:Voyages
ATTACH;FMTTYPE=image/jpeg:https://kap2cap.fr/assets/truploads/2023/02/2023_Francemotovoyages_Corse.jpg
ORGANIZER;CN="France Moto Voyages":MAILTO:resa@francemotovoyages.com
END:VEVENT
END:VCALENDAR