BEGIN:VCALENDAR
VERSION:2.0
PRODID:-//Kap2Cap - ECPv6.15.16//NONSGML v1.0//EN
CALSCALE:GREGORIAN
METHOD:PUBLISH
X-ORIGINAL-URL:https://kap2cap.fr
X-WR-CALDESC:Évènements pour Kap2Cap
REFRESH-INTERVAL;VALUE=DURATION:PT1H
X-Robots-Tag:noindex
X-PUBLISHED-TTL:PT1H
BEGIN:VTIMEZONE
TZID:Europe/Paris
BEGIN:DAYLIGHT
TZOFFSETFROM:+0100
TZOFFSETTO:+0200
TZNAME:CEST
DTSTART:20230326T010000
END:DAYLIGHT
BEGIN:STANDARD
TZOFFSETFROM:+0200
TZOFFSETTO:+0100
TZNAME:CET
DTSTART:20231029T010000
END:STANDARD
BEGIN:DAYLIGHT
TZOFFSETFROM:+0100
TZOFFSETTO:+0200
TZNAME:CEST
DTSTART:20240331T010000
END:DAYLIGHT
BEGIN:STANDARD
TZOFFSETFROM:+0200
TZOFFSETTO:+0100
TZNAME:CET
DTSTART:20241027T010000
END:STANDARD
BEGIN:DAYLIGHT
TZOFFSETFROM:+0100
TZOFFSETTO:+0200
TZNAME:CEST
DTSTART:20250330T010000
END:DAYLIGHT
BEGIN:STANDARD
TZOFFSETFROM:+0200
TZOFFSETTO:+0100
TZNAME:CET
DTSTART:20251026T010000
END:STANDARD
END:VTIMEZONE
BEGIN:VEVENT
DTSTART;TZID=Europe/Paris:20240322T080000
DTEND;TZID=Europe/Paris:20240324T170000
DTSTAMP:20260420T061147
CREATED:20231218T121421Z
LAST-MODIFIED:20231218T123258Z
UID:30676-1711094400-1711299600@kap2cap.fr
SUMMARY:Trail Spirit Expérience (Green Rallye)
DESCRIPTION:Green Rallye est le premier événement 100% trail ouvert à tous sur le légendaire domaine de Château Lastours.\nC’est avant tout un rendez-vous sportif\, consacré au pilotage sur des pistes uniques qui ont accueilli le Dakar. \nLe rallye est constitué de plusieurs boucles TT à réaliser durant le week-end pour décrocher le titre de Finisher 2023.\nPour décrocher le Graal\, vous devez effectuer sur le domaine privé de Château de Lastours : \n\nLe prologue du Vendredi soir (100% TT)\n1 Trace TT Easy (20% TT)\n1 trace TT Medium (80% TT)\n1 trace Hard (100% TT)\n1 trace X-Hard (100% TT)\n\nLes traces sont jalonnées sur le principe d’un enduro : départ et arrivée sont libres.\nElles doivent être parcourues une fois chacune dans le week-end et validées selon le principe d’une course d’orientation avec un carton de pointage remis lors de votre accueil à Lastours.\nCompter entre 1 heure 30 et 3 heures par boucle ! Des marshalls sont dispatchés le long du parcours pour vous aider en cas de besoin. \nToutes les boucles sont tracées par les moniteurs de L’Enduro Park. Les trajets\, même les plus durs\, seront franchissables avec un bicylindre ! \nPrologue le vendredi soir pour ouvrir les hostilités. \n800 mètres entre glisse et franchissement raisonnable à réaliser pour le fun et le trophée Finisher ! \nDuel PRO-AM à élimination directe ! Quart\, demie\, finale\, pour chaque catégorie mono et bicylindres. Dans cette montée en escaliers de 50 mètres\, vous affrontez vos potes ou autres stars de la discipline ! Le plus rapide à l’issue de la finale décrochera la timbale (et le magnum de Lastours) !
URL:https://kap2cap.fr/evenement/trail-spirit-experience-green-rallye/
LOCATION:Château de Lastours\, Château de Lastours\, Portel des corbières\, 11490\, France
CATEGORIES:Rassemblements
ATTACH;FMTTYPE=image/jpeg:https://kap2cap.fr/assets/truploads/2023/12/2024_Trail_Spirit_Experience.jpg
END:VEVENT
END:VCALENDAR