BEGIN:VCALENDAR
VERSION:2.0
PRODID:-//Kap2Cap - ECPv6.15.16//NONSGML v1.0//EN
CALSCALE:GREGORIAN
METHOD:PUBLISH
X-ORIGINAL-URL:https://kap2cap.fr
X-WR-CALDESC:Évènements pour Kap2Cap
REFRESH-INTERVAL;VALUE=DURATION:PT1H
X-Robots-Tag:noindex
X-PUBLISHED-TTL:PT1H
BEGIN:VTIMEZONE
TZID:Europe/Paris
BEGIN:DAYLIGHT
TZOFFSETFROM:+0100
TZOFFSETTO:+0200
TZNAME:CEST
DTSTART:20230326T010000
END:DAYLIGHT
BEGIN:STANDARD
TZOFFSETFROM:+0200
TZOFFSETTO:+0100
TZNAME:CET
DTSTART:20231029T010000
END:STANDARD
BEGIN:DAYLIGHT
TZOFFSETFROM:+0100
TZOFFSETTO:+0200
TZNAME:CEST
DTSTART:20240331T010000
END:DAYLIGHT
BEGIN:STANDARD
TZOFFSETFROM:+0200
TZOFFSETTO:+0100
TZNAME:CET
DTSTART:20241027T010000
END:STANDARD
BEGIN:DAYLIGHT
TZOFFSETFROM:+0100
TZOFFSETTO:+0200
TZNAME:CEST
DTSTART:20250330T010000
END:DAYLIGHT
BEGIN:STANDARD
TZOFFSETFROM:+0200
TZOFFSETTO:+0100
TZNAME:CET
DTSTART:20251026T010000
END:STANDARD
END:VTIMEZONE
BEGIN:VEVENT
DTSTART;TZID=Europe/Paris:20240705T080000
DTEND;TZID=Europe/Paris:20240707T170000
DTSTAMP:20260420T030607
CREATED:20240222T082407Z
LAST-MODIFIED:20240222T082535Z
UID:32020-1720166400-1720371600@kap2cap.fr
SUMMARY:Ixtem Games 2024 (Ixtem Moto)
DESCRIPTION:Osez l’évènement le plus cool de l’année du vendredi 5 juillet au dimanche 7 juillet 2024 \nVenez vous amuser pendant 3 jours avec votre trail en off road dans les vignobles de Champagne. Nouveau programme 2024\, + de jeux\, + km\, pour encore plus de fun ! \nDes nouvelles traces pour tous les niveaux \n– Pack de bienvenue\n– Repas inclus à partir de vendredi soir (Petit déjeuner\, déjeuner et dîner)\n– Bivouac sur terrain privé avec toutes les commodités\n– Piscine pour se détendre le soir\n– Épreuves d’adresse à moto\, de navigation et de randonnées off road durant la journée\n– Encadrement aux petits oignons par l’équipe IXTEM\n– Rien à faire\, juste en profiter !
URL:https://kap2cap.fr/evenement/ixtem-games-2024-ixtem-moto/
LOCATION:FRANCE
CATEGORIES:Rassemblements
ATTACH;FMTTYPE=image/jpeg:https://kap2cap.fr/assets/truploads/2024/02/2024_IXTEM-GAMES.jpg
END:VEVENT
END:VCALENDAR