BEGIN:VCALENDAR
VERSION:2.0
PRODID:-//Kap2Cap - ECPv6.15.16//NONSGML v1.0//EN
CALSCALE:GREGORIAN
METHOD:PUBLISH
X-ORIGINAL-URL:https://kap2cap.fr
X-WR-CALDESC:Évènements pour Kap2Cap
REFRESH-INTERVAL;VALUE=DURATION:PT1H
X-Robots-Tag:noindex
X-PUBLISHED-TTL:PT1H
BEGIN:VTIMEZONE
TZID:Europe/Paris
BEGIN:DAYLIGHT
TZOFFSETFROM:+0100
TZOFFSETTO:+0200
TZNAME:CEST
DTSTART:20220327T010000
END:DAYLIGHT
BEGIN:STANDARD
TZOFFSETFROM:+0200
TZOFFSETTO:+0100
TZNAME:CET
DTSTART:20221030T010000
END:STANDARD
BEGIN:DAYLIGHT
TZOFFSETFROM:+0100
TZOFFSETTO:+0200
TZNAME:CEST
DTSTART:20230326T010000
END:DAYLIGHT
BEGIN:STANDARD
TZOFFSETFROM:+0200
TZOFFSETTO:+0100
TZNAME:CET
DTSTART:20231029T010000
END:STANDARD
BEGIN:DAYLIGHT
TZOFFSETFROM:+0100
TZOFFSETTO:+0200
TZNAME:CEST
DTSTART:20240331T010000
END:DAYLIGHT
BEGIN:STANDARD
TZOFFSETFROM:+0200
TZOFFSETTO:+0100
TZNAME:CET
DTSTART:20241027T010000
END:STANDARD
END:VTIMEZONE
BEGIN:VEVENT
DTSTART;TZID=Europe/Paris:20230708T080000
DTEND;TZID=Europe/Paris:20230709T170000
DTSTAMP:20260420T044312
CREATED:20230307T142721Z
LAST-MODIFIED:20230311T151611Z
UID:27007-1688803200-1688922000@kap2cap.fr
SUMMARY:Festival Pau-Arnos (Metzeler)
DESCRIPTION:Entrée gratuite sur l’événement !\n Jusqu’à 4 sessions sur le sensationnel Circuit Pau Arnos Page Officielle\, y compris avec votre passager (prêt de matériel possible)\n Des baptêmes duo derrière Gregg Black (double champion du Monde d’Endurance) pour les plus téméraires\n Des ateliers technique Trail avec David Frétigné\n Des balades…..route avec Ze Chevalier de Groland Serge Nuques\n Des balades Offroad avec Trail Découverte\n Des sessions sur mini-motos\, pour les pilotes adultes ou enfants\, y compris les débutants !\n Et aussi\, un village d’exposants\, des motos à essayer\, un concert\, des food trucks…
URL:https://kap2cap.fr/evenement/festival-pau-arnos-metzeler/
LOCATION:Circuit Pau Arnos\, 1 camin deu circuit\, Arnos\, 64370\, France
CATEGORIES:Salons et Festivals
ATTACH;FMTTYPE=image/jpeg:https://kap2cap.fr/assets/truploads/2023/03/2023_Festival_Pau.jpg
GEO:43.457247;-0.532441
X-APPLE-STRUCTURED-LOCATION;VALUE=URI;X-ADDRESS=Circuit Pau Arnos 1 camin deu circuit Arnos 64370 France;X-APPLE-RADIUS=500;X-TITLE=1 camin deu circuit:geo:-0.532441,43.457247
END:VEVENT
END:VCALENDAR