BEGIN:VCALENDAR
VERSION:2.0
PRODID:-//Kap2Cap - ECPv6.15.16//NONSGML v1.0//EN
CALSCALE:GREGORIAN
METHOD:PUBLISH
X-ORIGINAL-URL:https://kap2cap.fr
X-WR-CALDESC:Évènements pour Kap2Cap
REFRESH-INTERVAL;VALUE=DURATION:PT1H
X-Robots-Tag:noindex
X-PUBLISHED-TTL:PT1H
BEGIN:VTIMEZONE
TZID:Europe/Paris
BEGIN:DAYLIGHT
TZOFFSETFROM:+0100
TZOFFSETTO:+0200
TZNAME:CEST
DTSTART:20220327T010000
END:DAYLIGHT
BEGIN:STANDARD
TZOFFSETFROM:+0200
TZOFFSETTO:+0100
TZNAME:CET
DTSTART:20221030T010000
END:STANDARD
BEGIN:DAYLIGHT
TZOFFSETFROM:+0100
TZOFFSETTO:+0200
TZNAME:CEST
DTSTART:20230326T010000
END:DAYLIGHT
BEGIN:STANDARD
TZOFFSETFROM:+0200
TZOFFSETTO:+0100
TZNAME:CET
DTSTART:20231029T010000
END:STANDARD
BEGIN:DAYLIGHT
TZOFFSETFROM:+0100
TZOFFSETTO:+0200
TZNAME:CEST
DTSTART:20240331T010000
END:DAYLIGHT
BEGIN:STANDARD
TZOFFSETFROM:+0200
TZOFFSETTO:+0100
TZNAME:CET
DTSTART:20241027T010000
END:STANDARD
END:VTIMEZONE
BEGIN:VEVENT
DTSTART;TZID=Europe/Paris:20230903T080000
DTEND;TZID=Europe/Paris:20230914T170000
DTSTAMP:20260420T042953
CREATED:20230330T083024Z
LAST-MODIFIED:20240325T084631Z
UID:27520-1693728000-1694710800@kap2cap.fr
SUMMARY:Madagascar (Mono 500)
DESCRIPTION:“ À l’écart des plages touristiques de l’île\, je vous propose de découvrir mon pays natal par les chemins de traverse\, “le joyau du canal du Mozambique” ! Du nord au Sud de l’île nous traversons les parcs nationaux et terminons notre aventure dans les eaux chaudes de la plus grande île du monde ! On vous emmène en brousse\, dans les parcs\, à la rencontre des malgaches et de leur culture”
URL:https://kap2cap.fr/evenement/madagascar-mono-500/
LOCATION:Madagascar\, Madagascar
CATEGORIES:Road Trip
ATTACH;FMTTYPE=image/jpeg:https://kap2cap.fr/assets/truploads/2023/03/2023_Madagascar_Mono500.jpg
GEO:-18.766947;46.869107
END:VEVENT
BEGIN:VEVENT
DTSTART;TZID=Europe/Paris:20230610T080000
DTEND;TZID=Europe/Paris:20230617T170000
DTSTAMP:20260420T042953
CREATED:20230330T083555Z
LAST-MODIFIED:20240325T084900Z
UID:27526-1686384000-1687021200@kap2cap.fr
SUMMARY:Maroc (Mono 500)
DESCRIPTION:Le Maroc est taillé pour l’aventure\, la découverte de sa culture\, de son patrimoine et de son savoir vivre. Nous proposons deux expériences à deux pas de chez nous\, et pourtant très loin des sentiers battus… .\n \nNos itinéraires empruntent\, soit les plus belles routes\, soit des pistes de traverse du haut Atlas aux dunes du Sahara ou au plages de l’Atlantique. Aux étapes\, nous avons sélectionné des lieux authentiques\, chargés d’histoire\, hyper confortables…magiques ! »
URL:https://kap2cap.fr/evenement/maroc-mono-500/
LOCATION:MAROC\, Morocco
CATEGORIES:Road Trip
ATTACH;FMTTYPE=image/jpeg:https://kap2cap.fr/assets/truploads/2023/03/2023_Maroc_Mono500.jpg
GEO:31.791702;-7.09262
END:VEVENT
END:VCALENDAR