BEGIN:VCALENDAR
VERSION:2.0
PRODID:-//Kap2Cap - ECPv6.15.16//NONSGML v1.0//EN
CALSCALE:GREGORIAN
METHOD:PUBLISH
X-ORIGINAL-URL:https://kap2cap.fr
X-WR-CALDESC:Évènements pour Kap2Cap
REFRESH-INTERVAL;VALUE=DURATION:PT1H
X-Robots-Tag:noindex
X-PUBLISHED-TTL:PT1H
BEGIN:VTIMEZONE
TZID:Europe/Paris
BEGIN:DAYLIGHT
TZOFFSETFROM:+0100
TZOFFSETTO:+0200
TZNAME:CEST
DTSTART:20220327T010000
END:DAYLIGHT
BEGIN:STANDARD
TZOFFSETFROM:+0200
TZOFFSETTO:+0100
TZNAME:CET
DTSTART:20221030T010000
END:STANDARD
BEGIN:DAYLIGHT
TZOFFSETFROM:+0100
TZOFFSETTO:+0200
TZNAME:CEST
DTSTART:20230326T010000
END:DAYLIGHT
BEGIN:STANDARD
TZOFFSETFROM:+0200
TZOFFSETTO:+0100
TZNAME:CET
DTSTART:20231029T010000
END:STANDARD
BEGIN:DAYLIGHT
TZOFFSETFROM:+0100
TZOFFSETTO:+0200
TZNAME:CEST
DTSTART:20240331T010000
END:DAYLIGHT
BEGIN:STANDARD
TZOFFSETFROM:+0200
TZOFFSETTO:+0100
TZNAME:CET
DTSTART:20241027T010000
END:STANDARD
END:VTIMEZONE
BEGIN:VEVENT
DTSTART;TZID=Europe/Paris:20230421T080000
DTEND;TZID=Europe/Paris:20230430T170000
DTSTAMP:20260420T105640
CREATED:20230302T080705Z
LAST-MODIFIED:20230313T154335Z
UID:26842-1682064000-1682874000@kap2cap.fr
SUMMARY:Morocco Desert Challenge
DESCRIPTION:A quoi ressemble ce nouveau tracé?\nNous commençons comme d’habitude les 21 et 22 avril par les inspections administratives et techniques à Agadir\, cette agréable ville balnéaire au bord de l’océan Atlantique qui a subi une transformation complète ces deux dernières années. \n-La première étape\, le 23 avril\, est un prologue d’environ 50 km\, près d’Agadir. Vous pouvez donc profiter d’une nuit supplémentaire dans le confort d’un hôtel. \n-La deuxième étape\, le 24 avril\, commence par une liaison unique de quelque 250 km jusqu’à la légendaire Plage Blanche\, suivie d’une longue spéciale de 360 km jusqu’au bivouac d’Assa. Tout de suite\, donc\, un départ difficile. \n-Étape 3\, le 25 avril : Assa – Foum Zguid : 403 kilomètres rapides à travers une zone militaire \n-Étape 4\, le 26 avril : Foum Zguid – Foum Zguid : 275 km / dunes de l’Erg Chegaga \n-Étape 5\, le 27 avril : Foum Zguid – Mhamid : 338 km / Erg Chegaga \n-Étape 6\, le 28 avril : Mhamid – Mhamid : 341 km / Oueds et Erg Chegaga \n-Étape 7\, le 29 avril : Mhamid – Merzouga : 324 km / Montagnes\, pistes rapides\, dunes \n-Étape 8\, le 30 avril : Merzouga – Merzouga : 205 km / Dunes et pistes WRC \n3 boucles pour plus de confort\nAu bivouac d’Assa\, nous restons 1 nuit ; aux bivouacs de Foum Zguid\, Mhamid et Merzouga\, 2 nuits à chaque fois. Tant pour les équipes d’assistance que pour l’organisation\, démonter un bivouac chaque jour et le reconstruire au point suivant demande un énorme effort logistique. En réduisant\, par analogie avec le Tunisia Desert Challenge\, le nombre de bivouacs différents de 6 à 4\, nous pouvons donner aux deux parties plus d’espace pour respirer\, afin que les mécaniciens aient aussi la possibilité de faire la grasse matinée ou de boire une bière de temps en temps. \nPour la première fois\, nous nous éloignons également du concept de « coast-to-coast ». Le rallye ne se terminera plus à Saidia\, mais à Merzouga. Donc plus de bivouac sur le plateau de Rekkam\, avec le risque de températures négatives\, mais un finish party sans précédent\, dans des températures agréables\, au milieu des dunes de Merzouga.
URL:https://kap2cap.fr/evenement/morocco-desert-challenge/
LOCATION:MAROC\, Morocco
CATEGORIES:Rallyes raids
ATTACH;FMTTYPE=image/jpeg:https://kap2cap.fr/assets/truploads/2023/03/2023_Morocco_Desert_Chalenge.jpg
GEO:31.791702;-7.09262
END:VEVENT
END:VCALENDAR