BEGIN:VCALENDAR
VERSION:2.0
PRODID:-//Kap2Cap - ECPv6.15.16//NONSGML v1.0//EN
CALSCALE:GREGORIAN
METHOD:PUBLISH
X-WR-CALNAME:Kap2Cap
X-ORIGINAL-URL:https://kap2cap.fr
X-WR-CALDESC:Évènements pour Kap2Cap
REFRESH-INTERVAL;VALUE=DURATION:PT1H
X-Robots-Tag:noindex
X-PUBLISHED-TTL:PT1H
BEGIN:VTIMEZONE
TZID:Europe/Paris
BEGIN:DAYLIGHT
TZOFFSETFROM:+0100
TZOFFSETTO:+0200
TZNAME:CEST
DTSTART:20230326T010000
END:DAYLIGHT
BEGIN:STANDARD
TZOFFSETFROM:+0200
TZOFFSETTO:+0100
TZNAME:CET
DTSTART:20231029T010000
END:STANDARD
BEGIN:DAYLIGHT
TZOFFSETFROM:+0100
TZOFFSETTO:+0200
TZNAME:CEST
DTSTART:20240331T010000
END:DAYLIGHT
BEGIN:STANDARD
TZOFFSETFROM:+0200
TZOFFSETTO:+0100
TZNAME:CET
DTSTART:20241027T010000
END:STANDARD
BEGIN:DAYLIGHT
TZOFFSETFROM:+0100
TZOFFSETTO:+0200
TZNAME:CEST
DTSTART:20250330T010000
END:DAYLIGHT
BEGIN:STANDARD
TZOFFSETFROM:+0200
TZOFFSETTO:+0100
TZNAME:CET
DTSTART:20251026T010000
END:STANDARD
END:VTIMEZONE
BEGIN:VEVENT
DTSTART;TZID=Europe/Paris:20241019T080000
DTEND;TZID=Europe/Paris:20241026T170000
DTSTAMP:20260420T025746
CREATED:20240620T094715Z
LAST-MODIFIED:20240620T095501Z
UID:32695-1729324800-1729962000@kap2cap.fr
SUMMARY:Raid Sarde (Morvan Rando)
DESCRIPTION:Au départ de Nice\, vous embarquerez direction la Sardaigne pour 6 jours de roulage sur votre propre trail. Vous découvrirez les pistes et petites routes de l’île\, accompagné d’un guide diplômé et passionné\, dans un esprit de partage pour vivre des émotions à moto dans un cadre de rêve.
URL:https://kap2cap.fr/evenement/raid-sarde-morvan-rando/
LOCATION:SARDAIGNE
CATEGORIES:Raids
ATTACH;FMTTYPE=image/jpeg:https://kap2cap.fr/assets/truploads/2024/06/2024_Raid_Sarde.jpg
ORGANIZER;CN="Morvan Rando":MAILTO:contactmorvanrando@gmail.com
END:VEVENT
BEGIN:VEVENT
DTSTART;TZID=Europe/Paris:20240907T080000
DTEND;TZID=Europe/Paris:20240908T170000
DTSTAMP:20260420T025746
CREATED:20240302T080653Z
LAST-MODIFIED:20240302T082104Z
UID:32103-1725696000-1725814800@kap2cap.fr
SUMMARY:Morvan Expérience (Morvan Rando)
DESCRIPTION:Dans l’esprit du MRT \, je vous accueille sur un week end dans un esprit de convivialité pour partager une expérience unique.\nDeux boucles de 300 et 400 kms au cœur du Morvan\, à faire sur deux jours à l’aide d’une trace gpx\, constituée d’une majorité de off road \, et tracée par votre guide local .\nDeux options s’offrent à vous : une option débutant composée de petites routes sinueuses et de chemins accessibles\, et la trace intermédiaire du MRT \, constituée à 90 % d’off road.\nUn camping est privatisé pour l’événement\, et un traiteur\, local également\, se charge de vous préparer une restauration de qualité.\nDe quoi passer un bon week end de partage et d’émotion dans cette nature préservée que nous offre le Morvan !
URL:https://kap2cap.fr/evenement/morvan-experience-morvan-rando/
LOCATION:FRANCE
CATEGORIES:Randonnées
ATTACH;FMTTYPE=image/jpeg:https://kap2cap.fr/assets/truploads/2024/03/2024_Morvan_Experience.jpg
ORGANIZER;CN="Morvan Rando":MAILTO:contactmorvanrando@gmail.com
END:VEVENT
BEGIN:VEVENT
DTSTART;TZID=Europe/Paris:20240420T080000
DTEND;TZID=Europe/Paris:20240421T170000
DTSTAMP:20260420T025746
CREATED:20240302T083328Z
LAST-MODIFIED:20240302T083328Z
UID:32109-1713600000-1713718800@kap2cap.fr
SUMMARY:Morvan Rando (Morvan Rando)
DESCRIPTION:Randonnée Trail Off Road \n2 jours dans le Morvan
URL:https://kap2cap.fr/evenement/morvan-rando-morvan-rando/
LOCATION:FRANCE
CATEGORIES:Randonnées
ATTACH;FMTTYPE=image/jpeg:https://kap2cap.fr/assets/truploads/2024/03/2024_Morvan_Rando.jpg
ORGANIZER;CN="Morvan Rando":MAILTO:contactmorvanrando@gmail.com
END:VEVENT
END:VCALENDAR