BEGIN:VCALENDAR
VERSION:2.0
PRODID:-//Kap2Cap - ECPv6.15.16//NONSGML v1.0//EN
CALSCALE:GREGORIAN
METHOD:PUBLISH
X-WR-CALNAME:Kap2Cap
X-ORIGINAL-URL:https://kap2cap.fr
X-WR-CALDESC:Évènements pour Kap2Cap
REFRESH-INTERVAL;VALUE=DURATION:PT1H
X-Robots-Tag:noindex
X-PUBLISHED-TTL:PT1H
BEGIN:VTIMEZONE
TZID:Europe/Paris
BEGIN:DAYLIGHT
TZOFFSETFROM:+0100
TZOFFSETTO:+0200
TZNAME:CEST
DTSTART:20230326T010000
END:DAYLIGHT
BEGIN:STANDARD
TZOFFSETFROM:+0200
TZOFFSETTO:+0100
TZNAME:CET
DTSTART:20231029T010000
END:STANDARD
BEGIN:DAYLIGHT
TZOFFSETFROM:+0100
TZOFFSETTO:+0200
TZNAME:CEST
DTSTART:20240331T010000
END:DAYLIGHT
BEGIN:STANDARD
TZOFFSETFROM:+0200
TZOFFSETTO:+0100
TZNAME:CET
DTSTART:20241027T010000
END:STANDARD
BEGIN:DAYLIGHT
TZOFFSETFROM:+0100
TZOFFSETTO:+0200
TZNAME:CEST
DTSTART:20250330T010000
END:DAYLIGHT
BEGIN:STANDARD
TZOFFSETFROM:+0200
TZOFFSETTO:+0100
TZNAME:CET
DTSTART:20251026T010000
END:STANDARD
END:VTIMEZONE
BEGIN:VEVENT
DTSTART;TZID=Europe/Paris:20240607T000000
DTEND;TZID=Europe/Paris:20240609T000000
DTSTAMP:20260420T012831
CREATED:20230309T094640Z
LAST-MODIFIED:20240505T093848Z
UID:27061-1717718400-1717891200@kap2cap.fr
SUMMARY:Hard Défi Tour (Passion et découverte)
DESCRIPTION:Le Hard DéfiTour est un défi sportif à vivre en équipe de 2 motos ou plus sur des parcours en boucle entre Auvergne et Limousin destiné aux trails et maxi-trails. \nLe parcours se déroule sur deux jours au GPS off-road\,  samedi et dimanche\, essentiellement hors bitume. Des stations services situées sur la trace permettent de faire le plein. Le parcours de chacune des journées se fait en boucle ; départ et arrivée au camping  Moulin de Serre à Singles (63). \nPour le bon déroulé de la randonnée : ouvreurs\, marshals\, fermeurs\, checkpoints\, camions balai et une barrière horaire sécurisent les participants. \nPour plus de sécurité\, toutes les motos des participants et du staff sont équipées d’une balise de localisation par satellite mise en place par notre partenaire Owaka.
URL:https://kap2cap.fr/evenement/hard-defi-tour-passion-et-decouverte-owaka/
LOCATION:FRANCE
CATEGORIES:Raids
ATTACH;FMTTYPE=image/jpeg:https://kap2cap.fr/assets/truploads/2023/03/2024_Hard_Defi_Tour-1.jpg
ORGANIZER;CN="Passion et D%C3%A9couverte":MAILTO:james@passionetdecouverte.com
END:VEVENT
END:VCALENDAR