BEGIN:VCALENDAR
VERSION:2.0
PRODID:-//Kap2Cap - ECPv6.15.16//NONSGML v1.0//EN
CALSCALE:GREGORIAN
METHOD:PUBLISH
X-ORIGINAL-URL:https://kap2cap.fr
X-WR-CALDESC:Évènements pour Kap2Cap
REFRESH-INTERVAL;VALUE=DURATION:PT1H
X-Robots-Tag:noindex
X-PUBLISHED-TTL:PT1H
BEGIN:VTIMEZONE
TZID:Europe/Paris
BEGIN:DAYLIGHT
TZOFFSETFROM:+0100
TZOFFSETTO:+0200
TZNAME:CEST
DTSTART:20210328T010000
END:DAYLIGHT
BEGIN:STANDARD
TZOFFSETFROM:+0200
TZOFFSETTO:+0100
TZNAME:CET
DTSTART:20211031T010000
END:STANDARD
BEGIN:DAYLIGHT
TZOFFSETFROM:+0100
TZOFFSETTO:+0200
TZNAME:CEST
DTSTART:20220327T010000
END:DAYLIGHT
BEGIN:STANDARD
TZOFFSETFROM:+0200
TZOFFSETTO:+0100
TZNAME:CET
DTSTART:20221030T010000
END:STANDARD
BEGIN:DAYLIGHT
TZOFFSETFROM:+0100
TZOFFSETTO:+0200
TZNAME:CEST
DTSTART:20230326T010000
END:DAYLIGHT
BEGIN:STANDARD
TZOFFSETFROM:+0200
TZOFFSETTO:+0100
TZNAME:CET
DTSTART:20231029T010000
END:STANDARD
END:VTIMEZONE
BEGIN:VEVENT
DTSTART;VALUE=DATE:20220610
DTEND;VALUE=DATE:20220613
DTSTAMP:20260420T074500
CREATED:20211012T134250Z
LAST-MODIFIED:20211012T134250Z
UID:12351-1654819200-1655078399@kap2cap.fr
SUMMARY:France - Hard DéfiTour
DESCRIPTION:Rando défi off-road trails\, maxi trails et enduros au départ du camping du Moulin de Serre à Singles (Puy-de-Dôme). Le Hard DéfiTour est un défi sportif à vivre en équipe de 2 motos ou plus sur des parcours en boucle entre Auvergne et Limousin destiné aux trails et maxi-trails. \n  \nAttention quarante enduros sont acceptées et partiront en dernier\, après les trails et les maxi-trails (les équipes mixtes enduros\, trails et/ou maxi-trails partiront dans les dernières équipes).Le HDT change de formule et passe à la vitesse supérieure pour tenir sa réputation de rando extrême. Une seule formule… plus de 700 km à parcourir sur deux jours au GPS off-road\,  les samedis et dimanches.
URL:https://kap2cap.fr/evenement/france-hard-defitour/
CATEGORIES:Randonnées
ATTACH;FMTTYPE=image/jpeg:https://kap2cap.fr/assets/truploads/2021/10/defitour-lolo-kap2cap.jpg
ORGANIZER;CN="Passion et D%C3%A9couverte":MAILTO:james@passionetdecouverte.com
END:VEVENT
END:VCALENDAR