BEGIN:VCALENDAR
VERSION:2.0
PRODID:-//Kap2Cap - ECPv6.15.16//NONSGML v1.0//EN
CALSCALE:GREGORIAN
METHOD:PUBLISH
X-WR-CALNAME:Kap2Cap
X-ORIGINAL-URL:https://kap2cap.fr
X-WR-CALDESC:Évènements pour Kap2Cap
REFRESH-INTERVAL;VALUE=DURATION:PT1H
X-Robots-Tag:noindex
X-PUBLISHED-TTL:PT1H
BEGIN:VTIMEZONE
TZID:Europe/Paris
BEGIN:DAYLIGHT
TZOFFSETFROM:+0100
TZOFFSETTO:+0200
TZNAME:CEST
DTSTART:20220327T010000
END:DAYLIGHT
BEGIN:STANDARD
TZOFFSETFROM:+0200
TZOFFSETTO:+0100
TZNAME:CET
DTSTART:20221030T010000
END:STANDARD
BEGIN:DAYLIGHT
TZOFFSETFROM:+0100
TZOFFSETTO:+0200
TZNAME:CEST
DTSTART:20230326T010000
END:DAYLIGHT
BEGIN:STANDARD
TZOFFSETFROM:+0200
TZOFFSETTO:+0100
TZNAME:CET
DTSTART:20231029T010000
END:STANDARD
BEGIN:DAYLIGHT
TZOFFSETFROM:+0100
TZOFFSETTO:+0200
TZNAME:CEST
DTSTART:20240331T010000
END:DAYLIGHT
BEGIN:STANDARD
TZOFFSETFROM:+0200
TZOFFSETTO:+0100
TZNAME:CET
DTSTART:20241027T010000
END:STANDARD
END:VTIMEZONE
BEGIN:VEVENT
DTSTART;TZID=Europe/Paris:20230815T080000
DTEND;TZID=Europe/Paris:20230819T170000
DTSTAMP:20260420T062441
CREATED:20230811T070719Z
LAST-MODIFIED:20230811T071350Z
UID:28654-1692086400-1692464400@kap2cap.fr
SUMMARY:L'Auvergne jusqu'aux Cévennes (Planer Ride)
DESCRIPTION:Partez à l’aventure pendant 5 jours\, à travers les régions de l’Auvergne et des Cévennes. Découvrez le paradis des motards sur des routes aux tracés sinueux\, disputant les rivières. Sur ce circuit moto Auvergne\, vous sillonnerez les montagnes verdoyantes pour découvrir\, au bord de grands virages\, des panoramas grandioses. Entre les gorges du Tarn et le Viaduc de Millau\, vous arpenterez des paysages pittoresques\, en passant par les plus beaux villages de France. \nEn bref\, cette balade en Auvergne à moto promet d’être riche en découvertes et en sensations de ride sur des routes peu empruntées.
URL:https://kap2cap.fr/evenement/lauvergne-jusquaux-cevennes-planer-ride/
LOCATION:FRANCE
CATEGORIES:Randonnées
ATTACH;FMTTYPE=image/jpeg:https://kap2cap.fr/assets/truploads/2023/08/2023_Auvergne_Cevennes.jpg
END:VEVENT
END:VCALENDAR