BEGIN:VCALENDAR
VERSION:2.0
PRODID:-//Kap2Cap - ECPv6.15.16//NONSGML v1.0//EN
CALSCALE:GREGORIAN
METHOD:PUBLISH
X-WR-CALNAME:Kap2Cap
X-ORIGINAL-URL:https://kap2cap.fr
X-WR-CALDESC:Évènements pour Kap2Cap
REFRESH-INTERVAL;VALUE=DURATION:PT1H
X-Robots-Tag:noindex
X-PUBLISHED-TTL:PT1H
BEGIN:VTIMEZONE
TZID:Europe/Paris
BEGIN:DAYLIGHT
TZOFFSETFROM:+0100
TZOFFSETTO:+0200
TZNAME:CEST
DTSTART:20220327T010000
END:DAYLIGHT
BEGIN:STANDARD
TZOFFSETFROM:+0200
TZOFFSETTO:+0100
TZNAME:CET
DTSTART:20221030T010000
END:STANDARD
BEGIN:DAYLIGHT
TZOFFSETFROM:+0100
TZOFFSETTO:+0200
TZNAME:CEST
DTSTART:20230326T010000
END:DAYLIGHT
BEGIN:STANDARD
TZOFFSETFROM:+0200
TZOFFSETTO:+0100
TZNAME:CET
DTSTART:20231029T010000
END:STANDARD
BEGIN:DAYLIGHT
TZOFFSETFROM:+0100
TZOFFSETTO:+0200
TZNAME:CEST
DTSTART:20240331T010000
END:DAYLIGHT
BEGIN:STANDARD
TZOFFSETFROM:+0200
TZOFFSETTO:+0100
TZNAME:CET
DTSTART:20241027T010000
END:STANDARD
END:VTIMEZONE
BEGIN:VEVENT
DTSTART;TZID=Europe/Paris:20231202T080000
DTEND;TZID=Europe/Paris:20231212T170000
DTSTAMP:20260420T012933
CREATED:20230622T072720Z
LAST-MODIFIED:20230622T074248Z
UID:28419-1701504000-1702400400@kap2cap.fr
SUMMARY:Kerala La route des épices (Rakatanga tour)
DESCRIPTION:Bienvenue sur la Route des épices\, une visite fascinante pour l‘Inde du Sud à moto. Sur ce tour\, nous allons découvrir les petites routes des Ghâts occidentaux à travers des forêts tropicales à la flore exubérante. \nNous sillonneront des routes de montagne qui serpentent les Réserves Nationales de tigres et des éléphants\, avec des arrêts dans les célèbres stations de montagne entourées de plantations de thé\, et toutes sortes d’épices. Ce voyage est complété par le célèbres backwaters ou canaux d’eaux entourés des palmiers et cocotiers pour finalement aller se reposer sur les plages de la côte Malabar. Notre destination final sera le vieux quartier de capitale du Kerala\, Fort Cochin\, une ville coloniale charmante et tranquille plein d’architecture typiquement portugaise et hollandaise. \nParcours 1000kms pars des routes goudronnées à travers les états du Kerala et du Tamil Nadu\, cols de montagne à une altitude de 2200m avec une journée à la plage.
URL:https://kap2cap.fr/evenement/kerala-la-route-des-epices-rakatanga-tour/
LOCATION:Inde\, Inde
CATEGORIES:Voyages
ATTACH;FMTTYPE=image/jpeg:https://kap2cap.fr/assets/truploads/2023/06/2023_Kerala_Route_Epices.jpg
ORGANIZER;CN="Rakatanga Tour":MAILTO:contact@rakatanga-tour.com
END:VEVENT
BEGIN:VEVENT
DTSTART;TZID=Europe/Paris:20231111T080000
DTEND;TZID=Europe/Paris:20231124T170000
DTSTAMP:20260420T012933
CREATED:20230620T062642Z
LAST-MODIFIED:20230620T063227Z
UID:28400-1699689600-1700845200@kap2cap.fr
SUMMARY:Le Triangle d'Or et Nan (Rakatanga Tour)
DESCRIPTION:La boucle de Mae Hong Son est considérée comme l’une des dix plus belles routes au monde. Dotée d’un trafic très faible\, elle compte plus de 1863 virages. Des paysages montagneux émaillés de vallées luxuriantes et bordées de forêts tropicales\, la découverte de villages ancestraux à l’hospitalité incomparable\, des temples perdus\, enfouis au milieu des nuages\, sont au programme de ce circuit à moto à travers le nord de la Thaïlande\, sans oublier la fameuse cuisine thaï qui saura combler les palais les plus raffinés. Et pour être sûr que cette excursion vous délivre tous ses secrets\, nous combinons ce circuit avec une autre partie fascinante de la Thaïlande\, le célèbre Triangle d’Or. Depuis Chiang Mai\, nous nous rendrons dans la région la plus septentrionale du pays\, à la lisière de la frontière birmane\, en empruntant de somptueuses petites routes qui sauront captiver le motard le plus expérimenté. Nous traverserons ensuite le majestueux fleuve Mékong pour une escapade au Laos sur les terres de tribus indigènes. \nCe tour de 14 jours a une extension supplémentaire de 4 jours dans la région de Nan par rapport au tour de 10 jours. Nous ferons la légendaire route 1148\, sans doute la plus célèbre à faire à moto dans le Nord de la Thaïlande avec vues magnifiques des forêts de la région de Nan. Nous passons deux nuits au resort de Mae Taeng et toute une journée à Chiang Mai. \nCe circuit découverte du nord de la Thaïlande vous est proposé en moto Honda CB500X. Tour de 2400kms
URL:https://kap2cap.fr/evenement/le-triangle-dor-et-nan-rakatanga-tour/
LOCATION:Thaïlande\, Thaïlande
CATEGORIES:Voyages
ATTACH;FMTTYPE=image/jpeg:https://kap2cap.fr/assets/truploads/2023/06/2023_Triangle_Or.jpg
ORGANIZER;CN="Rakatanga Tour":MAILTO:contact@rakatanga-tour.com
GEO:15.870032;100.992541
END:VEVENT
BEGIN:VEVENT
DTSTART;TZID=Europe/Paris:20230915T080000
DTEND;TZID=Europe/Paris:20230924T170000
DTSTAMP:20260420T012933
CREATED:20230619T062222Z
LAST-MODIFIED:20230619T062521Z
UID:28381-1694764800-1695574800@kap2cap.fr
SUMMARY:La route Egée (Rakatanga Tour)
DESCRIPTION:Au cours de ce voyage moto en Turquie\, vous découvrirez des villes comme Istanbul et Antalya\, des villes du monde classique\, les cristallines eaux turquoise de la mer Égée\, les paysages d’Anatolie et les vues lunaires\, presque d’un autre monde\, de la Cappadoce. Nous dégusterons  la cuisine turque variée et exquise\, le tout en conduisant sur des routes sinueuses en très bon état. \nIstanbul\, nichée dans la mythique Corne d’Or du Bosphore\, est une fusion de civilisations d’Asie et d’Europe. Ses mille mosquées\, bazars et palais et sa vie nocturne occidentale plus qu’animée en font l’une des capitales les plus visitées au monde. Le climat a la saison de notre circuit est parfait pour rouler à moto\, avec des journées ensoleillées et des eaux parfaites pour la baignade.
URL:https://kap2cap.fr/evenement/la-route-egee-rakatanga-tour/
LOCATION:Turquie\, Turquie
CATEGORIES:Voyages
ATTACH;FMTTYPE=image/jpeg:https://kap2cap.fr/assets/truploads/2023/06/2023_Route_Egee.jpg
ORGANIZER;CN="Rakatanga Tour":MAILTO:contact@rakatanga-tour.com
GEO:38.963745;35.243322
END:VEVENT
END:VCALENDAR