BEGIN:VCALENDAR
VERSION:2.0
PRODID:-//Kap2Cap - ECPv6.15.16//NONSGML v1.0//EN
CALSCALE:GREGORIAN
METHOD:PUBLISH
X-ORIGINAL-URL:https://kap2cap.fr
X-WR-CALDESC:Évènements pour Kap2Cap
REFRESH-INTERVAL;VALUE=DURATION:PT1H
X-Robots-Tag:noindex
X-PUBLISHED-TTL:PT1H
BEGIN:VTIMEZONE
TZID:Europe/Paris
BEGIN:DAYLIGHT
TZOFFSETFROM:+0100
TZOFFSETTO:+0200
TZNAME:CEST
DTSTART:20220327T010000
END:DAYLIGHT
BEGIN:STANDARD
TZOFFSETFROM:+0200
TZOFFSETTO:+0100
TZNAME:CET
DTSTART:20221030T010000
END:STANDARD
BEGIN:DAYLIGHT
TZOFFSETFROM:+0100
TZOFFSETTO:+0200
TZNAME:CEST
DTSTART:20230326T010000
END:DAYLIGHT
BEGIN:STANDARD
TZOFFSETFROM:+0200
TZOFFSETTO:+0100
TZNAME:CET
DTSTART:20231029T010000
END:STANDARD
BEGIN:DAYLIGHT
TZOFFSETFROM:+0100
TZOFFSETTO:+0200
TZNAME:CEST
DTSTART:20240331T010000
END:DAYLIGHT
BEGIN:STANDARD
TZOFFSETFROM:+0200
TZOFFSETTO:+0100
TZNAME:CET
DTSTART:20241027T010000
END:STANDARD
BEGIN:DAYLIGHT
TZOFFSETFROM:+0100
TZOFFSETTO:+0200
TZNAME:CEST
DTSTART:20250330T010000
END:DAYLIGHT
BEGIN:STANDARD
TZOFFSETFROM:+0200
TZOFFSETTO:+0100
TZNAME:CET
DTSTART:20251026T010000
END:STANDARD
END:VTIMEZONE
BEGIN:VEVENT
DTSTART;TZID=Europe/Paris:20240815T080000
DTEND;TZID=Europe/Paris:20240824T170000
DTSTAMP:20260419T233953
CREATED:20230304T080952Z
LAST-MODIFIED:20240206T080416Z
UID:26914-1723708800-1724518800@kap2cap.fr
SUMMARY:Auvergne & Cévennes (Ride in Tours)
DESCRIPTION:Sites d’intérêts : stations thermales de Vichy et du Mont Dore\, Puy Mary et Puy de Sancy\, villages classés de Salers\, Estaing\, Conques et Ste Enimie\, viaduc du Garabit et de Millau\, Laguiole et ses couteaux\, Cathédrale Notre Dame du Puy. château du Val\, vallée de la Sioule\, Cathédrale d’Albi\, Causses Méjean\, Gorges du Tarn\, Mont Gerbier de Jonc \n 
URL:https://kap2cap.fr/evenement/auvergne-cevennes-ride-in-tours/
LOCATION:FRANCE
CATEGORIES:Voyages
ATTACH;FMTTYPE=image/jpeg:https://kap2cap.fr/assets/truploads/2023/03/2023_Auvergne_Cevennes_Ride_in_Tours.jpg
ORGANIZER;CN="Ride in Tours":MAILTO:contact@ride-in-tours.com
END:VEVENT
BEGIN:VEVENT
DTSTART;TZID=Europe/Paris:20240618T080000
DTEND;TZID=Europe/Paris:20240627T170000
DTSTAMP:20260419T233953
CREATED:20230303T161313Z
LAST-MODIFIED:20240208T081417Z
UID:26897-1718697600-1719507600@kap2cap.fr
SUMMARY:La Boucle des Grandes Alpes (Ride in Tours)
DESCRIPTION:Un road trip à moto dans les Alpes le signe des cîmes\, des lacs et des virages.\nUne boucle à moto autour des Alpes\, le plus grand massif montagneux d’Europe à cheval sur la France\, la Suisse\, L’Italie\, l’Autriche et l’Allemagne\, c’est le circuit que nous vous proposons d’accomplir en dix jours. \nLes Alpes à moto restent un Graal pour tout motard en quête de sensation\, de paysages et de grands espaces. Ce voyage à moto vous permettra de parcourir les plus belles routes des Alpes par ses cols les plus emblématiques : St Gothard\, Furka\, Grossglockner\, mais aussi ses plus beaux lacs : Côme\, Brinz et Constance. Les séjours se font hors des grands centres urbains dans des hôtels traditionnels alpins. \n 
URL:https://kap2cap.fr/evenement/la-boucle-des-grandes-alpes/
CATEGORIES:Voyages
ATTACH;FMTTYPE=image/jpeg:https://kap2cap.fr/assets/truploads/2023/03/2023_Boucle_des_Grandes_Alpes.jpg
ORGANIZER;CN="Ride in Tours":MAILTO:contact@ride-in-tours.com
END:VEVENT
BEGIN:VEVENT
DTSTART;TZID=Europe/Paris:20240526T080000
DTEND;TZID=Europe/Paris:20240603T170000
DTSTAMP:20260419T233953
CREATED:20230303T155341Z
LAST-MODIFIED:20240206T080807Z
UID:26886-1716710400-1717434000@kap2cap.fr
SUMMARY:Asturies & Picos Europa (Ride in Tours)
DESCRIPTION:Sites d’intérêts : Parc National des Picos de Europa\, port de pêche de Llastres et Tazones\, mirador del Fito\, route côtière Basque\, centre historique de Burgos\, village médiéval de Frias\, chapelle de St Juan de Gaztelugatxe\, musée Guggenheim de Bilbao\, geysers de Pria\, réserve naturelle des Bardenas Reales\, village classé de Santillana del Mar
URL:https://kap2cap.fr/evenement/asturies-picos-europa-ride-in-tours/
LOCATION:Espagne\, Espagne
CATEGORIES:Voyages
ATTACH;FMTTYPE=image/jpeg:https://kap2cap.fr/assets/truploads/2023/03/2023_Asturies_Picos_Europa.jpg
ORGANIZER;CN="Ride in Tours":MAILTO:contact@ride-in-tours.com
GEO:40.463667;-3.74922
END:VEVENT
BEGIN:VEVENT
DTSTART;TZID=Europe/Paris:20240503T080000
DTEND;TZID=Europe/Paris:20240515T170000
DTSTAMP:20260419T233953
CREATED:20230303T154439Z
LAST-MODIFIED:20240208T080926Z
UID:26881-1714723200-1715792400@kap2cap.fr
SUMMARY:Balade Irlandaise (Ride in Tours)
DESCRIPTION:L’Irlande\, terre de culture et d’histoire est une destination qui immédiatement vous fera succomber à ses charmes. Parcourir l’Irlande à moto\, c’est partir à la rencontre de ses habitants si attachant et dont le sens de l’hospitalité vous lie d’amitié à tout jamais ; c’est rouler sur ces petites routes escarpées et étroites qui sillonnent le pays le long des côtes ou à travers ses montagnes.\nVous découvrirez au cours de ce roadtrip à moto en Irlande\, un pays avec ses trésors les plus connus tel le Ring of Kerry\, les falaises de Moher ou bien encore la Chaussée des Géants ; mais aussi ses gemmes les plus reculés comme la Slea Head drive ou le Dunloe Gap qui reste mémorable pour qui à le bonheur de la faire au guidon d’une moto. Les villes ne seront pas en reste avec une journée à Belfast et à Dublin pour en visiter tous les incontournables comme le musée Titanic ou la brasserie Guinness.\nVous aurez l’occasion pour les fans de la série Game of Thrones de voir de nombreux sites et monuments ayant servi au tournage telle la route des Dark Hedges en Irlande du Nord.\nVous n’oublierez jamais l’ambiance festive et conviviale des pubs irlandais le soir après une bonne journée de route à moto\, autour d’une Guinness à chanter sur l’air d’Irish Rover.\nAu cours de ce voyage exceptionnel vous assisterez à une des courses de moto les plus célèbres après le TT de l’Ile de Man\, la NW200\, une course sur route pour pilotes aux gros cœurs.\nSi vous avez toujours rêvé de visiter l’Irlande et de rouler sur la mythique Wild Atlantic Way à moto\, alors ne cherchez plus nous vous attendons et comme disent les Irlandais : « Cead mile failte ». \n 
URL:https://kap2cap.fr/evenement/balade-irlandaise-ride-in-tours/
LOCATION:Irlande\, Irlande
CATEGORIES:Voyages
ATTACH;FMTTYPE=image/jpeg:https://kap2cap.fr/assets/truploads/2023/05/2023_Balade_Irlandaise.jpg
ORGANIZER;CN="Ride in Tours":MAILTO:contact@ride-in-tours.com
GEO:53.41291;-8.24389
END:VEVENT
BEGIN:VEVENT
DTSTART;TZID=Europe/Paris:20231202T080000
DTEND;TZID=Europe/Paris:20231209T170000
DTSTAMP:20260419T233953
CREATED:20230304T093231Z
LAST-MODIFIED:20230309T133244Z
UID:26933-1701504000-1702141200@kap2cap.fr
SUMMARY:Les Canaries (Ride in Tours)
DESCRIPTION:L’été est déjà bien loin dans le rétroviseur\, vous rêvez d’évasion\, de soleil\, d’une pointe de de charme et d’un soupçon d’exotisme et le tout au guidon d’une moto pour un road trip au soleil. \nQue diriez-vous de poser vos roues sur de petites routes sinueuses taillées dans la montagne\, couverte de cactus\, traverser des canyons et villages blancs assoupis sous l’azur\, des forêts luxuriantes et des bananeraies\, flâner sur des plages de sable noir en regardant les surfeurs chevaucher l’océan\, ou bien écouter le silence d’un paysage lunaire au cœur des champs de lave ?.Ne rêvez plus\, ce paradis existe à moins de 3 heures d’avion de chez vous. Avec Ride in Tours vous découvrirez la face cachée des Canaries bien loin des idées préconçues à travers les plus belles routes panoramiques de Gran Canaria et Tenerife. \nJour 1 ARRIVÉE À GRAN CANARIA\nJour 2 MASPALOMAS – PUERTO NIEVES (140 km)\nJour 3 BOUCLE SUR GRAN CANARIA (120 km)\nJour 4 BOUCLE SUR GRAN CANARIA (90 km)\nJour 5 PUERTO NIEVES – TÉNERIFE (150 km)\nJour 6 BOUCLE SUR TÉNERIFE (140 km)\nJour 7 TÉNERIFE – MASPALOMAS (170 km)\nJour 8 DÉPART GRAN CANARIA.
URL:https://kap2cap.fr/evenement/les-canaries-ride-in-tours/
LOCATION:Canaries\, Espagne
CATEGORIES:Voyages
ATTACH;FMTTYPE=image/jpeg:https://kap2cap.fr/assets/truploads/2023/03/2023_Canaries_Ride_in_Tours.jpg
ORGANIZER;CN="Ride in Tours":MAILTO:contact@ride-in-tours.com
GEO:40.463667;-3.74922
END:VEVENT
BEGIN:VEVENT
DTSTART;TZID=Europe/Paris:20231001T080000
DTEND;TZID=Europe/Paris:20231009T170000
DTSTAMP:20260419T233953
CREATED:20230304T092917Z
LAST-MODIFIED:20230309T165452Z
UID:26930-1696147200-1696870800@kap2cap.fr
SUMMARY:Les villages blancs d'Andalousie (Ride in Tours)
DESCRIPTION:Andalousie\, terres de couleurs et de traditions. Ce voyage moto en Andalousie vous fera tomber sous le charme des incontournables petits villages blancs comme ceux de Gauçin\, Arcos de la Frontrera ou Casarès mais aussi les majestueuses villes d’art comme Séville ou Grenade. Cette région n’est pas seulement connue pour ses immenses plages ensoleillées de la Costa del Sol\, c’est aussi une terre de moto ou les innombrables routes intérieures qui sillonnent les sierras régalent les amateurs de sensations\, de routes en corniche et de sommets. Les routes andalouses virevoltent tour à tour entre les oliveraies et sierras arides qui rappellent l’ouest américain d’où surgissent des silhouettes de châteaux et des lacs aux eaux turquoise. \nVous ferez étape à Gibraltar pour visiter cette curiosité géopolitique et grimper au sommet du rocher pour scruter les côtes du continent africain. Une journée libre à Grenade vous permettra de tomber sous le charme de l’Alhambra\, le plus beau témoin de l’histoire musulmane en Espagne. Puis vous nous longerez les crêtes de la Sierra Nevada par la route des Alpejurras et ses villages authentiques d’altitude\, pour rejoindre le désert de Tabernas. Ici se trouve les studios de cinéma où de mythiques westerns furent tournés. Ce road trip moto en Andalousie vous plongera au cœur de la culture espagnole\, bercée par la musique flamenco\, la chaleur et la joie de vivre qui caractérise les andalous. Un voyage sans modération… \nJour 1 ARRIVÉE À SÉVILLE\nJour 2 SÉVILLE – RONDA (174 km)\nJour 3 RONDA – GIBRALTAR (184 km)\nJour 4 GIBRALTAR – ANTEQUERA (239 km)\nJour 5 ANTEQUERA – GRENADE (217 km)\nJour 6 JOURNÉE LIBRE À GRENADE\nJour 7 GRENADE – TABERNAS (193 km)\nJour 8 TABERNAS – UBEDA (239 km)\nJour 9 DEPART D’UBEDA
URL:https://kap2cap.fr/evenement/les-villages-blancs-dandalousie-ride-in-tours/
LOCATION:Espagne\, Espagne
CATEGORIES:Voyages
ATTACH;FMTTYPE=image/jpeg:https://kap2cap.fr/assets/truploads/2023/03/2023_Andalousie_Ride_in_Tours.jpg
ORGANIZER;CN="Ride in Tours":MAILTO:contact@ride-in-tours.com
GEO:40.463667;-3.74922
END:VEVENT
BEGIN:VEVENT
DTSTART;TZID=Europe/Paris:20230918T080000
DTEND;TZID=Europe/Paris:20230925T170000
DTSTAMP:20260419T233953
CREATED:20230304T092330Z
LAST-MODIFIED:20230309T172636Z
UID:26927-1695024000-1695661200@kap2cap.fr
SUMMARY:Toscane & Cinque Terre (Ride in Tours)
DESCRIPTION:La Toscane et les Cinque Terre\, avec leurs paysages emblématiques et leurs routes spectaculaires\, comptent parmi les incontournables destinations à moto. Notre voyage à moto en Toscane vous mènera de Bologne\, le berceau de Ducati\, à Rapello\, sur la Riviera italienne\, sur les meilleures routes à moto de la Toscane et de la Ligurie. Vous découvrirez les monuments et les villages célèbres comme la place du Palio de  Sienne ou le Duomo de Florence\, ou San Gimignano\, la Manhattan de Toscane et Montepulciano et son vin exquis ; mais aussi ses sites moins connus comme les sources thermales de Saturnia ou les routes sinueuses et étroites de la montagne des Apuanes. Vous serez émerveillés par les couleurs des villages du parc national des Cinque Terre et profiterez à coup sûr de la gastronomie italienne. \nJour 1 ARRIVÉE Á BOLOGNE\nJour 2 BOLOGNE – SIENNE (220 km)\nJour 3 SIENNE – ORVIETO (198 km)\nJour 4 ORVIETO – MONTE AMIATA (230 km)\nJour 5 MONTE AMIATA – PESCIA (246 km)\nJour 6 PESCIA – MASSA (242 km)\nJour 7 MASSA – RAPALLO (158 km)\nJour 8 DÉPART DE RAPALLO
URL:https://kap2cap.fr/evenement/toscane-cinque-terre-ride-in-tours/
LOCATION:Italie\, Italie
CATEGORIES:Voyages
ATTACH;FMTTYPE=image/jpeg:https://kap2cap.fr/assets/truploads/2023/03/2023_Toscane-Ride-in-Tours.jpg
ORGANIZER;CN="Ride in Tours":MAILTO:contact@ride-in-tours.com
GEO:41.87194;12.56738
END:VEVENT
BEGIN:VEVENT
DTSTART;TZID=Europe/Paris:20230910T080000
DTEND;TZID=Europe/Paris:20230917T170000
DTSTAMP:20260419T233953
CREATED:20230304T091844Z
LAST-MODIFIED:20230310T150034Z
UID:26924-1694332800-1694970000@kap2cap.fr
SUMMARY:Italies des Lacs & Dolomites (Ride in Tours)
DESCRIPTION:Un roadtrip à moto dans les Dolomites et les lacs italiens sous le signe de la nature et de l’histoire. \nEntre lacs et montagnes\, ce circuit à moto\, au coeur de l’Italie du nord\, vous fera découvrir les charmes des lacs italiens ainsi que les vertiges des sommets alpins tel que le mythique col du Selvio à plus de 2700 m. Aprés avoir vaincu les nombreux cols des Dolomites tel que le Pordoi\, le Giau\,le Falzarego ou le surprenant San Boldo vous atteindrez les rives du lac de Garde qui vous ménera jusqu’à une des plus belles villes d’art du nord : Bergame ! \nJour 1 ARRIVÉE À ORTA\nJour 2 ORTA – LAC DE CÔME (204 km)\nJour 3 LAC DE CÔME – CHIAVENNA (113 km)\nJour 4 CHIAVENNA – DOLOMITES (267 km)\nJour 5 DOLOMITES – CORTINA D’AMPEZZO (182 km)\nJour 6 CORTINA D’AMPEZZO – TRENTE (279 km)\nJour 7 TRENTE – BERGAME (219 km)\nJour 8 DÉPART BERGAME
URL:https://kap2cap.fr/evenement/italies-des-lacs-dolomites-ride-in-tours/
LOCATION:Italie\, Italie
CATEGORIES:Voyages
ATTACH;FMTTYPE=image/jpeg:https://kap2cap.fr/assets/truploads/2023/03/2023_Italie_Dolomites_Ride_in_Tours.jpg
ORGANIZER;CN="Ride in Tours":MAILTO:contact@ride-in-tours.com
GEO:41.87194;12.56738
END:VEVENT
BEGIN:VEVENT
DTSTART;TZID=Europe/Paris:20230702T080000
DTEND;TZID=Europe/Paris:20230709T170000
DTSTAMP:20260419T233953
CREATED:20230304T080411Z
LAST-MODIFIED:20230313T134120Z
UID:26909-1688284800-1688922000@kap2cap.fr
SUMMARY:Traversée des Pyrénées (Ride in Tours)
DESCRIPTION:Traverser les Pyrénées à moto depuis la côte Atlantique jusqu’aux rives de la Méditerranée reste une expérience inoubliable que tout motard rêve d’accomplir un jour. Notre road trip moto vous permettra de découvrir l’immense richesse et variété de cette chaine montagneuse\, depuis le pays Basque jusqu’aux Pyrénées Catalanes. Nous alternerons les portions françaises et espagnoles pour tirer la quintessence des meilleures routes à moto des Pyrénées. Vous pourrez visiter les plus beaux villages de ce massif : Ainsa\, Villefranche de Conflent\, Espelette et son piment\, Ainhoa mais c’est surtout sur les routes de ses cols que le plaisir de conduite sera à son comble. Enfin le soir nous aurons tout à loisir de déguster la gastronomie locale si diverse et savoureuse. \nJour 1 Arrivée à BIARRITZ\nJour 2 BIARRITZ – ST JEAN PIED DE PORT (204 km)\nJour 3 ST JEAN PIED DE PORT – LOURDES (210 km)\nJour 4 LOURDES – VIELHA (198 ou 283 km)\nJour 5 VIELHA – ANDORRE LA VIEILLE (219 km)\nJour 6 ANDORRE LA VIEILLE – VERNET LES BAINS (259 km)\nJour 7 VERNET LES BAINS – ROSAS (226 km)
URL:https://kap2cap.fr/evenement/traversee-des-pyrenees-ride-in-tours/
CATEGORIES:Voyages
ATTACH;FMTTYPE=image/jpeg:https://kap2cap.fr/assets/truploads/2023/03/2023_Traversee_Pyrenees_Ride_in_Tours.jpeg
ORGANIZER;CN="Ride in Tours":MAILTO:contact@ride-in-tours.com
END:VEVENT
BEGIN:VEVENT
DTSTART;TZID=Europe/Paris:20230609T080000
DTEND;TZID=Europe/Paris:20230619T170000
DTSTAMP:20260419T233953
CREATED:20230303T160409Z
LAST-MODIFIED:20230313T140727Z
UID:26892-1686297600-1687194000@kap2cap.fr
SUMMARY:Route des Grandes Alpes & Provence (Ride in Tours)
DESCRIPTION:Sillonner les Alpes à moto\, c’est bien souvent choisir quelle partie faire tellement celles-ci sont variées et différentes. Nous vous proposons à travers ce voyage moto d’en parcourir l’intégralité. D’Evian à Annecy en passant par la Provence et la Drôme provençale. Ce road trip moto vous emmènera tout d’abord sur les cols de la Grande Route des Alpes\, cette route mythique qui relie Thonon à Menton en passant par tous les cols célèbres comme le Galibier\, l’Iseran\, la Bonette\, etc. Puis une fois sur la Côte d’Azur vous aurez tout à loisirs de déambuler dans les nombreux villages perchés de l’arrière pays niçois tel que Ste Agnès\, Eze ou Peillon mais aussi traverser l’exclusive Monte Carlo et ses hôtels de luxe. Par la Corniche de l’Estérel vous rejoindrez la haute Provence et les impressionnantes gorges du Verdon. Puis après l’ascension du Mont Ventoux vous traverserez les Baronnnies provençales de la Drôme qui vous mèneront au massif du Vercors et ses routes vertigineuses. Il ne restera plus que le massif de la Chartreuse pour rejoindre les deux plus beaux lacs de la Savoie : le Bourget et celui d’Annecy\, terme de ce road trip moto dans les Alpes et la Provence. \nLe circuit idéal pour tout motard en quête du cocktail de voyage moto parfait : soleil\, routes sinueuses\, cols panoramiques\, gorges abruptes\, villages authentiques\, gastronomie variée\, et routes en corniche. Un cocktail a savourer sans modération. \nJour 1 ARRIVÉE À ÉVIAN\nJour 2 ÉVIAN – BOURG ST MAURICE (217 km)\nJour 3 BOURG ST MAURICE – BRIANÇON (189 km)\nJour 4 BRIANÇON – PUGET THENIERS (215 km)\nJour 5 PUGET THENIERS – MENTON (180)\nJour 6 MENTON – GORGES DU VERDON (211 km)\nJour 7 GORGES DU VERDON (190 km)\nJour 8 GORGES DU VERDON – VAISON LA ROMAINE (202 km)\nJour 9 VAISON LA ROMAINE – VERCORS (234 km)\nJour 10 VERCORS – ANNECY (209 km)
URL:https://kap2cap.fr/evenement/route-des-grandes-alpes-provence/
CATEGORIES:Road Trip
ATTACH;FMTTYPE=image/jpeg:https://kap2cap.fr/assets/truploads/2023/03/2023_Route_des_Grandes_Alpes.jpeg
ORGANIZER;CN="Ride in Tours":MAILTO:contact@ride-in-tours.com
END:VEVENT
END:VCALENDAR