BEGIN:VCALENDAR
VERSION:2.0
PRODID:-//Kap2Cap - ECPv6.15.16//NONSGML v1.0//EN
CALSCALE:GREGORIAN
METHOD:PUBLISH
X-ORIGINAL-URL:https://kap2cap.fr
X-WR-CALDESC:Évènements pour Kap2Cap
REFRESH-INTERVAL;VALUE=DURATION:PT1H
X-Robots-Tag:noindex
X-PUBLISHED-TTL:PT1H
BEGIN:VTIMEZONE
TZID:Europe/Paris
BEGIN:DAYLIGHT
TZOFFSETFROM:+0100
TZOFFSETTO:+0200
TZNAME:CEST
DTSTART:20220327T010000
END:DAYLIGHT
BEGIN:STANDARD
TZOFFSETFROM:+0200
TZOFFSETTO:+0100
TZNAME:CET
DTSTART:20221030T010000
END:STANDARD
BEGIN:DAYLIGHT
TZOFFSETFROM:+0100
TZOFFSETTO:+0200
TZNAME:CEST
DTSTART:20230326T010000
END:DAYLIGHT
BEGIN:STANDARD
TZOFFSETFROM:+0200
TZOFFSETTO:+0100
TZNAME:CET
DTSTART:20231029T010000
END:STANDARD
BEGIN:DAYLIGHT
TZOFFSETFROM:+0100
TZOFFSETTO:+0200
TZNAME:CEST
DTSTART:20240331T010000
END:DAYLIGHT
BEGIN:STANDARD
TZOFFSETFROM:+0200
TZOFFSETTO:+0100
TZNAME:CET
DTSTART:20241027T010000
END:STANDARD
END:VTIMEZONE
BEGIN:VEVENT
DTSTART;TZID=Europe/Paris:20230429T080000
DTEND;TZID=Europe/Paris:20230507T170000
DTSTAMP:20260420T094209
CREATED:20230303T105130Z
LAST-MODIFIED:20230313T152529Z
UID:26866-1682755200-1683478800@kap2cap.fr
SUMMARY:Marrakech-Erfoud (Sandraiders)
DESCRIPTION:PHILOSOPHIE\nSans être une compétition\, il y aura des épreuves d’orientation non obligatoires. Tu auras le privilège de pouvoir rouler avec le mythique pilote Jordi Arcarons qui a participé 16 fois au Dakar  en se classant 4 fois deuxième.\nDécouvre un voyage différent pilotant une moto des années 80′. Des sensations uniques que tu ne pourras jamais oublier.\nDésert\, dunes\, sable\, motos\, divertissement\, adrénaline\, passion… en définitive\, une aventure pour s’éveiller.\nSÉCURITÉ\nNotre raison principale est toujours la sécurité des participants donc nous disposons d’une équipe spécialisée de médecins\, de mécaniciens et d’une sécurité pour que le parcours soit toujours sûr. Dans chaque étape on répartit des balises SPOT et GPS à chaque participant par ce qu’il y a une vigilance rigoureuse et une aide durant chaque étape.\nL’inscription dans la Sandraiders inclut une assurance de rapatriement\, celle-ci complète à le couverture d’assurance médicale et en cas d’un accident il facilite les formalités et couvre l’évacuation par urgence dans un hélicoptère.\nLOGISTIQUE\nLe Sandraiders est une aventure conçue et imaginée pour un motard amateur qui souhaite participer à un raid mais qui n’est pas certain de pouvoir y arriver seul. C’est pourquoi nous avons réuni l’équipe idéale de guides qui vous accompagneront pour profiter pleinement de cette expérience. Vous serez également secondé par une équipe logistique incluant mécaniciens et personnel médical.\nL’organisation mettra à la disposition de chaque motard une malle. Pour l’étape Marathon l’organisation transportera le minimal pour monter le campement dans un seul camion (des pièces de rechange\, des chapiteaux\, une nourriture pour la nuit et des tentes pour les clients). Vous devrez porter le minimum indispensable pour passer la nuit dans le Bivouac (étape Marathon).\nL’organisation préparera dans chaque hôtel un parc fermé après avoir fini chaque étape où laisser les motos et pouvoir les réviser avec l’aide de l’équipe mécanique\, et un chapiteau avec zones de repos\, de musique et de rafraîchissements où pouvoir revivre l’étape et la commenter avec les compagnons de l’aventure.
URL:https://kap2cap.fr/evenement/maroc-sandraiders/
LOCATION:MAROC\, Morocco
CATEGORIES:Raids
ATTACH;FMTTYPE=image/jpeg:https://kap2cap.fr/assets/truploads/2023/03/2023_Sandraiders.jpg
ORGANIZER;CN="Sandraiders":MAILTO:sandraiders@soloraids.com
GEO:31.791702;-7.09262
END:VEVENT
END:VCALENDAR