BEGIN:VCALENDAR
VERSION:2.0
PRODID:-//Kap2Cap - ECPv6.15.16//NONSGML v1.0//EN
CALSCALE:GREGORIAN
METHOD:PUBLISH
X-WR-CALNAME:Kap2Cap
X-ORIGINAL-URL:https://kap2cap.fr
X-WR-CALDESC:Évènements pour Kap2Cap
REFRESH-INTERVAL;VALUE=DURATION:PT1H
X-Robots-Tag:noindex
X-PUBLISHED-TTL:PT1H
BEGIN:VTIMEZONE
TZID:Europe/Paris
BEGIN:DAYLIGHT
TZOFFSETFROM:+0100
TZOFFSETTO:+0200
TZNAME:CEST
DTSTART:20220327T010000
END:DAYLIGHT
BEGIN:STANDARD
TZOFFSETFROM:+0200
TZOFFSETTO:+0100
TZNAME:CET
DTSTART:20221030T010000
END:STANDARD
BEGIN:DAYLIGHT
TZOFFSETFROM:+0100
TZOFFSETTO:+0200
TZNAME:CEST
DTSTART:20230326T010000
END:DAYLIGHT
BEGIN:STANDARD
TZOFFSETFROM:+0200
TZOFFSETTO:+0100
TZNAME:CET
DTSTART:20231029T010000
END:STANDARD
BEGIN:DAYLIGHT
TZOFFSETFROM:+0100
TZOFFSETTO:+0200
TZNAME:CEST
DTSTART:20240331T010000
END:DAYLIGHT
BEGIN:STANDARD
TZOFFSETFROM:+0200
TZOFFSETTO:+0100
TZNAME:CET
DTSTART:20241027T010000
END:STANDARD
END:VTIMEZONE
BEGIN:VEVENT
DTSTART;TZID=Europe/Paris:20230610T080000
DTEND;TZID=Europe/Paris:20230617T170000
DTSTAMP:20260420T080308
CREATED:20230405T182445Z
LAST-MODIFIED:20230418T150901Z
UID:27627-1686384000-1687021200@kap2cap.fr
SUMMARY:Du nord de la France aux Pyrénées (Ténéré Travel Trophy)
DESCRIPTION:Une semaine de pure aventure à moto\, voilà ce qui attend les 200 pilotes de Yamaha Ténéré. Partagez votre passion pour les voyages avec des personnes partageant les mêmes idées. Participez au trophée pour collecter des points. Grimpez dans le classement et devenez le voyageur Ténéré n°1 de 2023. \nRessentez la liberté lors des étapes quotidiennes hors des sentiers battus. Les recruteurs de Yamaha Motor ont tracé des itinéraires parfaitement adaptés à la Ténéré. La traversée de volcans et de gorges conduit finalement au cœur des majestueuses montagnes des Pyrénées. Paysages à couper le souffle\, gastronomie locale\, nouveaux amis\, partage d’histoires autour du feu de camp et nuits sous les étoiles rendront le Ténéré Travel Trophy inoubliable.
URL:https://kap2cap.fr/evenement/du-nord-de-la-france-aux-pyrenees-tenere-travel-trophy/
LOCATION:FRANCE
CATEGORIES:Randonnées
ATTACH;FMTTYPE=image/jpeg:https://kap2cap.fr/assets/truploads/2023/04/2023_Tenere_Travel_Trophy.jpg
ORGANIZER;CN="T%C3%A9n%C3%A9r%C3%A9 Travel Trophy":MAILTO:info@teneretraveltrophy.com
END:VEVENT
END:VCALENDAR