BEGIN:VCALENDAR
VERSION:2.0
PRODID:-//Kap2Cap - ECPv6.15.16//NONSGML v1.0//EN
CALSCALE:GREGORIAN
METHOD:PUBLISH
X-ORIGINAL-URL:https://kap2cap.fr
X-WR-CALDESC:Évènements pour Kap2Cap
REFRESH-INTERVAL;VALUE=DURATION:PT1H
X-Robots-Tag:noindex
X-PUBLISHED-TTL:PT1H
BEGIN:VTIMEZONE
TZID:Europe/Paris
BEGIN:DAYLIGHT
TZOFFSETFROM:+0100
TZOFFSETTO:+0200
TZNAME:CEST
DTSTART:20220327T010000
END:DAYLIGHT
BEGIN:STANDARD
TZOFFSETFROM:+0200
TZOFFSETTO:+0100
TZNAME:CET
DTSTART:20221030T010000
END:STANDARD
BEGIN:DAYLIGHT
TZOFFSETFROM:+0100
TZOFFSETTO:+0200
TZNAME:CEST
DTSTART:20230326T010000
END:DAYLIGHT
BEGIN:STANDARD
TZOFFSETFROM:+0200
TZOFFSETTO:+0100
TZNAME:CET
DTSTART:20231029T010000
END:STANDARD
BEGIN:DAYLIGHT
TZOFFSETFROM:+0100
TZOFFSETTO:+0200
TZNAME:CEST
DTSTART:20240331T010000
END:DAYLIGHT
BEGIN:STANDARD
TZOFFSETFROM:+0200
TZOFFSETTO:+0100
TZNAME:CET
DTSTART:20241027T010000
END:STANDARD
BEGIN:DAYLIGHT
TZOFFSETFROM:+0100
TZOFFSETTO:+0200
TZNAME:CEST
DTSTART:20250330T010000
END:DAYLIGHT
BEGIN:STANDARD
TZOFFSETFROM:+0200
TZOFFSETTO:+0100
TZNAME:CET
DTSTART:20251026T010000
END:STANDARD
END:VTIMEZONE
BEGIN:VEVENT
DTSTART;TZID=Europe/Paris:20240113T080000
DTEND;TZID=Europe/Paris:20240119T170000
DTSTAMP:20260420T151101
CREATED:20231114T181257Z
LAST-MODIFIED:20231114T182230Z
UID:29346-1705132800-1705683600@kap2cap.fr
SUMMARY:Maroc (Tom Barrer Académie)
DESCRIPTION:Vivre l’aventure sable\, avec TA moto.
URL:https://kap2cap.fr/evenement/maroc-tom-barrer-academie/
LOCATION:MAROC\, Morocco
CATEGORIES:Raids,Stages et Formations
ATTACH;FMTTYPE=image/jpeg:https://kap2cap.fr/assets/truploads/2023/11/2023_Stage_Tom_Barrer.jpg
GEO:31.791702;-7.09262
END:VEVENT
BEGIN:VEVENT
DTSTART;TZID=Europe/Paris:20231209T080000
DTEND;TZID=Europe/Paris:20231210T170000
DTSTAMP:20260420T151101
CREATED:20231114T180414Z
LAST-MODIFIED:20231114T180924Z
UID:29340-1702108800-1702227600@kap2cap.fr
SUMMARY:Stage (Tom Barrer Académie)
DESCRIPTION:Pourquoi ce stage? \nNon pas pour évaluer ton niveau mais pour créer une cohésion de groupe dans les galères que l’on peut rencontrer lors de voyage. \nToutes marques et tout niveaux.
URL:https://kap2cap.fr/evenement/stage-tom-barrer-academie/
LOCATION:FRANCE
CATEGORIES:Stages et Formations
ATTACH;FMTTYPE=image/jpeg:https://kap2cap.fr/assets/truploads/2023/11/2023_Stage_Tom_Barrer.jpg
END:VEVENT
END:VCALENDAR