BEGIN:VCALENDAR
VERSION:2.0
PRODID:-//Kap2Cap - ECPv6.15.16//NONSGML v1.0//EN
CALSCALE:GREGORIAN
METHOD:PUBLISH
X-ORIGINAL-URL:https://kap2cap.fr
X-WR-CALDESC:Évènements pour Kap2Cap
REFRESH-INTERVAL;VALUE=DURATION:PT1H
X-Robots-Tag:noindex
X-PUBLISHED-TTL:PT1H
BEGIN:VTIMEZONE
TZID:Europe/Paris
BEGIN:DAYLIGHT
TZOFFSETFROM:+0100
TZOFFSETTO:+0200
TZNAME:CEST
DTSTART:20210328T010000
END:DAYLIGHT
BEGIN:STANDARD
TZOFFSETFROM:+0200
TZOFFSETTO:+0100
TZNAME:CET
DTSTART:20211031T010000
END:STANDARD
BEGIN:DAYLIGHT
TZOFFSETFROM:+0100
TZOFFSETTO:+0200
TZNAME:CEST
DTSTART:20220327T010000
END:DAYLIGHT
BEGIN:STANDARD
TZOFFSETFROM:+0200
TZOFFSETTO:+0100
TZNAME:CET
DTSTART:20221030T010000
END:STANDARD
BEGIN:DAYLIGHT
TZOFFSETFROM:+0100
TZOFFSETTO:+0200
TZNAME:CEST
DTSTART:20230326T010000
END:DAYLIGHT
BEGIN:STANDARD
TZOFFSETFROM:+0200
TZOFFSETTO:+0100
TZNAME:CET
DTSTART:20231029T010000
END:STANDARD
BEGIN:DAYLIGHT
TZOFFSETFROM:+0100
TZOFFSETTO:+0200
TZNAME:CEST
DTSTART:20240331T010000
END:DAYLIGHT
BEGIN:STANDARD
TZOFFSETFROM:+0200
TZOFFSETTO:+0100
TZNAME:CET
DTSTART:20241027T010000
END:STANDARD
BEGIN:DAYLIGHT
TZOFFSETFROM:+0100
TZOFFSETTO:+0200
TZNAME:CEST
DTSTART:20250330T010000
END:DAYLIGHT
BEGIN:STANDARD
TZOFFSETFROM:+0200
TZOFFSETTO:+0100
TZNAME:CET
DTSTART:20251026T010000
END:STANDARD
END:VTIMEZONE
BEGIN:VEVENT
DTSTART;TZID=Europe/Paris:20240329T080000
DTEND;TZID=Europe/Paris:20240331T170000
DTSTAMP:20260419T233834
CREATED:20230307T160335Z
LAST-MODIFIED:20250526T185157Z
UID:27010-1711699200-1711904400@kap2cap.fr
SUMMARY:Randonnée d'un désert à l'autre (Trail Découverte)
DESCRIPTION:Notre nouvelle randonnée moto 3 jours vous mènera du désert de Monegros (pistes inexplorées sur la rando off-road du désert de Monegros que nous proposons : partie centrale) jusqu’au désert des Bardenas mais côté blanca et negra «plus sauvage que la partie Reales que nous parcourons sur la rando trail du désert des Bardenas». \nCette rando off road est donc 100% originale. \nLes deux déserts sont radicalement différents en terme de pistes et de paysages.
URL:https://kap2cap.fr/evenement/randonnee-dun-desert-a-lautre-trail-decouverte/
LOCATION:Espagne\, Espagne
CATEGORIES:Randonnées
ATTACH;FMTTYPE=image/jpeg:https://kap2cap.fr/assets/truploads/2023/03/2023_Desert_a_lautre_Trail_Decouverte.jpg
ORGANIZER;CN="Trail D%C3%A9couverte":MAILTO:traildecouverte@yahoo.fr
GEO:40.463667;-3.74922
END:VEVENT
BEGIN:VEVENT
DTSTART;TZID=Europe/Paris:20240315T080000
DTEND;TZID=Europe/Paris:20240317T170000
DTSTAMP:20260419T233834
CREATED:20231122T080610Z
LAST-MODIFIED:20231122T080836Z
UID:29529-1710489600-1710694800@kap2cap.fr
SUMMARY:Randonnée Cap au Sud (Trail Découverte)
DESCRIPTION:Au départ de Saragosse (Espagne) cette randonnée trail part comme vous l’aurez deviné en direction du sud. \nVous y trouverez des paysages grandioses et très variés. \nSentiment de liberté garanti tout au long des 540 km de cette rando off road au cœur de l’Aragon. \nElle est composée de 95% de pistes aussi variées que les paysages qu’elle propose. \nIdéale pour les gros et maxi trails.
URL:https://kap2cap.fr/evenement/randonnee-cap-au-sud-trail-decouverte-2/
LOCATION:Espagne\, Espagne
CATEGORIES:Randonnées
ATTACH;FMTTYPE=image/jpeg:https://kap2cap.fr/assets/truploads/2023/11/2024_Rando_Cap_au_Sud.jpg
ORGANIZER;CN="Trail D%C3%A9couverte":MAILTO:traildecouverte@yahoo.fr
GEO:40.463667;-3.74922
END:VEVENT
BEGIN:VEVENT
DTSTART;VALUE=DATE:20220730
DTEND;VALUE=DATE:20220802
DTSTAMP:20260419T233834
CREATED:20211012T154142Z
LAST-MODIFIED:20211012T154142Z
UID:12424-1659139200-1659398399@kap2cap.fr
SUMMARY:France - Randonnée du Tarn au Lot
DESCRIPTION:Cette randonnée moto trail vous conduira via de superbes petites pistes sinueuses traversant les vignes\, les champs de blé\, de tournesol\, des forêts et chemins pittoresques\, dans quelques-uns des plus beaux villages du Lot mais aussi du Tarn et du Tarn-et-Garonne. \n  \nTarifs :\n– Formule free : 395€ avec moto perso\n– Formule guidée : 445€ avec moto perso\n– Formule location : 695€
URL:https://kap2cap.fr/evenement/france-randonnee-du-tarn-au-lot/2022-07-30/
CATEGORIES:Randonnées
ATTACH;FMTTYPE=image/jpeg:https://kap2cap.fr/assets/truploads/2021/10/DuTarnauLot1-lolo-kap2cap.jpg
ORGANIZER;CN="Trail D%C3%A9couverte":MAILTO:traildecouverte@yahoo.fr
END:VEVENT
BEGIN:VEVENT
DTSTART;VALUE=DATE:20220707
DTEND;VALUE=DATE:20220711
DTSTAMP:20260419T233834
CREATED:20211012T153213Z
LAST-MODIFIED:20211012T153213Z
UID:12420-1657152000-1657497599@kap2cap.fr
SUMMARY:Espagne - le Trèfle à 4 feuilles
DESCRIPTION:Profitez\, lors de cette somptueuse randonnée off-road\, des magnifiques paysages pré-pyrénéens\, des superbes pistes\, des lacs\, des gorges\, des points de vue aériens. Un terrain de jeux à couper le souffle ! En point d’orgue l’ascension par les pistes d’un col à près de 2500 mètres ! \n  \nTarifs :\n– Formule free : 520€ avec moto perso\n– Formule guidée : 585€ avec moto perso\n– Formule location : 895€
URL:https://kap2cap.fr/evenement/espagne-le-trefle-a-4-feuilles/2022-07-07/
CATEGORIES:Randonnées
ATTACH;FMTTYPE=image/jpeg:https://kap2cap.fr/assets/truploads/2021/10/Trefle-a-4-feuilles-lolo-kap2cap.jpg
ORGANIZER;CN="Trail D%C3%A9couverte":MAILTO:traildecouverte@yahoo.fr
END:VEVENT
BEGIN:VEVENT
DTSTART;VALUE=DATE:20220624
DTEND;VALUE=DATE:20220627
DTSTAMP:20260419T233834
CREATED:20211012T154648Z
LAST-MODIFIED:20211012T154648Z
UID:12431-1656028800-1656287999@kap2cap.fr
SUMMARY:France - Le trèfle Occitan
DESCRIPTION:Partez pour une randonnée moto trail de trois jours en trèfle se déroulant dans l’Aude et l’Hérault. Vous passerez du Carcassonnais aux Corbières en passant par le Minervois et ce par les plus belles pistes et chemins de la région ! Une superbe balade à moto au cœur du pays cathare.  \n  \nTarifs :\n– Formule free : 395€ avec moto perso\n– Formule guidée : 445€ avec moto perso\n– Formule location : 695€
URL:https://kap2cap.fr/evenement/france-le-trefle-occitan/2022-06-24/
CATEGORIES:Randonnées
ATTACH;FMTTYPE=image/jpeg:https://kap2cap.fr/assets/truploads/2021/10/LeTrefleOccitan-lolo-kap2cap.jpg
ORGANIZER;CN="Trail D%C3%A9couverte":MAILTO:traildecouverte@yahoo.fr
END:VEVENT
BEGIN:VEVENT
DTSTART;VALUE=DATE:20220429
DTEND;VALUE=DATE:20220502
DTSTAMP:20260419T233834
CREATED:20211012T150758Z
LAST-MODIFIED:20211012T150758Z
UID:12405-1651190400-1651449599@kap2cap.fr
SUMMARY:France / Espagne - De la Montagne à la Mer
DESCRIPTION:Ce circuit vous amènera successivement à Amélie les bains\, Roses\, au Cap Creus\, Cadaqués et Collioure. C’est une rando facile et accessible à tous niveaux. \n  \nTarifs : \n– Formule free : 395€ avec moto perso\n– Formule guidée : 445€ avec moto perso\n– Formule location : 695€
URL:https://kap2cap.fr/evenement/france-espagne-de-la-montagne-a-la-mer/2022-04-29/
CATEGORIES:Randonnées
ATTACH;FMTTYPE=image/jpeg:https://kap2cap.fr/assets/truploads/2021/10/De-la-montagne-a-la-mer-lolo-kap2cap.jpg
ORGANIZER;CN="Trail D%C3%A9couverte":MAILTO:traildecouverte@yahoo.fr
END:VEVENT
BEGIN:VEVENT
DTSTART;VALUE=DATE:20220415
DTEND;VALUE=DATE:20220419
DTSTAMP:20260419T233834
CREATED:20211012T150118Z
LAST-MODIFIED:20211012T150118Z
UID:12399-1649980800-1650326399@kap2cap.fr
SUMMARY:Espagne - Le Désert de Monegros
DESCRIPTION:Randonnée idéale pour les gros trails. Offrez-vous une sensation de liberté et un dépaysement total lors de cette randonnée off-road où vous parcourrez pas moins de 730 km\, cette rando comprend 95% de pistes ! \n  \nTarifs :\n– Formule free : 520€ avec moto perso\n– Formule guidée : 585€ avec moto perso\n– Formule location : 895€
URL:https://kap2cap.fr/evenement/espagne-le-desert-de-monegros/2022-04-15/
ATTACH;FMTTYPE=image/jpeg:https://kap2cap.fr/assets/truploads/2021/10/Desert-de-Monegros-lolo-kap2cap.jpg
ORGANIZER;CN="Trail D%C3%A9couverte":MAILTO:traildecouverte@yahoo.fr
END:VEVENT
BEGIN:VEVENT
DTSTART;VALUE=DATE:20220326
DTEND;VALUE=DATE:20220327
DTSTAMP:20260419T233834
CREATED:20211012T144512Z
LAST-MODIFIED:20211012T144512Z
UID:12392-1648252800-1648339199@kap2cap.fr
SUMMARY:Espagne - Randonnée Cap sur l'Alaric
DESCRIPTION:Commençant par l’ascension de l’Alaric et son point de vue à 360°\, passant à Lagrasse avec son vieux pont et son abbaye et traversant le massif de Boutenac avec sa chapelle\, cette randonnée off-road est accessible à tous niveaux\, du pilote débutant au confirmé. \n  \nTarifs : \n– Formule guidée : 125€ avec moto perso\n– Formule location : 280€
URL:https://kap2cap.fr/evenement/espagne-randonnee-cap-sur-lalaric/2022-03-26/
CATEGORIES:Randonnées
ATTACH;FMTTYPE=image/jpeg:https://kap2cap.fr/assets/truploads/2021/10/Alaric-lolo-kap2cap.jpg
ORGANIZER;CN="Trail D%C3%A9couverte":MAILTO:traildecouverte@yahoo.fr
END:VEVENT
BEGIN:VEVENT
DTSTART;VALUE=DATE:20220318
DTEND;VALUE=DATE:20220321
DTSTAMP:20260419T233834
CREATED:20211012T143352Z
LAST-MODIFIED:20211012T143352Z
UID:12382-1647561600-1647820799@kap2cap.fr
SUMMARY:Espagne - Randonnée d'un désert à l'autre
DESCRIPTION:Cette randonnée moto trail vous mènera du désert de Monegros jusqu’au désert des Bardenas mais côté blanca et negra «plus sauvage que la partie Reales que nous parcourons sur la rando trail du désert des Bardenas». \n  \nTarifs : \n– Formule free : 395€ avec moto perso\n– Formule guidée : 445€ avec moto perso\n– Formule location : 695€
URL:https://kap2cap.fr/evenement/espagne-randonnee-dun-desert-a-lautre/2022-03-18/
CATEGORIES:Randonnées
ATTACH;FMTTYPE=image/jpeg:https://kap2cap.fr/assets/truploads/2021/10/dun_desert_a_lautre-lolo-kap2cap.jpg
ORGANIZER;CN="Trail D%C3%A9couverte":MAILTO:traildecouverte@yahoo.fr
END:VEVENT
BEGIN:VEVENT
DTSTART;VALUE=DATE:20220304
DTEND;VALUE=DATE:20220307
DTSTAMP:20260419T233834
CREATED:20210907T151048Z
LAST-MODIFIED:20211012T141336Z
UID:11706-1646352000-1646611199@kap2cap.fr
SUMMARY:Espagne - Cap au Sud
DESCRIPTION:Idéale pour les gros et maxi trails\, c’est une randonnée en itinérance que vous réaliserez au guidon de votre moto ou d’une de nos Honda CRF250-L de location. \n  \nVous y trouverez des paysages grandioses et très variés. Sentiment de liberté garanti tout au long des 540 km de cette rando off road au cœur de l’Aragon en Espagne.  \n  \nTarifs :   \n  \n– Formule free : 395€ avec moto perso\n– Formule guidée : 445€ avec moto perso\n– Formule location : 695€
URL:https://kap2cap.fr/evenement/espagne-cap-au-sud/2022-03-04/
CATEGORIES:Voyages
ATTACH;FMTTYPE=image/jpeg:https://kap2cap.fr/assets/truploads/2021/09/rando-trail-cap-au-sud-19.jpg
ORGANIZER;CN="Trail D%C3%A9couverte":MAILTO:traildecouverte@yahoo.fr
END:VEVENT
END:VCALENDAR